Workbook

Sheet ANEXA1
A2: Anexa nr. 1
A3: la Hotărârea Consiliului Județean Bistrița Năsăud nr. 132 din 31.08.2017
A6: BUGETUL DE VENITURI ŞI CHELTUIELI PE ANUL 2017
M8: mii lei
D9: INDICATORI | F9: Nr. rd. | G9: Realizat/ Preliminat an precedent (2016) | H9: Propuneri an curent (2017) | I9: % | J9: Estimări an 2018 | K9: Estimări an 2019 | L9: %
L10: 9=7/5 | M10: 10=8/7
A11: 0 | B11: 1 | D11: 2 | F11: 3 | G11: 4 | H11: 5 | I11: 6=5/4 | J11: 7 | K11: 8 | L11: 9 | M11: 10
A12: I. | D12: VENITURI TOTALE (Rd.1=Rd.2+Rd.5+Rd.6) | F12: 1 | G12: =G13+G16 -> 4476.439 | H12: =H13+H16 -> 6121.1 | I12: =H12/G12*100 -> 136.74039 | J12: =H12*1.025 -> 6274.1275 | K12: =H12*1.038 -> 6353.7018 | L12: =J12/H12*100 -> 102.5 | M12: =K12/J12*100 -> 101.26829
B13: 1 | D13: Venituri totale din exploatare, din care: | F13: 2 | G13: =ANEXA2!J14/1000 -> 4476.347 | H13: =ANEXA2!R14/1000 -> 6121 | I13: =H13/G13*100 -> 136.74096 | J13: =H13*1.025 -> 6274.025 | K13: =H13*1.038 -> 6353.598 | L13: =J13/H13*100 -> 102.5 | M13: =K13/J13*100 -> 101.26829
D14: a) | E14: subvenţii, cf. prevederilor legale în vigoare | F14: 3 | G14: 0 | H14: 0 | I14: 0 | J14: =H14*1.025 -> 0 | K14: =H14*1.038 -> 0
D15: b) | E15: transferuri, cf. prevederilor legale în vigoare | F15: 4
B16: 2 | D16: Venituri financiare | F16: 5 | G16: =ANEXA2!J34/1000 -> 0.092 | H16: =ANEXA2!R34/1000 -> 0.1 | I16: =H16/G16*100 -> 108.69565 | J16: =H16*1.025 -> 0.1025 | K16: =H16*1.038 -> 0.1038 | L16: =J16/H16*100 -> 102.5 | M16: =K16/J16*100 -> 101.26829
B17: 3 | D17: Venituri extraordinare | F17: 6
A18: II | D18: CHELTUIELI TOTALE (Rd.7=Rd.8+Rd.20+Rd.21) | F18: 7 | G18: =G19+G31+G32 -> 4285.592 | H18: =H19+H31+H32 -> 5954.34 | I18: =H18/G18*100 -> 138.93856 | J18: =H18*1.025 -> 6103.1985 | K18: =H18*1.038 -> 6180.6049 | L18: =J18/H18*100 -> 102.5 | M18: =K18/J18*100 -> 101.26829
B19: 1 | D19: Cheltuieli de exploatare, din care: | F19: 8 | G19: =G20+G21+G22+G30 -> 4284.885 | H19: =H20+H21+H22+H30 -> 5953.94 | I19: =H19/G19*100 -> 138.95215 | J19: =H19*1.025 -> 6102.7885 | K19: =H19*1.038 -> 6180.1897 | L19: =J19/H19*100 -> 102.5 | M19: =K19/J19*100 -> 101.26829
C20: A. | D20: cheltuieli cu bunuri si servicii | F20: 9 | G20: =ANEXA2!J43/1000 -> 134.291 | H20: =ANEXA2!R43/1000 -> 233.5 | I20: =H20/G20*100 -> 173.87613 | J20: =H20*1.025 -> 239.3375 | K20: =H20*1.038 -> 242.373 | L20: =J20/H20*100 -> 102.5 | M20: =K20/J20*100 -> 101.26829
C21: B. | D21: cheltuieli cu impozite, taxe si varsaminte asimilate | F21: 10 | G21: =ANEXA2!J92/1000 -> 5.203 | H21: =ANEXA2!R92/1000 -> 1 | I21: =H21/G21*100 -> 19.219681 | J21: =H21*1.025 -> 1.025 | K21: =H21*1.038 -> 1.038 | L21: =J21/H21*100 -> 102.5 | M21: =K21/J21*100 -> 101.26829
C22: C. | D22: cheltuieli cu personalul, din care: | F22: 11 | G22: =G23+G28+G29 -> 4127.506 | H22: =H23+H28+H29 -> 5704.44 | I22: =H22/G22*100 -> 138.20549 | J22: =H22*1.025 -> 5847.051 | K22: =H22*1.038 -> 5921.2087 | L22: =J22/H22*100 -> 102.5 | M22: =K22/J22*100 -> 101.26829
D23: C0 | E23: Cheltuieli de natură salarială(Rd.13+Rd.14) | F23: 12 | G23: =G24+G25 -> 3408.732 | H23: =H24+H25 -> 4751.85 | I23: =H23/G23*100 -> 139.40228 | J23: =H23*1.025 -> 4870.6462 | K23: =H23*1.038 -> 4932.4203 | L23: =J23/H23*100 -> 102.5 | M23: =K23/J23*100 -> 101.26829
D24: C1 | E24: ch. cu salariile | F24: 13 | G24: =ANEXA2!J101/1000 -> 3142.109 | H24: =ANEXA2!R101/1000 -> 4215 | I24: =H24/G24*100 -> 134.14557 | J24: =H24*1.025 -> 4320.375 | K24: =H24*1.038 -> 4375.17 | L24: =J24/H24*100 -> 102.5 | M24: =K24/J24*100 -> 101.26829
D25: C2 | E25: bonusuri | F25: 14 | G25: =ANEXA2!J105/1000 -> 266.623 | H25: =ANEXA2!R105/1000 -> 536.85 | I25: =H25/G25*100 -> 201.35172 | J25: =H25*1.025 -> 550.27125 | K25: =H25*1.038 -> 557.2503 | L25: =J25/H25*100 -> 102.5 | M25: =K25/J25*100 -> 101.26829
D26: C3 | E26: alte cheltuieli cu personalul, din care: | F26: 15
E27: cheltuieli cu plati compensatorii aferente disponibilizarilor de personal | F27: 16
D28: C4 | E28: Cheltuieli aferente contractului de mandat si a altor organe de conducere si control, comisii si comitete | F28: 17 | G28: =ANEXA2!J117/1000 -> 0 | H28: =ANEXA2!R117/1000 -> 0 | I28: 0 | J28: =H28*1.025 -> 0 | K28: =H28*1.038 -> 0 | L28: 0 | M28: 0
D29: C5 | E29: cheltuieli cu asigurările şi protecţia socială, fondurile speciale şi alte obligaţii legale | F29: 18 | G29: =ANEXA2!J126/1000 -> 718.774 | H29: =ANEXA2!R126/1000 -> 952.59 | I29: =H29/G29*100 -> 132.52984 | J29: =H29*1.025 -> 976.40475 | K29: =H29*1.038 -> 988.78842 | L29: =J29/H29*100 -> 102.5 | M29: =K29/J29*100 -> 101.26829
C30: D. | D30: alte cheltuieli de exploatare | F30: 19 | G30: =ANEXA2!J133/1000 -> 17.885 | H30: =ANEXA2!R133/1000 -> 15 | I30: =H30/G30*100 -> 83.869164 | J30: =H30*1.025 -> 15.375 | K30: =H30*1.038 -> 15.57 | L30: =J30/H30*100 -> 102.5 | M30: =K30/J30*100 -> 101.26829
B31: 2 | D31: Cheltuieli financiare | F31: 20 | G31: =ANEXA2!J150/1000 -> 0.707 | H31: =ANEXA2!R150/1000 -> 0.4 | I31: =H31/G31*100 -> 56.577086 | J31: =H31*1.025 -> 0.41 | K31: =H31*1.038 -> 0.4152 | L31: =J31/H31*100 -> 102.5 | M31: =K31/J31*100 -> 101.26829
B32: 3 | D32: Cheltuieli extraordinare | F32: 21 | G32: 0 | H32: 0
A33: III | D33: REZULTATUL BRUT (profit/pierdere) | F33: 22 | G33: =G12-G18 -> 190.847 | H33: =H12-H18 -> 166.76 | I33: =H33/G33*100 -> 87.378895 | J33: =H33*1.025 -> 170.929 | K33: =H33*1.038 -> 173.09688 | L33: =J33/H33*100 -> 102.5 | M33: =K33/J33*100 -> 101.26829
A34: IV | D34: IMPOZIT PE PROFIT | F34: 23 | G34: =ANEXA2!J162/1000 -> 27.284 | H34: =ANEXA2!$R$162/1000 -> 26.6816 | I34: =H34/G34*100 -> 97.792113 | J34: =H34*1.025 -> 27.34864 | K34: =H34*1.038 -> 27.695501 | L34: =J34/H34*100 -> 102.5 | M34: =K34/J34*100 -> 101.26829
A35: V | D35: PROFITUL CONTABIL RĂMAS DUPĂ DEDUCEREA IMPOZITULUI PE PROFIT, din care: | F35: 24 | G35: =G33-G34 -> 163.563 | H35: =H33-H34 -> 140.0784 | I35: =H35/G35*100 -> 85.641863 | J35: =J33-J34 -> 143.58036 | K35: =K33-K34 -> 145.40138 | L35: =J35/H35*100 -> 102.5 | M35: =K35/J35*100 -> 101.26829
B36: 1 | D36: Rezerve legale | F36: 25 | G36: 0 | H36: 0
B37: 2 | D37: Alte rezerve reprezentând facilităţi fiscale prevăzute de lege | F37: 26
B38: 3 | D38: Acoperirea pierderilor contabile din anii precedenţi | F38: 27
B39: 4 | D39: Constituirea surselor proprii de finanţare pentru proiectele cofinanţate din împrumuturi externe, precum şi pentru constituirea surselor necesare rambursării ratelor de capital, plaţii dobânzilor, comisioanelor şi altor costuri aferente acestor împrumuturi | F39: 28
B40: 5 | D40: Alte repartizări prevăzute de lege | F40: 29
B41: 6 | D41: Profitul contabil rămas după deducerea sumelor de la Rd. 25, 26, 27, 28, 29 | F41: 30
B42: 7 | D42: Participarea salariaţilor la profit în limita a 10% din profitul net, dar nu mai mult de nivelul unui salariu de bază mediu lunar realizat la nivelul operatorului economic în exerciţiul financiar de referinţă | F42: 31 | G42: 0 | H42: 0 | I42: 0 | J42: 0 | K42: 0 | L42: 0 | M42: 0
B43: 8 | D43: Minimim 50% vărsăminte la bugetul de stat sau local în cazul regiilor autonome, ori dividende cuvenite actionarilor, în cazul societăţilor/ companiilor naţionale şi societăţilor cu capital integral sau majoritar de stat, din care: | F43: 32 | G43: =G35*0.5 -> 81.7815 | H43: =H35*0.5 -> 70.0392 | I43: =H43/G43*100 -> 85.641863 | J43: =J35*0.5 -> 71.79018 | K43: =K35*0.5 -> 72.70069 | L43: =J43/H43*100 -> 102.5 | M43: =K43/J43*100 -> 101.26829
C44: a) | D44: - dividende cuvenite bugetului de stat | F44: 33
...

Sheet ANEXA2
A1: AUTORITATEA ADMINISTRAŢIEI PUBLICE LOCALE | F1: CONSILIUL JUDETEAN BISTRITA NASAUD
A2: Operatorul economic LDP SECURITY SRL
A3: Sediul/Adresa BISTRITA, STR CUZA VODA NR 17A
A4: Cod unic de înregistrare 32740988
R5: Anexa nr.2
A6: Detalierea indicatorilor economico-financiari prevăzuţi în bugetul de venituri şi cheltuieli
S8: lei
D9: INDICATORI | F9: Nr. rd. | G9: Realizat in | H9: Prevederi an precedent (2016) | K9: Propuneri an curent (2017) | S9: % | T9: %
G10: 2015 | H10: Aprobat | J10: Preliminat / Realizat | K10: TRIM | L10: TRIM | M10: TRIM | N10: 1 | O10: 2 | P10: 3 | Q10: 4 | R10: an 2017 | S10: 7=6d/5 | T10: 8=5/3a
H11: conform HG/Ordin comun | I11: conform Hotararii C.A. | K11: I | L11: II | M11: III
A12: 0 | B12: 1 | D12: 2 | F12: 3 | G12: 3a | H12: 4 | I12: 4a | J12: 5 | K12: 6a | L12: 6b | M12: 6c | R12: 6d | S12: 7 | T12: 8
A13: I. | D13: VENITURI TOTALE (Rd.2+Rd.22+Rd.28) | F13: 1 | G13: =G14+G34+G40 -> 3136286 | H13: =H14+H34+H40 -> 0 | I13: =I14+I34+I40 -> 4101852 | J13: =J14+J34+J40 -> 4476439 | K13: =N13 -> 1475928 | L13: =N13+O13 -> 2894897 | M13: =N13+O13+P13 -> 4507222 | N13: =N14+N34+N40 -> 1475928 | O13: =O14+O34+O40 -> 1418969 | P13: =P14+P34+P40 -> 1612325 | Q13: =R13-N13-O13-P13 -> 1613878 | R13: =R14+R34+R40 -> 6121100 | S13: =IF(J13>0,R13/J13,0)*100 -> 136.74039 | T13: =IF(G13>0,J13/G13,0)*100 -> 142.73057
B14: 1 | D14: Venituri totale din exploatare (Rd.3+Rd.8+Rd.9+Rd.12+Rd.13+Rd.14), din care: | F14: 2 | G14: =G15+G20+G21+G24+G25+G26 -> 3136246 | H14: =H15+H20+H21+H24+H25+H26 -> 0 | I14: =I15+I20+I21+I24+I25+I26 -> 4101852 | J14: =J15+J20+J21+J24+J25+J26 -> 4476347 | K14: =N14 -> 1475909 | L14: =N14+O14 -> 2894854 | M14: =N14+O14+P14 -> 4507154 | N14: =N15+N20+N21+N24+N25+N26 -> 1475909 | O14: =O15+O20+O21+O24+O25+O26 -> 1418945 | P14: =P15+P20+P21+P24+P25+P26 -> 1612300 | Q14: =R14-N14-O14-P14 -> 1613846 | R14: =R15+R20+R21+R24+R25+R26 -> 6121000 | S14: =IF(J14>0,R14/J14,0)*100 -> 136.74096 | T14: =IF(G14>0,J14/G14,0)*100 -> 142.72946
C15: a) | D15: din producţia vândută (Rd.4+Rd.5+Rd.6+Rd.7), din care: | F15: 3 | G15: =G16+G17+G18+G19 -> 3136246 | H15: =H16+H17+H18+H19 -> 0 | I15: =I16+I17+I18+I19 -> 4101852 | J15: =J16+J17+J18+J19 -> 4468571 | K15: =N15 -> 1475309 | L15: =N15+O15 -> 2893425 | M15: =N15+O15+P15 -> 4505425 | N15: =N16+N17+N18+N19 -> 1475309 | O15: =O16+O17+O18+O19 -> 1418116 | P15: =P16+P17+P18+P19 -> 1612000 | Q15: =R15-N15-O15-P15 -> 1613575 | R15: =R16+R17+R18+R19 -> 6119000 | S15: =IF(J15>0,R15/J15,0)*100 -> 136.93416 | T15: =IF(G15>0,J15/G15,0)*100 -> 142.48152
D16: a1) | E16: din vânzarea produselor | F16: 4 | G16: 0 | H16: 0 | I16: 0 | J16: 0 | K16: =N16 -> 0 | L16: =N16+O16 -> 0 | M16: =N16+O16+P16 -> 0 | Q16: =R16-N16-O16-P16 -> 0 | R16: 0 | S16: =IF(J16>0,R16/J16,0)*100 -> 0 | T16: =IF(G16>0,J16/G16,0)*100 -> 0
D17: a2) | E17: din servicii prestate | F17: 5 | G17: 3132503 | H17: 0 | I17: 4101852 | J17: 4467571 | K17: =N17 -> 1475309 | L17: =N17+O17 -> 2893425 | M17: =N17+O17+P17 -> 4505425 | N17: 1475309 | O17: =2893425-N17 -> 1418116 | P17: 1612000 | Q17: =R17-N17-O17-P17 -> 1613575 | R17: 6119000 | S17: =IF(J17>0,R17/J17,0)*100 -> 136.96481 | T17: =IF(G17>0,J17/G17,0)*100 -> 142.61985
D18: a3) | E18: din redevenţe şi chirii | F18: 6 | G18: 0 | H18: 0 | I18: 0 | J18: 0 | K18: =N18 -> 0 | L18: =N18+O18 -> 0 | M18: =N18+O18+P18 -> 0 | N18: 0 | O18: 0 | P18: 0 | Q18: =R18-N18-O18-P18 -> 0 | R18: 0 | S18: =IF(J18>0,R18/J18,0)*100 -> 0 | T18: =IF(G18>0,J18/G18,0)*100 -> 0
D19: a4) | E19: alte venituri | F19: 7 | G19: 3743 | H19: 0 | I19: 0 | J19: 1000 | K19: =N19 -> 0 | L19: =N19+O19 -> 0 | M19: =N19+O19+P19 -> 0 | N19: 0 | O19: 0 | P19: 0 | Q19: =R19-N19-O19-P19 -> 0 | R19: 0 | S19: =IF(J19>0,R19/J19,0)*100 -> 0 | T19: =IF(G19>0,J19/G19,0)*100 -> 26.716538
C20: b) | D20: din vânzarea mărfurilor | F20: 8 | G20: 0 | H20: 0 | I20: 0 | J20: 0 | K20: =N20 -> 0 | L20: =N20+O20 -> 0 | M20: =N20+O20+P20 -> 0 | N20: 0 | O20: 0 | P20: 0 | Q20: =R20-N20-O20-P20 -> 0 | R20: 0 | S20: =IF(J20>0,R20/J20,0)*100 -> 0 | T20: =IF(G20>0,J20/G20,0)*100 -> 0
C21: c) | D21: din subvenţii şi transferuri de exploatare aferente cifrei de afaceri nete (Rd.10+Rd.11), din care: | F21: 9 | G21: =G22+G23 -> 0 | H21: =H22+H23 -> 0 | I21: =I22+I23 -> 0 | J21: =J22+J23 -> 0 | K21: =N21 -> 0 | L21: =N21+O21 -> 0 | M21: =N21+O21+P21 -> 0 | N21: =N22+N23 -> 0 | O21: =O22+O23 -> 0 | P21: =P22+P23 -> 0 | Q21: =R21-N21-O21-P21 -> 0 | R21: =R22+R23 -> 0 | S21: =IF(J21>0,R21/J21,0)*100 -> 0 | T21: =IF(G21>0,J21/G21,0)*100 -> 0
D22: c1 | E22: subvenţii, cf. prevederilor legale în vigoare | F22: 10 | G22: 0 | H22: 0 | I22: 0 | J22: 0 | K22: =N22 -> 0 | L22: =N22+O22 -> 0 | M22: =N22+O22+P22 -> 0 | N22: 0 | O22: 0 | P22: 0 | Q22: =R22-N22-O22-P22 -> 0 | R22: 0 | S22: =IF(J22>0,R22/J22,0)*100 -> 0 | T22: =IF(G22>0,J22/G22,0)*100 -> 0
D23: c2 | E23: transferuri, cf. prevederilor legale în vigoare | F23: 11 | G23: 0 | H23: 0 | I23: 0 | J23: 0 | K23: =N23 -> 0 | L23: =N23+O23 -> 0 | M23: =N23+O23+P23 -> 0 | N23: 0 | O23: 0 | P23: 0 | Q23: =R23-N23-O23-P23 -> 0 | R23: 0 | S23: =IF(J23>0,R23/J23,0)*100 -> 0 | T23: =IF(G23>0,J23/G23,0)*100 -> 0
C24: d) | D24: din producţia de imobilizări productia in curs | F24: 12 | G24: 0 | H24: 0 | I24: 0 | J24: 0 | K24: =N24 -> 0 | L24: =N24+O24 -> 0 | M24: =N24+O24+P24 -> 0 | N24: 0 | O24: 0 | P24: 0 | Q24: =R24-N24-O24-P24 -> 0 | R24: 0 | S24: =IF(J24>0,R24/J24,0)*100 -> 0 | T24: =IF(G24>0,J24/G24,0)*100 -> 0
C25: e) | D25: venituri aferente costului producţiei în curs de execuţie | F25: 13 | G25: 0 | H25: 0 | I25: 0 | J25: 0 | K25: =N25 -> 0 | L25: =N25+O25 -> 0 | M25: =N25+O25+P25 -> 0 | N25: 0 | O25: 0 | P25: 0 | Q25: =R25-N25-O25-P25 -> 0 | R25: 0 | S25: 0 | T25: 0
C26: f) | D26: alte venituri din exploatare (Rd.15+Rd.16+Rd.19+Rd.20+Rd.21), din care: | F26: 14 | G26: =G27+G28+G31+G32+G33 -> 0 | H26: =H27+H28+H31+H32+H33 -> 0 | I26: =I27+I28+I31+I32+I33 -> 0 | J26: =J27+J28+J31+J32+J33 -> 7776 | K26: =N26 -> 600 | L26: =N26+O26 -> 1429 | M26: =N26+O26+P26 -> 1729 | N26: =N27+N28+N31+N32+N33 -> 600 | O26: =O27+O28+O31+O32+O33 -> 829 | P26: 300 | Q26: =R26-N26-O26-P26 -> 271 | R26: 2000 | S26: =IF(J26>0,R26/J26,0)*100 -> 25.720165 | T26: =IF(G26>0,J26/G26,0)*100 -> 0
D27: f1) | E27: din amenzi şi penalităţi | F27: 15 | G27: 0 | H27: 0 | I27: 0 | J27: 0 | K27: =N27 -> 0 | L27: =N27+O27 -> 0 | M27: =N27+O27+P27 -> 0 | N27: 0 | O27: 0 | P27: 0 | Q27: =R27-N27-O27-P27 -> 0 | R27: 0 | S27: =IF(J27>0,R27/J27,0)*100 -> 0 | T27: =IF(G27>0,J27/G27,0)*100 -> 0
D28: f2) | E28: din vânzarea activelor şi alte operaţii de capital (Rd.18+Rd.19), din care: | F28: 16 | G28: =G29+G30 -> 0 | H28: =H29+H30 -> 0 | I28: =I29+I30 -> 0 | J28: =J29+J30 -> 0 | K28: =N28 -> 0 | L28: =N28+O28 -> 0 | M28: =N28+O28+P28 -> 0 | N28: =N29+N30 -> 0 | O28: =O29+O30 -> 0 | P28: =P29+P30 -> 0 | Q28: =R28-N28-O28-P28 -> 0 | R28: =R29+R30 -> 0 | S28: =IF(J28>0,R28/J28,0)*100 -> 0 | T28: =IF(G28>0,J28/G28,0)*100 -> 0
E29: - active corporale | F29: 17 | G29: 0 | H29: 0 | I29: 0 | J29: 0 | K29: =N29 -> 0 | L29: =N29+O29 -> 0 | M29: =N29+O29+P29 -> 0 | N29: 0 | O29: 0 | P29: 0 | Q29: =R29-N29-O29-P29 -> 0 | R29: 0 | S29: =IF(J29>0,R29/J29,0)*100 -> 0 | T29: =IF(G29>0,J29/G29,0)*100 -> 0
E30: - active necorporale | F30: 18 | G30: 0 | H30: 0 | I30: 0 | J30: 0 | K30: =N30 -> 0 | L30: =N30+O30 -> 0 | M30: =N30+O30+P30 -> 0 | N30: 0 | O30: 0 | P30: 0 | Q30: =R30-N30-O30-P30 -> 0 | R30: 0 | S30: =IF(J30>0,R30/J30,0)*100 -> 0 | T30: =IF(G30>0,J30/G30,0)*100 -> 0
D31: f3) | E31: din subvenţii pentru investiţii | F31: 19 | G31: 0 | H31: 0 | I31: 0 | J31: 0 | K31: =N31 -> 0 | L31: =N31+O31 -> 0 | M31: =N31+O31+P31 -> 0 | N31: 0 | O31: 0 | P31: 0 | Q31: =R31-N31-O31-P31 -> 0 | R31: 0 | S31: =IF(J31>0,R31/J31,0)*100 -> 0 | T31: =IF(G31>0,J31/G31,0)*100 -> 0
D32: f4) | E32: din valorificarea certificatelor CO2 | F32: 20 | G32: 0 | H32: 0 | I32: 0 | J32: 0 | K32: =N32 -> 0 | L32: =N32+O32 -> 0 | M32: =N32+O32+P32 -> 0 | N32: 0 | O32: 0 | P32: 0 | Q32: =R32-N32-O32-P32 -> 0 | R32: 0 | S32: =IF(J32>0,R32/J32,0)*100 -> 0 | T32: =IF(G32>0,J32/G32,0)*100 -> 0
D33: f5) | E33: alte venituri | F33: 21 | G33: 0 | H33: 0 | I33: 0 | J33: 7776 | K33: =N33 -> 600 | L33: =N33+O33 -> 1429 | M33: =N33+O33+P33 -> 2029 | N33: 600 | O33: =1429-N33 -> 829 | P33: 600 | Q33: =R33-N33-O33-P33 -> 471 | R33: 2500 | S33: =IF(J33>0,R33/J33,0)*100 -> 32.150206 | T33: =IF(G33>0,J33/G33,0)*100 -> 0
B34: 2 | D34: Venituri financiare (Rd.23+Rd.24+Rd.25+Rd.26+Rd.27), din care: | F34: 22 | G34: =G35+G36+G37+G38+G39 -> 40 | H34: =H35+H36+H37+H38+H39 -> 0 | I34: =I35+I36+I37+I38+I39 -> 0 | J34: =J35+J36+J37+J38+J39 -> 92 | K34: =N34 -> 19 | L34: =N34+O34 -> 43 | M34: =N34+O34+P34 -> 68 | N34: =N35+N36+N37+N38+N39 -> 19 | O34: =O35+O36+O37+O38+O39 -> 24 | P34: =P35+P36+P37+P38+P39 -> 25 | Q34: =R34-N34-O34-P34 -> 32 | R34: =R35+R36+R37+R38+R39 -> 100 | S34: =IF(J34>0,R34/J34,0)*100 -> 108.69565 | T34: =IF(G34>0,J34/G34,0)*100 -> 230
C35: a) | D35: din imobilizări financiare | F35: 23 | G35: 0 | H35: 0 | I35: 0 | J35: 0 | K35: =N35 -> 0 | L35: =N35+O35 -> 0 | M35: =N35+O35+P35 -> 0 | N35: 0 | O35: 0 | P35: 0 | Q35: =R35-N35-O35-P35 -> 0 | R35: 0 | S35: =IF(J35>0,R35/J35,0)*100 -> 0 | T35: =IF(G35>0,J35/G35,0)*100 -> 0
C36: b) | D36: din investiţii financiare | F36: 24 | G36: 0 | H36: 0 | I36: 0 | J36: 0 | K36: =N36 -> 0 | L36: =N36+O36 -> 0 | M36: =N36+O36+P36 -> 0 | N36: 0 | O36: 0 | P36: 0 | Q36: =R36-N36-O36-P36 -> 0 | R36: 0 | S36: =IF(J36>0,R36/J36,0)*100 -> 0 | T36: =IF(G36>0,J36/G36,0)*100 -> 0
C37: c) | D37: din diferenţe de curs | F37: 25 | G37: 0 | H37: 0 | I37: 0 | J37: 0 | K37: =N37 -> 0 | L37: =N37+O37 -> 0 | M37: =N37+O37+P37 -> 0 | N37: 0 | O37: 0 | P37: 0 | Q37: =R37-N37-O37-P37 -> 0 | R37: 0 | S37: =IF(J37>0,R37/J37,0)*100 -> 0 | T37: =IF(G37>0,J37/G37,0)*100 -> 0
C38: d) | D38: din dobânzi | F38: 26 | G38: 40 | H38: 0 | I38: 0 | J38: 92 | K38: =N38 -> 19 | L38: =N38+O38 -> 43 | M38: =N38+O38+P38 -> 68 | N38: 19 | O38: =43-N38 -> 24 | P38: 25 | Q38: =R38-N38-O38-P38 -> 32 | R38: 100 | S38: =IF(J38>0,R38/J38,0)*100 -> 108.69565 | T38: =IF(G38>0,J38/G38,0)*100 -> 230
C39: e) | D39: alte venituri financiare | F39: 27 | G39: 0 | H39: 0 | I39: 0 | J39: 0 | K39: =N39 -> 0 | L39: =N39+O39 -> 0 | M39: =N39+O39+P39 -> 0 | N39: 0 | O39: 0 | P39: 0 | Q39: =R39-N39-O39-P39 -> 0 | R39: 0 | S39: =IF(J39>0,R39/J39,0)*100 -> 0 | T39: =IF(G39>0,J39/G39,0)*100 -> 0
B40: 3 | D40: Venituri extraordinare | F40: 28 | G40: 0 | H40: 0 | I40: 0 | J40: 0 | K40: =N40 -> 0 | L40: =N40+O40 -> 0 | M40: =N40+O40+P40 -> 0 | N40: 0 | O40: 0 | P40: 0 | Q40: =R40-N40-O40-P40 -> 0 | R40: 0 | S40: =IF(J40>0,R40/J40,0)*100 -> 0 | T40: =IF(G40>0,J40/G40,0)*100 -> 0
A41: II | B41: CHELTUIELI TOTALE (Rd.30+Rd.136+Rd.144) | F41: 29 | G41: =G42+G150+G158 -> 2965174 | H41: =H42+H150+H158 -> 0 | I41: =I42+I150+I158 -> 3944000 | J41: =J42+J150+J158 -> 4285592 | K41: =N41 -> 1182877 | L41: =N41+O41 -> 2543229 | M41: =N41+O41+P41 -> 4021361 | N41: =N42+N150+N158 -> 1182877 | O41: =O42+O150+O158 -> 1360352 | P41: =P42+P150+P158 -> 1478132 | Q41: =R41-N41-O41-P41 -> 1932979 | R41: =R42+R150+R158 -> 5954340 | S41: =IF(J41>0,R41/J41,0)*100 -> 138.93856 | T41: =IF(G41>0,J41/G41,0)*100 -> 144.53088
...

Sheet Anexa 3
G1: Anexa nr.3
B2: Gradul de realizare a veniturilor totale
H4: Mii lei
A5: Nr | B5: INDICATORI | C5: Prevederi an (N-2) 2015 | E5: % 4=3/2 | F5: Prevederi an (N-1) 2016 | H5: % 7=6/5
A6: Crt | C6: Aprobat | D6: Realizat | F6: Aprobat | G6: Realizat
A7: 0 | B7: 1 | C7: 2 | D7: 3 | E7: 4 | F7: 5 | G7: 6 | H7: 7
A8: I. | B8: Venituri totale (rd.1+rd.2+rd.3), din care: | C8: =SUM(C9:C11) -> 2596 | D8: =SUM(D9:D11) -> 3136 | E8: =D8/C8*100 -> 120.80123 | F8: =F9+F10+F11 -> 4102 | G8: =G9+G10 -> 4476 | H8: =G8/F8*100 -> 109.1175
A9: 1 | B9: Venituri din exploatare | C9: 2596 | D9: 3136 | E9: =D9/C9*100 -> 120.80123 | F9: 4102 | G9: 4476 | H9: =G9/F9*100 -> 109.1175
A10: 2. | B10: Venituri financiare | C10: 0 | D10: 0 | E10: 0 | F10: 0 | G10: 0 | H10: 0
A11: 3. | B11: Venituri extraordinare | C11: 0 | D11: 0 | E11: 0 | F11: 0 | G11: 0 | H11: 0
B16: CONDUCĂTORUL UNITĂŢII, | F16: CONDUCĂTORUL COMPARTIMENTULUI
F17: FINANCIAR CONTABIL

Sheet Anexa 4
C1: Anexa nr. 4 la
C2: Hotararea Consiliului Judetean Bistrita Nasaud nr…………..din……………………...
A4: Programul de investiţii, dotări şi sursele de finanţare
I6: mii lei
C7: INDICATORI | D7: Data finalizării investiţiei | E7: an precedent 2016 | G7: Valoare
E8: Aprobat | F8: Realizat/ Preliminat | G8: an curent 2017 | H8: an 2018 | I8: an 2019
A9: 0 | B9: 1 | C9: 2 | D9: 3 | E9: 4 | F9: 5 | G9: 6 | H9: 7 | I9: 8
A10: I | C10: SURSE DE FINANŢARE A INVESTIŢIILOR, din care: | E10: =E11+E14+E15+E18 -> 65 | F10: =F11+F14+F15+F18 -> 67 | G10: =G11+G14+G15+G18 -> 23 | H10: =H11+H14+H15+H18 -> 23 | I10: =I11+I14+I15+I18 -> 23
B11: 1 | C11: Surse proprii, din care: | E11: =E12+E13 -> 64 | F11: =F12+F13 -> 67 | G11: =G12+G13 -> 0 | H11: =H12+H13 -> 0 | I11: =I12+I13 -> 0
C12: a) - amortizare | E12: 11 | F12: 14
C13: b) - profit | E13: 53 | F13: 53
B14: 2 | C14: Alocaţii de la buget
B15: 3 | C15: Credite bancare, din care: | E15: =E16+E17 -> 0 | F15: =F16 -> 0 | G15: =G16+G17 -> 0 | H15: =H16+H17 -> 0 | I15: =I16+I17 -> 0
C16: a) - interne | E16: 0 | F16: 0 | G16: 0 | H16: 0 | I16: 0
C17: b) - externe
B18: 4 | C18: Alte surse, din care: | E18: =E19 -> 1 | F18: =F19 -> 0 | G18: =G19 -> 23 | H18: =H19 -> 23 | I18: =I19 -> 23
C19: Excedent an anterior | E19: 1 | G19: =F10-F20 -> 23 | H19: =G10-G20 -> 23 | I19: =H10-H20 -> 23
A20: II | C20: CHELTUIELI PENTRU INVESTIŢII, din care: | E20: =E21+E29+E50+E39 -> 44 | F20: =F21+F29+F50+F39 -> 44 | G20: =G21+G29+G50+G39 -> 0 | H20: =H21+H29+H50 -> 0 | I20: =I21+I29+I50 -> 0
B21: 1 | C21: Investiţii în curs, din care: | E21: =SUM(E22:E28) -> 0 | F21: =F22 -> 0 | G21: =SUM(G22:G28) -> 0
C22: a) pentru bunurile proprietatea privata a operatorului economic:
C23: b) pentru bunurile de natura domeniului public al statului sau al unităţii administrativ teritoriale:
C24: - (denumire obiectiv)
C25: c) pentru bunurile de natura domeniului privat al statului sau al unităţii administrativ teritoriale:
C26: - (denumire obiectiv)
C27: d) pentru bunurile luate în concesiune, închiriate sau în locaţie de gestiune, exclusiv cele din domeniul public sau privat al statului sau al unităţii administrativ teritoriale:
C28: - (denumire obiectiv)
B29: 2 | C29: Investiţii noi, din care: | E29: =E30 -> 28 | F29: =F30+F33 -> 28 | G29: =G30 -> 0 | H29: =H30 -> 0 | I29: =I30 -> 0
C30: a) pentru bunurile proprietatea privata a operatorului economic: | E30: =SUM(E31:E32) -> 28 | F30: =SUM(F31:F32) -> 28 | G30: =SUM(G31:G32) -> 0 | H30: =SUM(H31:H32) -> 0 | I30: =SUM(I31:I32) -> 0
C31: AUTOTURISM PATRULARE | E31: 28 | F31: 28
C32: SEIF TRANSPORT VALORI
C33: b) pentru bunurile de natura domeniului public al statului sau al unităţii administrativ teritoriale:
C34: - (denumire obiectiv)
C35: c) pentru bunurile de natura domeniului privat al statului sau al unităţii administrativ teritoriale:
C36: - (denumire obiectiv)
C37: d) pentru bunurile luate în concesiune, închiriate sau în locaţie de gestiune, exclusiv cele din domeniul public sau privat al statului sau al unităţii administrativ teritoriale:
C38: - (denumire obiectiv)
B39: 3 | C39: Investiţii efectuate la imobilizările corporale existente (modernizări), din care: | E39: =SUM(E40) -> 0 | F39: =F40 -> 0 | G39: =SUM(G40) -> 0 | H39: =SUM(H40) -> 0 | I39: =SUM(I40) -> 0
C40: a) pentru bunurile proprietatea privata a operatorului economic:
C42: b) pentru bunurile de natura domeniului public al statului sau al unităţii administrativ teritoriale:
C43: - (denumire obiectiv)
...

Sheet anexa5
L1: Anexa nr.5
B3: Măsuri de îmbunătăţire a rezultatului brut şi reducere a plăţilor restante
L6: mii lei
A7: Nr.crt. | B7: Măsuri | D7: Termen de realizare | E7: an precedent (2015) | G7: an curent (2016) | I7: an 2017 | K7: an 2018
E8: Preliminat / Realizat | G8: Influenţe (+/-) | I8: Influenţe (+/-) | K8: Influenţe (+/-)
E9: Rezultat brut (+/-) | F9: Plăţi restante | G9: Rezultat brut | H9: Plăţi restante | I9: Rezultat brut | J9: Plăţi restante | K9: Rezultat brut | L9: Plăţi restante
A10: 0 | B10: 1 | D10: 2 | E10: 3 | F10: 4 | G10: 5 | H10: 6 | I10: 7 | J10: 8 | K10: 9 | L10: 10
A11: Pct. I | B11: Măsuri de îmbunătăţire a rezultatului brut şi reducere a plăţilor restante
A12: 1 | B12: Realizarea veniturilor programate | E12: 0 | F12: X | G12: 0 | I12: 0 | K12: 0
A13: 2 | B13: Diminuarea cheltuielilor financiare | E13: 0 | F13: X | G13: 0 | I13: 0 | K13: 0
A14: 3 | B14: Cresterea productivitatii | E14: 0 | F14: X | I14: 0 | K14: 0
B15: TOTAL Pct. I | E15: =SUM(E12:E14) -> 0 | F15: X | G15: =SUM(G12:G14) -> 0 | H15: =SUM(H12:H14) -> 0 | I15: =SUM(I12:I14) -> 0 | J15: =SUM(J12:J14) -> 0 | K15: =SUM(K12:K14) -> 0 | L15: 0
A16: Pct. II | B16: Cauze care diminuează efectul măsurilor prevăzute la Pct. I
A17: 1 | B17: Crestere cheltuelilor salariale | E17: 0 | F17: X | G17: 0 | I17: 0 | K17: 0
A18: 2 | B18: Imposibilitatea actualizarii contractelor | E18: 0 | F18: X | G18: 0 | I18: 0 | K18: 0
B19: TOTAL Pct. II | E19: =SUM(E17:E18) -> 0 | F19: X | G19: =SUM(G17:G18) -> 0 | H19: =SUM(H17:H18) -> 0 | I19: 0 | J19: =SUM(J17:J18) -> 0 | K19: =SUM(K17:K18) -> 0 | L19: 0
A20: Pct. III | B20: TOTAL GENERAL Pct. I + Pct. II | E20: =E15+-E19 -> 0 | G20: =G15+-G19 -> 0 | H20: =H15+-H19 -> 0 | I20: =I15+-I19 -> 0 | J20: =J15+-J19 -> 0 | K20: =K15+-K19 -> 0 | L20: 0
C23: CONDUCĂTORUL UNITĂŢII, | J23: CONDUCĂTORUL COMPARTIMENTULUI
J24: FINANCIAR CONTABIL
