Workbook

Sheet ANEXA1
A2: Anexa nr. 1
A3: la Hotărârea Consiliului Județean Bistrița Năsăud nr. 132 din 31.08.2017
A6: BUGETUL DE VENITURI ŞI CHELTUIELI PE ANUL 2017
M8: mii lei
D9: INDICATORI | F9: Nr. rd. | G9: Realizat/ Preliminat an precedent (2016) | H9: Propuneri an curent (2017) | I9: % | J9: Estimări an 2018 | K9: Estimări an 2019 | L9: %
L10: 9=7/5 | M10: 10=8/7
A11: 0 | B11: 1 | D11: 2 | F11: 3 | G11: 4 | H11: 5 | I11: 6=5/4 | J11: 7 | K11: 8 | L11: 9 | M11: 10
A12: I. | D12: VENITURI TOTALE (Rd.1=Rd.2+Rd.5+Rd.6) | F12: 1 | G12: =G13+G16 -> 4476.439 | H12: =H13+H16 -> 6121.1 | I12: =H12/G12*100 -> 136.74039 | J12: =H12*1.025 -> 6274.1275 | K12: =H12*1.038 -> 6353.7018 | L12: =J12/H12*100 -> 102.5 | M12: =K12/J12*100 -> 101.26829
B13: 1 | D13: Venituri totale din exploatare, din care: | F13: 2 | G13: =ANEXA2!J14/1000 -> 4476.347 | H13: =ANEXA2!R14/1000 -> 6121 | I13: =H13/G13*100 -> 136.74096 | J13: =H13*1.025 -> 6274.025 | K13: =H13*1.038 -> 6353.598 | L13: =J13/H13*100 -> 102.5 | M13: =K13/J13*100 -> 101.26829
D14: a) | E14: subvenţii, cf. prevederilor legale în vigoare | F14: 3 | G14: 0 | H14: 0 | I14: 0 | J14: =H14*1.025 -> 0 | K14: =H14*1.038 -> 0
D15: b) | E15: transferuri, cf. prevederilor legale în vigoare | F15: 4
B16: 2 | D16: Venituri financiare | F16: 5 | G16: =ANEXA2!J34/1000 -> 0.092 | H16: =ANEXA2!R34/1000 -> 0.1 | I16: =H16/G16*100 -> 108.69565 | J16: =H16*1.025 -> 0.1025 | K16: =H16*1.038 -> 0.1038 | L16: =J16/H16*100 -> 102.5 | M16: =K16/J16*100 -> 101.26829
B17: 3 | D17: Venituri extraordinare | F17: 6
A18: II | D18: CHELTUIELI TOTALE (Rd.7=Rd.8+Rd.20+Rd.21) | F18: 7 | G18: =G19+G31+G32 -> 4285.592 | H18: =H19+H31+H32 -> 5954.34 | I18: =H18/G18*100 -> 138.93856 | J18: =H18*1.025 -> 6103.1985 | K18: =H18*1.038 -> 6180.6049 | L18: =J18/H18*100 -> 102.5 | M18: =K18/J18*100 -> 101.26829
B19: 1 | D19: Cheltuieli de exploatare, din care: | F19: 8 | G19: =G20+G21+G22+G30 -> 4284.885 | H19: =H20+H21+H22+H30 -> 5953.94 | I19: =H19/G19*100 -> 138.95215 | J19: =H19*1.025 -> 6102.7885 | K19: =H19*1.038 -> 6180.1897 | L19: =J19/H19*100 -> 102.5 | M19: =K19/J19*100 -> 101.26829
C20: A. | D20: cheltuieli cu bunuri si servicii | F20: 9 | G20: =ANEXA2!J43/1000 -> 134.291 | H20: =ANEXA2!R43/1000 -> 233.5 | I20: =H20/G20*100 -> 173.87613 | J20: =H20*1.025 -> 239.3375 | K20: =H20*1.038 -> 242.373 | L20: =J20/H20*100 -> 102.5 | M20: =K20/J20*100 -> 101.26829
C21: B. | D21: cheltuieli cu impozite, taxe si varsaminte asimilate | F21: 10 | G21: =ANEXA2!J92/1000 -> 5.203 | H21: =ANEXA2!R92/1000 -> 1 | I21: =H21/G21*100 -> 19.219681 | J21: =H21*1.025 -> 1.025 | K21: =H21*1.038 -> 1.038 | L21: =J21/H21*100 -> 102.5 | M21: =K21/J21*100 -> 101.26829
C22: C. | D22: cheltuieli cu personalul, din care: | F22: 11 | G22: =G23+G28+G29 -> 4127.506 | H22: =H23+H28+H29 -> 5704.44 | I22: =H22/G22*100 -> 138.20549 | J22: =H22*1.025 -> 5847.051 | K22: =H22*1.038 -> 5921.2087 | L22: =J22/H22*100 -> 102.5 | M22: =K22/J22*100 -> 101.26829
D23: C0 | E23: Cheltuieli de natură salarială(Rd.13+Rd.14) | F23: 12 | G23: =G24+G25 -> 3408.732 | H23: =H24+H25 -> 4751.85 | I23: =H23/G23*100 -> 139.40228 | J23: =H23*1.025 -> 4870.6462 | K23: =H23*1.038 -> 4932.4203 | L23: =J23/H23*100 -> 102.5 | M23: =K23/J23*100 -> 101.26829
D24: C1 | E24: ch. cu salariile | F24: 13 | G24: =ANEXA2!J101/1000 -> 3142.109 | H24: =ANEXA2!R101/1000 -> 4215 | I24: =H24/G24*100 -> 134.14557 | J24: =H24*1.025 -> 4320.375 | K24: =H24*1.038 -> 4375.17 | L24: =J24/H24*100 -> 102.5 | M24: =K24/J24*100 -> 101.26829
D25: C2 | E25: bonusuri | F25: 14 | G25: =ANEXA2!J105/1000 -> 266.623 | H25: =ANEXA2!R105/1000 -> 536.85 | I25: =H25/G25*100 -> 201.35172 | J25: =H25*1.025 -> 550.27125 | K25: =H25*1.038 -> 557.2503 | L25: =J25/H25*100 -> 102.5 | M25: =K25/J25*100 -> 101.26829
D26: C3 | E26: alte cheltuieli cu personalul, din care: | F26: 15
E27: cheltuieli cu plati compensatorii aferente disponibilizarilor de personal | F27: 16
D28: C4 | E28: Cheltuieli aferente contractului de mandat si a altor organe de conducere si control, comisii si comitete | F28: 17 | G28: =ANEXA2!J117/1000 -> 0 | H28: =ANEXA2!R117/1000 -> 0 | I28: 0 | J28: =H28*1.025 -> 0 | K28: =H28*1.038 -> 0 | L28: 0 | M28: 0
D29: C5 | E29: cheltuieli cu asigurările şi protecţia socială, fondurile speciale şi alte obligaţii legale | F29: 18 | G29: =ANEXA2!J126/1000 -> 718.774 | H29: =ANEXA2!R126/1000 -> 952.59 | I29: =H29/G29*100 -> 132.52984 | J29: =H29*1.025 -> 976.40475 | K29: =H29*1.038 -> 988.78842 | L29: =J29/H29*100 -> 102.5 | M29: =K29/J29*100 -> 101.26829
C30: D. | D30: alte cheltuieli de exploatare | F30: 19 | G30: =ANEXA2!J133/1000 -> 17.885 | H30: =ANEXA2!R133/1000 -> 15 | I30: =H30/G30*100 -> 83.869164 | J30: =H30*1.025 -> 15.375 | K30: =H30*1.038 -> 15.57 | L30: =J30/H30*100 -> 102.5 | M30: =K30/J30*100 -> 101.26829
B31: 2 | D31: Cheltuieli financiare | F31: 20 | G31: =ANEXA2!J150/1000 -> 0.707 | H31: =ANEXA2!R150/1000 -> 0.4 | I31: =H31/G31*100 -> 56.577086 | J31: =H31*1.025 -> 0.41 | K31: =H31*1.038 -> 0.4152 | L31: =J31/H31*100 -> 102.5 | M31: =K31/J31*100 -> 101.26829
B32: 3 | D32: Cheltuieli extraordinare | F32: 21 | G32: 0 | H32: 0
A33: III | D33: REZULTATUL BRUT (profit/pierdere) | F33: 22 | G33: =G12-G18 -> 190.847 | H33: =H12-H18 -> 166.76 | I33: =H33/G33*100 -> 87.378895 | J33: =H33*1.025 -> 170.929 | K33: =H33*1.038 -> 173.09688 | L33: =J33/H33*100 -> 102.5 | M33: =K33/J33*100 -> 101.26829
A34: IV | D34: IMPOZIT PE PROFIT | F34: 23 | G34: =ANEXA2!J162/1000 -> 27.284 | H34: =ANEXA2!$R$162/1000 -> 26.6816 | I34: =H34/G34*100 -> 97.792113 | J34: =H34*1.025 -> 27.34864 | K34: =H34*1.038 -> 27.695501 | L34: =J34/H34*100 -> 102.5 | M34: =K34/J34*100 -> 101.26829
A35: V | D35: PROFITUL CONTABIL RĂMAS DUPĂ DEDUCEREA IMPOZITULUI PE PROFIT, din care: | F35: 24 | G35: =G33-G34 -> 163.563 | H35: =H33-H34 -> 140.0784 | I35: =H35/G35*100 -> 85.641863 | J35: =J33-J34 -> 143.58036 | K35: =K33-K34 -> 145.40138 | L35: =J35/H35*100 -> 102.5 | M35: =K35/J35*100 -> 101.26829
B36: 1 | D36: Rezerve legale | F36: 25 | G36: 0 | H36: 0
B37: 2 | D37: Alte rezerve reprezentând facilităţi fiscale prevăzute de lege | F37: 26
B38: 3 | D38: Acoperirea pierderilor contabile din anii precedenţi | F38: 27
B39: 4 | D39: Constituirea surselor proprii de finanţare pentru proiectele cofinanţate din împrumuturi externe, precum şi pentru constituirea surselor necesare rambursării ratelor de capital, plaţii dobânzilor, comisioanelor şi altor costuri aferente acestor împrumuturi | F39: 28
B40: 5 | D40: Alte repartizări prevăzute de lege | F40: 29
B41: 6 | D41: Profitul contabil rămas după deducerea sumelor de la Rd. 25, 26, 27, 28, 29 | F41: 30
B42: 7 | D42: Participarea salariaţilor la profit în limita a 10% din profitul net, dar nu mai mult de nivelul unui salariu de bază mediu lunar realizat la nivelul operatorului economic în exerciţiul financiar de referinţă | F42: 31 | G42: 0 | H42: 0 | I42: 0 | J42: 0 | K42: 0 | L42: 0 | M42: 0
B43: 8 | D43: Minimim 50% vărsăminte la bugetul de stat sau local în cazul regiilor autonome, ori dividende cuvenite actionarilor, în cazul societăţilor/ companiilor naţionale şi societăţilor cu capital integral sau majoritar de stat, din care: | F43: 32 | G43: =G35*0.5 -> 81.7815 | H43: =H35*0.5 -> 70.0392 | I43: =H43/G43*100 -> 85.641863 | J43: =J35*0.5 -> 71.79018 | K43: =K35*0.5 -> 72.70069 | L43: =J43/H43*100 -> 102.5 | M43: =K43/J43*100 -> 101.26829
C44: a) | D44: - dividende cuvenite bugetului de stat | F44: 33
C45: b) | D45: - dividende cuvenite bugetului local | F45: 33a | G45: =G35-G43 -> 81.7815 | H45: =H43 -> 70.0392 | I45: =H45/G45*100 -> 85.641863 | J45: =J43 -> 71.79018 | K45: =K43 -> 72.70069 | L45: =J45/H45*100 -> 102.5 | M45: =K45/J45*100 -> 101.26829
C46: c) | D46: - dividende cuvenite altor acţionari | F46: 34
B47: 9 | D47: Profitul nerepartizat pe destinaţiile prevăzute la Rd.31 - Rd.32 se repartizează la alte rezerve şi constituie sursă proprie de finanţare | F47: 35 | G47: =G35-G42-G43 -> 81.7815 | H47: =H35-H42-H43 -> 70.0392 | I47: =H47/G47*100 -> 85.641863 | J47: =J35-J45-J42 -> 71.79018 | K47: =K35-K45-K42 -> 72.70069 | L47: =J47/H47*100 -> 102.5 | M47: =K47/J47*100 -> 101.26829
A48: VI | D48: VENITURI DIN FONDURI EUROPENE | F48: 36
A49: VII | D49: CHELTUIELI ELIGIBILE DIN FONDURI EUROPENE, din care | F49: 37
C50: a) | D50: cheltuieli materiale | F50: 38
C51: b) | D51: cheltuieli cu salariile | F51: 39
C52: c) | D52: cheltuieli privind prestarile de servicii | F52: 40
C53: d) | D53: cheltuieli cu reclama si publicitate | F53: 41
C54: e) | D54: alte cheltuieli | F54: 42
A55: VIII | D55: SURSE DE FINANŢARE A INVESTIŢIILOR, din care: | F55: 43 | G55: 67 | H55: 0 | I55: =H55/G55*100 -> 0 | J55: 209 | K55: 314 | M55: =K55/J55*100 -> 150.23923
B56: 1 | D56: Alocaţii de la buget | F56: 44
E57: alocaţii bugetare aferente plăţii angajamentelor din anii anteriori | F57: 45
A58: IX | D58: CHELTUIELI PENTRU INVESTIŢII | F58: 46 | G58: 28 | I58: =H58/G58*100 -> 0 | J58: 0 | K58: 0 | L58: 0 | M58: 0
A59: X | D59: DATE DE FUNDAMENTARE | F59: 47
B60: 1 | D60: Nr. de personal prognozat la finele anului | F60: 48 | G60: 186 | H60: =ANEXA2!R166 -> 248 | I60: =H60/G60*100 -> 133.33333 | J60: 180 | K60: 180 | L60: =J60/H60*100 -> 72.580645 | M60: =K60/J60*100 -> 100
B61: 2 | D61: Nr.mediu de salariaţi total | F61: 49 | G61: 178 | H61: =ANEXA2!R167 -> 201 | I61: =H61/G61*100 -> 112.92135 | J61: 170 | K61: 170 | L61: =J61/H61*100 -> 84.577114 | M61: =K61/J61*100 -> 100
B62: 3 | D62: Castigul mediu lunar pe salariat (lei/persoană) determinat pe baza cheltuielilor de natură salarială (Rd.12/Rd.49)/12*1000 | F62: 50 | G62: =G23/G61*1000/12 -> 1595.8483 | H62: =H23/H61*1000/12 -> 1970.0871 | I62: =H62/G62*100 -> 123.45077 | J62: =J23/J61*1000/12 -> 2387.5717 | K62: =K23/K61*1000/12 -> 2417.8531 | L62: =J62/H62*100 -> 121.19118 | M62: =K62/J62*100 -> 101.26829
B63: 4 | D63: Castigul mediu lunar pe salariat deterninat pe baza cheltuielilor cu salariile (lei/persoană) (Rd.13/Rd.49)/12*1000 | F63: 51 | G63: =G24/G61*1000/12 -> 1471.0248 | H63: =H24/H61*1000/12 -> 1747.5124 | I63: =H63/G63*100 -> 118.79558 | J63: =J24/J61*1000/12 -> 2117.8309 | K63: =K24/K61*1000/12 -> 2144.6912 | L63: =J63/H63*100 -> 121.19118 | M63: =K63/J63*100 -> 101.26829
B64: 5 | D64: Productivitatea muncii în unităţi valorice pe total personal mediu (mii lei/persoană) (Rd.2/Rd.49) | F64: 52 | G64: =G13/G61 -> 25.148017 | H64: =H13/H61 -> 30.452736 | I64: =H64/G64*100 -> 121.09399 | J64: =J13/J61 -> 36.906029 | K64: =K13/K61 -> 37.374106 | L64: =J64/H64*100 -> 121.19118 | M64: =K64/J64*100 -> 101.26829
B65: 6 | D65: Productivitatea muncii în unităţi fizice pe total personal mediu (cantitate produse finite/ persoană) | F65: 53
B66: 7 | D66: Cheltuieli totale la 1000 lei venituri totale (Rd.7/Rd.1)x1000 | F66: 54 | G66: =G18/G12*1000 -> 957.36634 | H66: =H18/H12*1000 -> 972.75653 | I66: =H66/G66*100 -> 101.60756 | J66: =J18/J12*1000 -> 972.75653 | K66: =K18/K12*1000 -> 972.75653 | L66: =J66/H66*100 -> 100 | M66: =K66/J66*100 -> 100
B67: 8 | D67: Plăţi restante | F67: 55 | G67: 0 | H67: 0 | I67: 0 | J67: 0 | K67: 0 | L67: 0 | M67: 0
B68: 9 | D68: Creanţe restante | F68: 56 | G68: 0 | H68: 0 | I68: 0 | J68: 0 | K68: 0 | L68: 0 | M68: 0
A102: C.T.I./B.D./P.G./3 ex.

Sheet ANEXA2
A1: AUTORITATEA ADMINISTRAŢIEI PUBLICE LOCALE | F1: CONSILIUL JUDETEAN BISTRITA NASAUD
A2: Operatorul economic LDP SECURITY SRL
A3: Sediul/Adresa BISTRITA, STR CUZA VODA NR 17A
A4: Cod unic de înregistrare 32740988
R5: Anexa nr.2
A6: Detalierea indicatorilor economico-financiari prevăzuţi în bugetul de venituri şi cheltuieli
S8: lei
D9: INDICATORI | F9: Nr. rd. | G9: Realizat in | H9: Prevederi an precedent (2016) | K9: Propuneri an curent (2017) | S9: % | T9: %
G10: 2015 | H10: Aprobat | J10: Preliminat / Realizat | K10: TRIM | L10: TRIM | M10: TRIM | N10: 1 | O10: 2 | P10: 3 | Q10: 4 | R10: an 2017 | S10: 7=6d/5 | T10: 8=5/3a
H11: conform HG/Ordin comun | I11: conform Hotararii C.A. | K11: I | L11: II | M11: III
A12: 0 | B12: 1 | D12: 2 | F12: 3 | G12: 3a | H12: 4 | I12: 4a | J12: 5 | K12: 6a | L12: 6b | M12: 6c | R12: 6d | S12: 7 | T12: 8
A13: I. | D13: VENITURI TOTALE (Rd.2+Rd.22+Rd.28) | F13: 1 | G13: =G14+G34+G40 -> 3136286 | H13: =H14+H34+H40 -> 0 | I13: =I14+I34+I40 -> 4101852 | J13: =J14+J34+J40 -> 4476439 | K13: =N13 -> 1475928 | L13: =N13+O13 -> 2894897 | M13: =N13+O13+P13 -> 4507222 | N13: =N14+N34+N40 -> 1475928 | O13: =O14+O34+O40 -> 1418969 | P13: =P14+P34+P40 -> 1612325 | Q13: =R13-N13-O13-P13 -> 1613878 | R13: =R14+R34+R40 -> 6121100 | S13: =IF(J13>0,R13/J13,0)*100 -> 136.74039 | T13: =IF(G13>0,J13/G13,0)*100 -> 142.73057
B14: 1 | D14: Venituri totale din exploatare (Rd.3+Rd.8+Rd.9+Rd.12+Rd.13+Rd.14), din care: | F14: 2 | G14: =G15+G20+G21+G24+G25+G26 -> 3136246 | H14: =H15+H20+H21+H24+H25+H26 -> 0 | I14: =I15+I20+I21+I24+I25+I26 -> 4101852 | J14: =J15+J20+J21+J24+J25+J26 -> 4476347 | K14: =N14 -> 1475909 | L14: =N14+O14 -> 2894854 | M14: =N14+O14+P14 -> 4507154 | N14: =N15+N20+N21+N24+N25+N26 -> 1475909 | O14: =O15+O20+O21+O24+O25+O26 -> 1418945 | P14: =P15+P20+P21+P24+P25+P26 -> 1612300 | Q14: =R14-N14-O14-P14 -> 1613846 | R14: =R15+R20+R21+R24+R25+R26 -> 6121000 | S14: =IF(J14>0,R14/J14,0)*100 -> 136.74096 | T14: =IF(G14>0,J14/G14,0)*100 -> 142.72946
C15: a) | D15: din producţia vândută (Rd.4+Rd.5+Rd.6+Rd.7), din care: | F15: 3 | G15: =G16+G17+G18+G19 -> 3136246 | H15: =H16+H17+H18+H19 -> 0 | I15: =I16+I17+I18+I19 -> 4101852 | J15: =J16+J17+J18+J19 -> 4468571 | K15: =N15 -> 1475309 | L15: =N15+O15 -> 2893425 | M15: =N15+O15+P15 -> 4505425 | N15: =N16+N17+N18+N19 -> 1475309 | O15: =O16+O17+O18+O19 -> 1418116 | P15: =P16+P17+P18+P19 -> 1612000 | Q15: =R15-N15-O15-P15 -> 1613575 | R15: =R16+R17+R18+R19 -> 6119000 | S15: =IF(J15>0,R15/J15,0)*100 -> 136.93416 | T15: =IF(G15>0,J15/G15,0)*100 -> 142.48152
D16: a1) | E16: din vânzarea produselor | F16: 4 | G16: 0 | H16: 0 | I16: 0 | J16: 0 | K16: =N16 -> 0 | L16: =N16+O16 -> 0 | M16: =N16+O16+P16 -> 0 | Q16: =R16-N16-O16-P16 -> 0 | R16: 0 | S16: =IF(J16>0,R16/J16,0)*100 -> 0 | T16: =IF(G16>0,J16/G16,0)*100 -> 0
D17: a2) | E17: din servicii prestate | F17: 5 | G17: 3132503 | H17: 0 | I17: 4101852 | J17: 4467571 | K17: =N17 -> 1475309 | L17: =N17+O17 -> 2893425 | M17: =N17+O17+P17 -> 4505425 | N17: 1475309 | O17: =2893425-N17 -> 1418116 | P17: 1612000 | Q17: =R17-N17-O17-P17 -> 1613575 | R17: 6119000 | S17: =IF(J17>0,R17/J17,0)*100 -> 136.96481 | T17: =IF(G17>0,J17/G17,0)*100 -> 142.61985
D18: a3) | E18: din redevenţe şi chirii | F18: 6 | G18: 0 | H18: 0 | I18: 0 | J18: 0 | K18: =N18 -> 0 | L18: =N18+O18 -> 0 | M18: =N18+O18+P18 -> 0 | N18: 0 | O18: 0 | P18: 0 | Q18: =R18-N18-O18-P18 -> 0 | R18: 0 | S18: =IF(J18>0,R18/J18,0)*100 -> 0 | T18: =IF(G18>0,J18/G18,0)*100 -> 0
D19: a4) | E19: alte venituri | F19: 7 | G19: 3743 | H19: 0 | I19: 0 | J19: 1000 | K19: =N19 -> 0 | L19: =N19+O19 -> 0 | M19: =N19+O19+P19 -> 0 | N19: 0 | O19: 0 | P19: 0 | Q19: =R19-N19-O19-P19 -> 0 | R19: 0 | S19: =IF(J19>0,R19/J19,0)*100 -> 0 | T19: =IF(G19>0,J19/G19,0)*100 -> 26.716538
C20: b) | D20: din vânzarea mărfurilor | F20: 8 | G20: 0 | H20: 0 | I20: 0 | J20: 0 | K20: =N20 -> 0 | L20: =N20+O20 -> 0 | M20: =N20+O20+P20 -> 0 | N20: 0 | O20: 0 | P20: 0 | Q20: =R20-N20-O20-P20 -> 0 | R20: 0 | S20: =IF(J20>0,R20/J20,0)*100 -> 0 | T20: =IF(G20>0,J20/G20,0)*100 -> 0
C21: c) | D21: din subvenţii şi transferuri de exploatare aferente cifrei de afaceri nete (Rd.10+Rd.11), din care: | F21: 9 | G21: =G22+G23 -> 0 | H21: =H22+H23 -> 0 | I21: =I22+I23 -> 0 | J21: =J22+J23 -> 0 | K21: =N21 -> 0 | L21: =N21+O21 -> 0 | M21: =N21+O21+P21 -> 0 | N21: =N22+N23 -> 0 | O21: =O22+O23 -> 0 | P21: =P22+P23 -> 0 | Q21: =R21-N21-O21-P21 -> 0 | R21: =R22+R23 -> 0 | S21: =IF(J21>0,R21/J21,0)*100 -> 0 | T21: =IF(G21>0,J21/G21,0)*100 -> 0
D22: c1 | E22: subvenţii, cf. prevederilor legale în vigoare | F22: 10 | G22: 0 | H22: 0 | I22: 0 | J22: 0 | K22: =N22 -> 0 | L22: =N22+O22 -> 0 | M22: =N22+O22+P22 -> 0 | N22: 0 | O22: 0 | P22: 0 | Q22: =R22-N22-O22-P22 -> 0 | R22: 0 | S22: =IF(J22>0,R22/J22,0)*100 -> 0 | T22: =IF(G22>0,J22/G22,0)*100 -> 0
D23: c2 | E23: transferuri, cf. prevederilor legale în vigoare | F23: 11 | G23: 0 | H23: 0 | I23: 0 | J23: 0 | K23: =N23 -> 0 | L23: =N23+O23 -> 0 | M23: =N23+O23+P23 -> 0 | N23: 0 | O23: 0 | P23: 0 | Q23: =R23-N23-O23-P23 -> 0 | R23: 0 | S23: =IF(J23>0,R23/J23,0)*100 -> 0 | T23: =IF(G23>0,J23/G23,0)*100 -> 0
C24: d) | D24: din producţia de imobilizări productia in curs | F24: 12 | G24: 0 | H24: 0 | I24: 0 | J24: 0 | K24: =N24 -> 0 | L24: =N24+O24 -> 0 | M24: =N24+O24+P24 -> 0 | N24: 0 | O24: 0 | P24: 0 | Q24: =R24-N24-O24-P24 -> 0 | R24: 0 | S24: =IF(J24>0,R24/J24,0)*100 -> 0 | T24: =IF(G24>0,J24/G24,0)*100 -> 0
C25: e) | D25: venituri aferente costului producţiei în curs de execuţie | F25: 13 | G25: 0 | H25: 0 | I25: 0 | J25: 0 | K25: =N25 -> 0 | L25: =N25+O25 -> 0 | M25: =N25+O25+P25 -> 0 | N25: 0 | O25: 0 | P25: 0 | Q25: =R25-N25-O25-P25 -> 0 | R25: 0 | S25: 0 | T25: 0
C26: f) | D26: alte venituri din exploatare (Rd.15+Rd.16+Rd.19+Rd.20+Rd.21), din care: | F26: 14 | G26: =G27+G28+G31+G32+G33 -> 0 | H26: =H27+H28+H31+H32+H33 -> 0 | I26: =I27+I28+I31+I32+I33 -> 0 | J26: =J27+J28+J31+J32+J33 -> 7776 | K26: =N26 -> 600 | L26: =N26+O26 -> 1429 | M26: =N26+O26+P26 -> 1729 | N26: =N27+N28+N31+N32+N33 -> 600 | O26: =O27+O28+O31+O32+O33 -> 829 | P26: 300 | Q26: =R26-N26-O26-P26 -> 271 | R26: 2000 | S26: =IF(J26>0,R26/J26,0)*100 -> 25.720165 | T26: =IF(G26>0,J26/G26,0)*100 -> 0
D27: f1) | E27: din amenzi şi penalităţi | F27: 15 | G27: 0 | H27: 0 | I27: 0 | J27: 0 | K27: =N27 -> 0 | L27: =N27+O27 -> 0 | M27: =N27+O27+P27 -> 0 | N27: 0 | O27: 0 | P27: 0 | Q27: =R27-N27-O27-P27 -> 0 | R27: 0 | S27: =IF(J27>0,R27/J27,0)*100 -> 0 | T27: =IF(G27>0,J27/G27,0)*100 -> 0
D28: f2) | E28: din vânzarea activelor şi alte operaţii de capital (Rd.18+Rd.19), din care: | F28: 16 | G28: =G29+G30 -> 0 | H28: =H29+H30 -> 0 | I28: =I29+I30 -> 0 | J28: =J29+J30 -> 0 | K28: =N28 -> 0 | L28: =N28+O28 -> 0 | M28: =N28+O28+P28 -> 0 | N28: =N29+N30 -> 0 | O28: =O29+O30 -> 0 | P28: =P29+P30 -> 0 | Q28: =R28-N28-O28-P28 -> 0 | R28: =R29+R30 -> 0 | S28: =IF(J28>0,R28/J28,0)*100 -> 0 | T28: =IF(G28>0,J28/G28,0)*100 -> 0
E29: - active corporale | F29: 17 | G29: 0 | H29: 0 | I29: 0 | J29: 0 | K29: =N29 -> 0 | L29: =N29+O29 -> 0 | M29: =N29+O29+P29 -> 0 | N29: 0 | O29: 0 | P29: 0 | Q29: =R29-N29-O29-P29 -> 0 | R29: 0 | S29: =IF(J29>0,R29/J29,0)*100 -> 0 | T29: =IF(G29>0,J29/G29,0)*100 -> 0
E30: - active necorporale | F30: 18 | G30: 0 | H30: 0 | I30: 0 | J30: 0 | K30: =N30 -> 0 | L30: =N30+O30 -> 0 | M30: =N30+O30+P30 -> 0 | N30: 0 | O30: 0 | P30: 0 | Q30: =R30-N30-O30-P30 -> 0 | R30: 0 | S30: =IF(J30>0,R30/J30,0)*100 -> 0 | T30: =IF(G30>0,J30/G30,0)*100 -> 0
D31: f3) | E31: din subvenţii pentru investiţii | F31: 19 | G31: 0 | H31: 0 | I31: 0 | J31: 0 | K31: =N31 -> 0 | L31: =N31+O31 -> 0 | M31: =N31+O31+P31 -> 0 | N31: 0 | O31: 0 | P31: 0 | Q31: =R31-N31-O31-P31 -> 0 | R31: 0 | S31: =IF(J31>0,R31/J31,0)*100 -> 0 | T31: =IF(G31>0,J31/G31,0)*100 -> 0
D32: f4) | E32: din valorificarea certificatelor CO2 | F32: 20 | G32: 0 | H32: 0 | I32: 0 | J32: 0 | K32: =N32 -> 0 | L32: =N32+O32 -> 0 | M32: =N32+O32+P32 -> 0 | N32: 0 | O32: 0 | P32: 0 | Q32: =R32-N32-O32-P32 -> 0 | R32: 0 | S32: =IF(J32>0,R32/J32,0)*100 -> 0 | T32: =IF(G32>0,J32/G32,0)*100 -> 0
D33: f5) | E33: alte venituri | F33: 21 | G33: 0 | H33: 0 | I33: 0 | J33: 7776 | K33: =N33 -> 600 | L33: =N33+O33 -> 1429 | M33: =N33+O33+P33 -> 2029 | N33: 600 | O33: =1429-N33 -> 829 | P33: 600 | Q33: =R33-N33-O33-P33 -> 471 | R33: 2500 | S33: =IF(J33>0,R33/J33,0)*100 -> 32.150206 | T33: =IF(G33>0,J33/G33,0)*100 -> 0
B34: 2 | D34: Venituri financiare (Rd.23+Rd.24+Rd.25+Rd.26+Rd.27), din care: | F34: 22 | G34: =G35+G36+G37+G38+G39 -> 40 | H34: =H35+H36+H37+H38+H39 -> 0 | I34: =I35+I36+I37+I38+I39 -> 0 | J34: =J35+J36+J37+J38+J39 -> 92 | K34: =N34 -> 19 | L34: =N34+O34 -> 43 | M34: =N34+O34+P34 -> 68 | N34: =N35+N36+N37+N38+N39 -> 19 | O34: =O35+O36+O37+O38+O39 -> 24 | P34: =P35+P36+P37+P38+P39 -> 25 | Q34: =R34-N34-O34-P34 -> 32 | R34: =R35+R36+R37+R38+R39 -> 100 | S34: =IF(J34>0,R34/J34,0)*100 -> 108.69565 | T34: =IF(G34>0,J34/G34,0)*100 -> 230
C35: a) | D35: din imobilizări financiare | F35: 23 | G35: 0 | H35: 0 | I35: 0 | J35: 0 | K35: =N35 -> 0 | L35: =N35+O35 -> 0 | M35: =N35+O35+P35 -> 0 | N35: 0 | O35: 0 | P35: 0 | Q35: =R35-N35-O35-P35 -> 0 | R35: 0 | S35: =IF(J35>0,R35/J35,0)*100 -> 0 | T35: =IF(G35>0,J35/G35,0)*100 -> 0
C36: b) | D36: din investiţii financiare | F36: 24 | G36: 0 | H36: 0 | I36: 0 | J36: 0 | K36: =N36 -> 0 | L36: =N36+O36 -> 0 | M36: =N36+O36+P36 -> 0 | N36: 0 | O36: 0 | P36: 0 | Q36: =R36-N36-O36-P36 -> 0 | R36: 0 | S36: =IF(J36>0,R36/J36,0)*100 -> 0 | T36: =IF(G36>0,J36/G36,0)*100 -> 0
C37: c) | D37: din diferenţe de curs | F37: 25 | G37: 0 | H37: 0 | I37: 0 | J37: 0 | K37: =N37 -> 0 | L37: =N37+O37 -> 0 | M37: =N37+O37+P37 -> 0 | N37: 0 | O37: 0 | P37: 0 | Q37: =R37-N37-O37-P37 -> 0 | R37: 0 | S37: =IF(J37>0,R37/J37,0)*100 -> 0 | T37: =IF(G37>0,J37/G37,0)*100 -> 0
C38: d) | D38: din dobânzi | F38: 26 | G38: 40 | H38: 0 | I38: 0 | J38: 92 | K38: =N38 -> 19 | L38: =N38+O38 -> 43 | M38: =N38+O38+P38 -> 68 | N38: 19 | O38: =43-N38 -> 24 | P38: 25 | Q38: =R38-N38-O38-P38 -> 32 | R38: 100 | S38: =IF(J38>0,R38/J38,0)*100 -> 108.69565 | T38: =IF(G38>0,J38/G38,0)*100 -> 230
C39: e) | D39: alte venituri financiare | F39: 27 | G39: 0 | H39: 0 | I39: 0 | J39: 0 | K39: =N39 -> 0 | L39: =N39+O39 -> 0 | M39: =N39+O39+P39 -> 0 | N39: 0 | O39: 0 | P39: 0 | Q39: =R39-N39-O39-P39 -> 0 | R39: 0 | S39: =IF(J39>0,R39/J39,0)*100 -> 0 | T39: =IF(G39>0,J39/G39,0)*100 -> 0
B40: 3 | D40: Venituri extraordinare | F40: 28 | G40: 0 | H40: 0 | I40: 0 | J40: 0 | K40: =N40 -> 0 | L40: =N40+O40 -> 0 | M40: =N40+O40+P40 -> 0 | N40: 0 | O40: 0 | P40: 0 | Q40: =R40-N40-O40-P40 -> 0 | R40: 0 | S40: =IF(J40>0,R40/J40,0)*100 -> 0 | T40: =IF(G40>0,J40/G40,0)*100 -> 0
A41: II | B41: CHELTUIELI TOTALE (Rd.30+Rd.136+Rd.144) | F41: 29 | G41: =G42+G150+G158 -> 2965174 | H41: =H42+H150+H158 -> 0 | I41: =I42+I150+I158 -> 3944000 | J41: =J42+J150+J158 -> 4285592 | K41: =N41 -> 1182877 | L41: =N41+O41 -> 2543229 | M41: =N41+O41+P41 -> 4021361 | N41: =N42+N150+N158 -> 1182877 | O41: =O42+O150+O158 -> 1360352 | P41: =P42+P150+P158 -> 1478132 | Q41: =R41-N41-O41-P41 -> 1932979 | R41: =R42+R150+R158 -> 5954340 | S41: =IF(J41>0,R41/J41,0)*100 -> 138.93856 | T41: =IF(G41>0,J41/G41,0)*100 -> 144.53088
B42: 1 | C42: Cheltuieli de exploatare (Rd.31+Rd.79+Rd.86+Rd.120), din care: | F42: 30 | G42: =G43+G92+G99+G133 -> 2964732 | H42: =H43+H92+H99+H133 -> 0 | I42: =I43+I92+I99+I133 -> 3943000 | J42: =J43+J92+J99+J133 -> 4284885 | K42: =N42 -> 1182877 | L42: =N42+O42 -> 2543229 | M42: =N42+O42+P42 -> 4021161 | N42: =N43+N92+N99+N133 -> 1182877 | O42: =O43+O92+O99+O133 -> 1360352 | P42: =P43+P92+P99+P133 -> 1477932 | Q42: =R42-N42-O42-P42 -> 1932779 | R42: =R43+R92+R99+R133 -> 5953940 | S42: =IF(J42>0,R42/J42,0)*100 -> 138.95215 | T42: =IF(G42>0,J42/G42,0)*100 -> 144.52858
C43: A. Cheltuieli cu bunuri şi servicii (Rd.32+Rd.40+Rd.46), din care: | F43: 31 | G43: =G44+G53+G59 -> 123282 | H43: =H44+H53+H59 -> 0 | I43: =I44+I53+I59 -> 127500 | J43: =J44+J53+J59 -> 134291 | K43: =N43 -> 28545 | L43: =N43+O43 -> 69987 | M43: =N43+O43+P43 -> 127037 | N43: =N44+N53+N59 -> 28545 | O43: =O44+O53+O59 -> 41442 | P43: =P44+P53+P59 -> 57050 | Q43: =R43-N43-O43-P43 -> 106463 | R43: =R44+R53+R59 -> 233500 | S43: =IF(J43>0,R43/J43,0)*100 -> 173.87613 | T43: =IF(G43>0,J43/G43,0)*100 -> 108.92993
C44: A1 | D44: Cheltuieli privind stocurile (Rd.33+Rd.34+Rd.37+Rd.38+Rd.39), din care: | F44: 32 | G44: =G45+G46+G50+G51+G52 -> 71492 | H44: =H45+H46+H50+H51+H52 -> 0 | I44: =I45+I46+I50+I51+I52 -> 52000 | J44: =J45+J46+J50+J51+J52 -> 75566 | K44: =N44 -> 9287 | L44: =N44+O44 -> 26517 | M44: =N44+O44+P44 -> 63017 | N44: =N45+N46+N50+N51+N52 -> 9287 | O44: =O45+O46+O50+O51+O52 -> 17230 | P44: =P45+P46+P50+P51+P52 -> 36500 | Q44: =R44-N44-O44-P44 -> 61983 | R44: =R45+R46+R50+R51+R52 -> 125000 | S44: =IF(J44>0,R44/J44,0)*100 -> 165.41831 | T44: =IF(G44>0,J44/G44,0)*100 -> 105.69854
C45: a) | D45: cheltuieli cu materiile prime | F45: 33 | G45: 0 | H45: 0 | I45: 0 | J45: 0 | K45: =N45 -> 0 | L45: =N45+O45 -> 0 | M45: =N45+O45+P45 -> 0 | N45: 0 | O45: 0 | P45: 0 | Q45: =R45-N45-O45-P45 -> 0 | R45: 0 | S45: =IF(J45>0,R45/J45,0)*100 -> 0 | T45: =IF(G45>0,J45/G45,0)*100 -> 0
C46: b) | D46: cheltuieli cu materialele consumabile, din care: | F46: 34 | G46: =G47+G48+G49 -> 17527 | H46: =H47+H48+H49 -> 0 | I46: =I47+I48+I49 -> 27000 | J46: =J47+J48+J49 -> 24077 | K46: =N46 -> 4327 | L46: =N46+O46 -> 11101 | M46: =N46+O46+P46 -> 17601 | N46: =N47+N48+N49 -> 4327 | O46: =O47+O48+O49 -> 6774 | P46: =P47+P48+P49 -> 6500 | Q46: =R46-N46-O46-P46 -> 7399 | R46: =R47+R48+R49 -> 25000 | S46: =IF(J46>0,R46/J46,0)*100 -> 103.83353 | T46: =IF(G46>0,J46/G46,0)*100 -> 137.37091
D47: b1) | E47: cheltuieli cu piesele de schimb | F47: 35 | G47: 2262 | H47: 0 | I47: 5000 | J47: 4804 | K47: =N47 -> 62 | L47: =N47+O47 -> 1282 | M47: =N47+O47+P47 -> 2282 | N47: 62 | O47: =1282-N47 -> 1220 | P47: 1000 | Q47: =R47-N47-O47-P47 -> 718 | R47: 3000 | S47: =IF(J47>0,R47/J47,0)*100 -> 62.44796 | T47: =IF(G47>0,J47/G47,0)*100 -> 212.37843
D48: b2) | E48: cheltuieli cu combustibilii | F48: 36 | G48: 11575 | H48: 0 | I48: 12000 | J48: 14558 | K48: =N48 -> 3046 | L48: =N48+O48 -> 6106 | M48: =N48+O48+P48 -> 9106 | N48: 3046 | O48: =6106-N48 -> 3060 | P48: 3000 | Q48: =R48-N48-O48-P48 -> 2894 | R48: 12000 | S48: =IF(J48>0,R48/J48,0)*100 -> 82.428905 | T48: =IF(G48>0,J48/G48,0)*100 -> 125.77106
D49: b3) | E49: materiale de masa | G49: 3690 | H49: 0 | I49: 10000 | J49: 4715 | K49: =N49 -> 1219 | L49: =N49+O49 -> 3713 | M49: =N49+O49+P49 -> 6213 | N49: 1219 | O49: =1837+1876-N49 -> 2494 | P49: 2500 | Q49: =R49-N49-O49-P49 -> 3787 | R49: 10000 | S49: =IF(J49>0,R49/J49,0)*100 -> 212.08908 | T49: =IF(G49>0,J49/G49,0)*100 -> 127.77778
C50: c) | D50: cheltuieli privind materialele de natura obiectelor de inventar | F50: 37 | G50: 53965 | H50: 0 | I50: 25000 | J50: 51489 | K50: =N50 -> 4960 | L50: =N50+O50 -> 15416 | M50: =N50+O50+P50 -> 45416 | N50: 4960 | O50: =15416-N50 -> 10456 | P50: 30000 | Q50: =R50-N50-O50-P50 -> 54584 | R50: 100000 | S50: =IF(J50>0,R50/J50,0)*100 -> 194.21624 | T50: =IF(G50>0,J50/G50,0)*100 -> 95.411841
C51: d) | D51: cheltuieli privind energia şi apa | F51: 38 | G51: 0 | H51: 0 | I51: 0 | J51: 0 | K51: =N51 -> 0 | L51: =N51+O51 -> 0 | M51: =N51+O51+P51 -> 0 | N51: 0 | O51: 0 | P51: 0 | Q51: =R51-N51-O51-P51 -> 0 | R51: 0 | S51: =IF(J51>0,R51/J51,0)*100 -> 0 | T51: =IF(G51>0,J51/G51,0)*100 -> 0
C52: e) | D52: cheltuieli privind mărfurile | F52: 39 | G52: 0 | H52: 0 | I52: 0 | J52: 0 | K52: =N52 -> 0 | L52: =N52+O52 -> 0 | M52: =N52+O52+P52 -> 0 | N52: 0 | O52: 0 | P52: 0 | Q52: =R52-N52-O52-P52 -> 0 | R52: 0 | S52: =IF(J52>0,R52/J52,0)*100 -> 0 | T52: =IF(G52>0,J52/G52,0)*100 -> 0
C53: A2 | D53: Cheltuieli privind serviciile executate de terţi (Rd.41+Rd.42+Rd.45), din care: | F53: 40 | G53: =G54+G55+G58 -> 11735 | H53: =H54+H55+H58 -> 0 | I53: =I54+I55+I58 -> 24000 | J53: =J54+J55+J58 -> 14956 | K53: =N53 -> 2964 | L53: =N53+O53 -> 11629 | M53: =N53+O53+P53 -> 18729 | N53: =N54+N55+N58 -> 2964 | O53: =O54+O55+O58 -> 8665 | P53: =P54+P55+P58 -> 7100 | Q53: =R53-N53-O53-P53 -> 10271 | R53: =R54+R55+R58 -> 29000 | S53: =IF(J53>0,R53/J53,0)*100 -> 193.90211 | T53: =IF(G53>0,J53/G53,0)*100 -> 127.44781
C54: a) | D54: cheltuieli cu întreţinerea şi reparaţiile | F54: 41 | G54: 1166 | H54: 0 | I54: 10000 | J54: 1210 | K54: =N54 -> 110 | L54: =N54+O54 -> 1764 | M54: =N54+O54+P54 -> 4264 | N54: 110 | O54: =1764-N54 -> 1654 | P54: 2500 | Q54: =R54-N54-O54-P54 -> 5736 | R54: 10000 | S54: =IF(J54>0,R54/J54,0)*100 -> 826.44628 | T54: =IF(G54>0,J54/G54,0)*100 -> 103.77358
C55: b) | D55: cheltuieli privind chiriile (Rd.43+Rd.44) din care: | F55: 42 | G55: =G56+G57 -> 5668 | H55: =H56+H57 -> 0 | I55: =I56+I57 -> 7000 | J55: =J56+J57 -> 5539 | K55: =N55 -> 0 | L55: =N55+O55 -> 3314 | M55: =N55+O55+P55 -> 5814 | N55: =N56+N57 -> 0 | O55: =O56+O57 -> 3314 | P55: =P56+P57 -> 2500 | Q55: =R55-N55-O55-P55 -> 4186 | R55: =R56+R57 -> 10000 | S55: =IF(J55>0,R55/J55,0)*100 -> 180.538 | T55: =IF(G55>0,J55/G55,0)*100 -> 97.724065
D56: b1) | E56: - către operatori cu capital integral/majoritar de stat | F56: 43 | G56: 5668 | H56: 0 | I56: 0 | J56: 0 | K56: =N56 -> 0 | L56: =N56+O56 -> 3314 | M56: =N56+O56+P56 -> 5814 | N56: 0 | O56: =3314 -> 3314 | P56: 2500 | Q56: =R56-N56-O56-P56 -> 4186 | R56: 10000 | S56: =IF(J56>0,R56/J56,0)*100 -> 0 | T56: =IF(G56>0,J56/G56,0)*100 -> 0
D57: b2) | E57: - către operatori cu capital privat | F57: 44 | G57: 0 | H57: 0 | I57: 7000 | J57: 5539 | K57: =N57 -> 0 | L57: =N57+O57 -> 0 | M57: =N57+O57+P57 -> 0 | O57: 0 | P57: 0 | Q57: =R57-N57-O57-P57 -> 0 | R57: 0 | S57: =IF(J57>0,R57/J57,0)*100 -> 0 | T57: =IF(G57>0,J57/G57,0)*100 -> 0
C58: c) | D58: prime de asigurare | F58: 45 | G58: 4901 | H58: 0 | I58: 7000 | J58: 8207 | K58: =N58 -> 2854 | L58: =N58+O58 -> 6551 | M58: =N58+O58+P58 -> 8651 | N58: 2854 | O58: =6551-N58 -> 3697 | P58: 2100 | Q58: =R58-N58-O58-P58 -> 349 | R58: 9000 | S58: =IF(J58>0,R58/J58,0)*100 -> 109.66248 | T58: =IF(G58>0,J58/G58,0)*100 -> 167.45562
C59: A3 | D59: Cheltuieli cu alte servicii executate de terţi (Rd.47+Rd.48+Rd.50+Rd.57+Rd.62+Rd.63+Rd.67+ Rd.68+Rd.69+Rd.78), din care: | F59: 46 | G59: =G60+G61+G63+G70+G75+G76+G80+G81+G82+G91 -> 40055 | H59: =H60+H61+H63+H70+H75+H76+H80+H81+H82+H91 -> 0 | I59: =I60+I61+I63+I70+I75+I76+I80+I81+I82+I91 -> 51500 | J59: =J60+J61+J63+J70+J75+J76+J80+J81+J82+J91 -> 43769 | K59: =N59 -> 16294 | L59: =N59+O59 -> 31841 | M59: =N59+O59+P59 -> 45291 | N59: =N60+N61+N63+N70+N75+N76+N80+N81+N82+N91 -> 16294 | O59: =O60+O61+O63+O70+O75+O76+O80+O81+O82+O91 -> 15547 | P59: =P60+P61+P63+P70+P75+P76+P80+P81+P82+P91 -> 13450 | Q59: =R59-N59-O59-P59 -> 34209 | R59: =R60+R61+R63+R70+R75+R76+R80+R81+R82+R91 -> 79500 | S59: =IF(J59>0,R59/J59,0)*100 -> 181.6354 | T59: =IF(G59>0,J59/G59,0)*100 -> 109.27225
C60: a) | D60: cheltuieli cu colaboratorii | F60: 47 | G60: 0 | H60: 0 | I60: 0 | J60: 0 | K60: =N60 -> 0 | L60: =N60+O60 -> 0 | M60: =N60+O60+P60 -> 0 | N60: 0 | O60: 0 | P60: 0 | Q60: =R60-N60-O60-P60 -> 0 | R60: 0 | S60: =IF(J60>0,R60/J60,0)*100 -> 0 | T60: =IF(G60>0,J60/G60,0)*100 -> 0
C61: b) | D61: cheltuieli privind comisioanele şi onorariul, din care: | F61: 48 | G61: 0 | H61: 0 | I61: 0 | J61: 0 | K61: =N61 -> 0 | L61: =N61+O61 -> 0 | M61: =N61+O61+P61 -> 0 | N61: 0 | O61: 0 | P61: 0 | Q61: =R61-N61-O61-P61 -> 0 | R61: 0 | S61: =IF(J61>0,R61/J61,0)*100 -> 0 | T61: =IF(G61>0,J61/G61,0)*100 -> 0
D62: b1) | E62: cheltuieli privind consultanţa juridică | F62: 49 | G62: 0 | H62: 0 | I62: 0 | J62: 0 | K62: =N62 -> 0 | L62: =N62+O62 -> 0 | M62: =N62+O62+P62 -> 3000 | N62: 0 | O62: 0 | P62: 3000 | Q62: =R62-N62-O62-P62 -> 3000 | R62: 6000 | S62: =IF(J62>0,R62/J62,0)*100 -> 0 | T62: =IF(G62>0,J62/G62,0)*100 -> 0
C63: c) | D63: cheltuieli de protocol, reclamă şi publicitate (Rd.51+Rd.53), din care: | F63: 50 | G63: =G64+G66 -> 3959 | H63: =H64+H66 -> 0 | I63: =I64+I66 -> 5000 | J63: =J64+J66 -> 6247 | K63: =N63 -> 6981 | L63: =N63+O63 -> 7703 | M63: =N63+O63+P63 -> 9203 | N63: =N64+N66 -> 6981 | O63: =O64+O66 -> 722 | P63: =P64+P66 -> 1500 | Q63: =R63-N63-O63-P63 -> 2797 | R63: =R64+R66 -> 12000 | S63: =IF(J63>0,R63/J63,0)*100 -> 192.0922 | T63: =IF(G63>0,J63/G63,0)*100 -> 157.79237
D64: c1) | E64: cheltuieli de protocol, din care: | F64: 51 | G64: 3959 | H64: 0 | I64: 5000 | J64: 6247 | K64: =N64 -> 1981 | L64: =N64+O64 -> 2703 | M64: =N64+O64+P64 -> 3203 | N64: 1981 | O64: =2703-N64 -> 722 | P64: 500 | Q64: =R64-N64-O64-P64 -> 797 | R64: 4000 | S64: =IF(J64>0,R64/J64,0)*100 -> 64.030735 | T64: =IF(G64>0,J64/G64,0)*100 -> 157.79237
E65: - tichete cadou potrivit Legii nr.193/2006, cu modificările ulterioare | F65: 52 | K65: =N65 -> 0 | L65: =N65+O65 -> 0 | M65: =N65+O65+P65 -> 0 | Q65: =R65-N65-O65-P65 -> 0 | S65: =IF(J65>0,R65/J65,0)*100 -> 0 | T65: =IF(G65>0,J65/G65,0)*100 -> 0
D66: c2) | E66: cheltuieli de reclamă şi publicitate, din care: | F66: 53 | G66: =G67+G68+G69 -> 0 | H66: =H67+H68+H69 -> 0 | I66: =I67+I68+I69 -> 0 | J66: =J67+J68+J69 -> 0 | K66: =N66 -> 5000 | L66: =N66+O66 -> 5000 | M66: =N66+O66+P66 -> 6000 | N66: =N67+N68+N69 -> 5000 | O66: =O67+O68+O69 -> 0 | P66: =P67+P68+P69 -> 1000 | Q66: =R66-N66-O66-P66 -> 2000 | R66: =R67+R68+R69 -> 8000 | S66: =IF(J66>0,R66/J66,0)*100 -> 0 | T66: =IF(G66>0,J66/G66,0)*100 -> 0
E67: - tichete cadou ptr. cheltuieli de reclamă şi publicitate, potrivit Legii nr.193/2006, cu modificările ulterioare | F67: 54 | K67: =N67 -> 0 | L67: =N67+O67 -> 0 | M67: =N67+O67+P67 -> 0 | Q67: =R67-N67-O67-P67 -> 0 | S67: =IF(J67>0,R67/J67,0)*100 -> 0 | T67: =IF(G67>0,J67/G67,0)*100 -> 0
E68: - tichete cadou ptr. campanii de marketing, studiul pieţei, promovarea pe pieţe existente sau noi, potrivit Legii nr.193/2006, cu modificările ulterioare | F68: 55 | G68: 0 | K68: =N68 -> 0 | L68: =N68+O68 -> 0 | M68: =N68+O68+P68 -> 0 | Q68: =R68-N68-O68-P68 -> 0 | S68: =IF(J68>0,R68/J68,0)*100 -> 0 | T68: =IF(G68>0,J68/G68,0)*100 -> 0
E69: - ch.de promovare a produselor | F69: 56 | G69: 0 | H69: 0 | I69: 0 | J69: 0 | K69: =N69 -> 5000 | L69: =N69+O69 -> 5000 | M69: =N69+O69+P69 -> 6000 | N69: 5000 | O69: 0 | P69: 1000 | Q69: =R69-N69-O69-P69 -> 2000 | R69: 8000 | S69: =IF(J69>0,R69/J69,0)*100 -> 0 | T69: =IF(G69>0,J69/G69,0)*100 -> 0
C70: d) | D70: Ch. cu sponsorizarea (Rd.58+Rd.59+Rd.60+Rd.61), din care: | F70: 57 | G70: 4000 | H70: =H71+H72+H73+H74 -> 0 | I70: =I71+I72+I73+I74 -> 0 | J70: =J71+J72+J73+J74 -> 5000 | K70: =N70 -> 0 | L70: =N70+O70 -> 0 | M70: =N70+O70+P70 -> 0 | N70: =N71+N72+N73+N74 -> 0 | O70: =O71+O72+O73+O74 -> 0 | P70: =P71+P72+P73+P74 -> 0 | Q70: =R70-N70-O70-P70 -> 5000 | R70: =R71+R72+R73+R74 -> 5000 | S70: =IF(J70>0,R70/J70,0)*100 -> 100 | T70: =IF(G70>0,J70/G70,0)*100 -> 125
D71: d1) | E71: ch.de sponsorizare a cluburilor sportive | F71: 58 | G71: 0 | H71: 0 | I71: 0 | J71: 5000 | K71: =N71 -> 0 | L71: =N71+O71 -> 0 | M71: =N71+O71+P71 -> 0 | N71: 0 | O71: 0 | P71: 0 | Q71: =R71-N71-O71-P71 -> 5000 | R71: 5000 | S71: =IF(J71>0,R71/J71,0)*100 -> 100 | T71: =IF(G71>0,J71/G71,0)*100 -> 0
D72: d2) | E72: ch. de sponsorizare a unităţilor de cult | F72: 59 | G72: 0 | H72: 0 | I72: 0 | J72: 0 | K72: =N72 -> 0 | L72: =N72+O72 -> 0 | M72: =N72+O72+P72 -> 0 | N72: 0 | O72: 0 | P72: 0 | Q72: =R72-N72-O72-P72 -> 0 | S72: =IF(J72>0,R72/J72,0)*100 -> 0 | T72: =IF(G72>0,J72/G72,0)*100 -> 0
D73: d3) | E73: ch. privind acordarea ajutoarelor umanitare si sociale | F73: 60 | G73: 0 | H73: 0 | I73: 0 | J73: 0 | K73: =N73 -> 0 | L73: =N73+O73 -> 0 | M73: =N73+O73+P73 -> 0 | N73: 0 | O73: 0 | P73: 0 | Q73: =R73-N73-O73-P73 -> 0 | S73: =IF(J73>0,R73/J73,0)*100 -> 0 | T73: =IF(G73>0,J73/G73,0)*100 -> 0
D74: d4) | E74: alte cheltuieli cu sponsorizarea | F74: 61 | G74: 0 | H74: 0 | I74: 0 | J74: 0 | K74: =N74 -> 0 | L74: =N74+O74 -> 0 | M74: =N74+O74+P74 -> 0 | N74: 0 | O74: 0 | P74: 0 | Q74: =R74-N74-O74-P74 -> 0 | S74: =IF(J74>0,R74/J74,0)*100 -> 0 | T74: =IF(G74>0,J74/G74,0)*100 -> 0
C75: e) | D75: cheltuieli cu transportul de bunuri şi persoane | F75: 62 | G75: 135 | H75: 0 | I75: 500 | J75: 1235 | K75: =N75 -> 30 | L75: =N75+O75 -> 116 | M75: =N75+O75+P75 -> 316 | N75: 30 | O75: =116-N75 -> 86 | P75: 200 | Q75: =R75-N75-O75-P75 -> 684 | R75: 1000 | S75: =IF(J75>0,R75/J75,0)*100 -> 80.97166 | T75: =IF(G75>0,J75/G75,0)*100 -> 914.81481
C76: f) | D76: cheltuieli de deplasare, detaşare, transfer, din care: | F76: 63 | G76: =G77 -> 0 | H76: =H77 -> 0 | I76: =I77 -> 0 | J76: =J77 -> 0 | K76: =N76 -> 0 | L76: =N76+O76 -> 0 | M76: =N76+O76+P76 -> 0 | N76: =N77 -> 0 | O76: =O77 -> 0 | P76: =P77 -> 0 | Q76: =R76-N76-O76-P76 -> 0 | R76: =R77 -> 0 | S76: =IF(J76>0,R76/J76,0)*100 -> 0 | T76: =IF(G76>0,J76/G76,0)*100 -> 0
D77: - cheltuieli cu diurna (Rd.65+Rd.66), din care: | F77: 64 | G77: =G78+G79 -> 0 | H77: =H78+H79 -> 0 | I77: =I78+I79 -> 0 | J77: =J78+J79 -> 0 | K77: =N77 -> 0 | L77: =N77+O77 -> 0 | M77: =N77+O77+P77 -> 0 | N77: =N78+N79 -> 0 | O77: =O78+O79 -> 0 | P77: =P78+P79 -> 0 | Q77: =R77-N77-O77-P77 -> 0 | R77: =R78+R79 -> 0 | S77: =IF(J77>0,R77/J77,0)*100 -> 0 | T77: =IF(G77>0,J77/G77,0)*100 -> 0
D78: -interna | F78: 65 | G78: 0 | H78: 0 | I78: 0 | J78: 0 | K78: =N78 -> 0 | L78: =N78+O78 -> 0 | M78: =N78+O78+P78 -> 0 | N78: 0 | O78: 0 | P78: 0 | Q78: =R78-N78-O78-P78 -> 0 | R78: 0 | S78: =IF(J78>0,R78/J78,0)*100 -> 0 | T78: =IF(G78>0,J78/G78,0)*100 -> 0
D79: -externa | F79: 66 | G79: 0 | K79: =N79 -> 0 | L79: =N79+O79 -> 0 | M79: =N79+O79+P79 -> 0 | Q79: =R79-N79-O79-P79 -> 0 | S79: =IF(J79>0,R79/J79,0)*100 -> 0 | T79: =IF(G79>0,J79/G79,0)*100 -> 0
C80: g) | D80: cheltuieli poştale şi taxe de telecomunicaţii | F80: 67 | G80: 860 | H80: 0 | I80: 1000 | J80: 1248 | K80: =N80 -> 328 | L80: =N80+O80 -> 576 | M80: =N80+O80+P80 -> 1076 | N80: 328 | O80: =576-N80 -> 248 | P80: 500 | Q80: =R80-N80-O80-P80 -> 424 | R80: 1500 | S80: =IF(J80>0,R80/J80,0)*100 -> 120.19231 | T80: =IF(G80>0,J80/G80,0)*100 -> 145.11628
C81: h) | D81: cheltuieli cu serviciile bancare şi asimilate | F81: 68 | G81: 1874 | H81: 0 | I81: 5000 | J81: 2571 | K81: =N81 -> 688 | L81: =N81+O81 -> 1453 | M81: =N81+O81+P81 -> 2703 | N81: 688 | O81: =1453-N81 -> 765 | P81: 1250 | Q81: =R81-N81-O81-P81 -> 2297 | R81: 5000 | S81: =IF(J81>0,R81/J81,0)*100 -> 194.47686 | T81: =IF(G81>0,J81/G81,0)*100 -> 137.19317
C82: i) | D82: alte cheltuieli cu serviciile executate de terţi, din care: | F82: 69 | G82: =G83+G84+G85+G86+G88+G89+G90 -> 0 | H82: =H83+H84+H85+H86+H88+H89+H90 -> 0 | I82: =I83+I84+I85+I86+I88+I89+I90 -> 0 | J82: =J83+J84+J85+J86+J88+J89+J90 -> 0 | K82: =N82 -> 0 | L82: =N82+O82 -> 2854 | M82: =N82+O82+P82 -> 2854 | N82: =N83+N84+N85+N86+N88+N89+N90 -> 0 | O82: =O83+O84+O85+O86+O88+O89+O90 -> 2854 | P82: =P83+P84+P85+P86+P88+P89+P90 -> 0 | Q82: =R82-N82-O82-P82 -> 12146 | R82: =R83+R84+R85+R86+R88+R89+R90 -> 15000 | S82: =IF(J82>0,R82/J82,0)*100 -> 0 | T82: =IF(G82>0,J82/G82,0)*100 -> 0
D83: i1) | E83: cheltuieli de asigurare şi pază | F83: 70 | G83: 0 | H83: 0 | I83: 0 | J83: 0 | K83: =N83 -> 0 | L83: =N83+O83 -> 0 | M83: =N83+O83+P83 -> 0 | N83: 0 | O83: 0 | P83: 0 | Q83: =R83-N83-O83-P83 -> 0 | R83: 0 | S83: =IF(J83>0,R83/J83,0)*100 -> 0 | T83: =IF(G83>0,J83/G83,0)*100 -> 0
D84: i2) | E84: cheltuieli privind întreţinerea şi funcţionarea tehnicii de calcul | F84: 71 | G84: 0 | H84: 0 | I84: 0 | J84: 0 | K84: =N84 -> 0 | L84: =N84+O84 -> 0 | M84: =N84+O84+P84 -> 0 | N84: 0 | O84: 0 | P84: 0 | Q84: =R84-N84-O84-P84 -> 0 | R84: 0 | S84: =IF(J84>0,R84/J84,0)*100 -> 0 | T84: =IF(G84>0,J84/G84,0)*100 -> 0
D85: i3) | E85: cheltuieli cu pregătirea profesională | F85: 72 | G85: 0 | H85: 0 | I85: 0 | J85: 0 | K85: =N85 -> 0 | L85: =N85+O85 -> 2854 | M85: =N85+O85+P85 -> 2854 | N85: 0 | O85: 2854 | P85: 0 | Q85: =R85-N85-O85-P85 -> 12146 | R85: 15000 | S85: =IF(J85>0,R85/J85,0)*100 -> 0 | T85: =IF(G85>0,J85/G85,0)*100 -> 0
D86: i4) | E86: cheltuieli cu reevaluarea imobilizărilor corporale şi necorporale, din care: | F86: 73 | G86: 0 | H86: 0 | I86: 0 | J86: 0 | K86: =N86 -> 0 | L86: =N86+O86 -> 0 | M86: =N86+O86+P86 -> 0 | N86: 0 | O86: 0 | P86: 0 | Q86: =R86-N86-O86-P86 -> 0 | R86: 0 | S86: =IF(J86>0,R86/J86,0)*100 -> 0 | T86: =IF(G86>0,J86/G86,0)*100 -> 0
E87: -aferente bunurilor de natura domeniului public | F87: 74 | G87: 0 | H87: 0 | I87: 0 | J87: 0 | K87: =N87 -> 0 | L87: =N87+O87 -> 0 | M87: =N87+O87+P87 -> 0 | N87: 0 | O87: 0 | P87: 0 | Q87: =R87-N87-O87-P87 -> 0 | R87: 0 | S87: =IF(J87>0,R87/J87,0)*100 -> 0 | T87: =IF(G87>0,J87/G87,0)*100 -> 0
D88: i5) | E88: cheltuieli cu prestaţiile efectuate de filiale | F88: 75 | G88: 0 | H88: 0 | I88: 0 | J88: 0 | K88: =N88 -> 0 | L88: =N88+O88 -> 0 | M88: =N88+O88+P88 -> 0 | N88: 0 | O88: 0 | P88: 0 | Q88: =R88-N88-O88-P88 -> 0 | R88: 0 | S88: =IF(J88>0,R88/J88,0)*100 -> 0 | T88: =IF(G88>0,J88/G88,0)*100 -> 0
D89: i6) | E89: cheltuieli privind recrutarea şi plasarea personalului de conducere cf. Ordonanţei de urgenţă a Guvernului nr. 109/2011 | F89: 76 | G89: 0 | H89: 0 | I89: 0 | J89: 0 | K89: =N89 -> 0 | L89: =N89+O89 -> 0 | M89: =N89+O89+P89 -> 0 | N89: 0 | O89: 0 | P89: 0 | Q89: =R89-N89-O89-P89 -> 0 | R89: 0 | S89: =IF(J89>0,R89/J89,0)*100 -> 0 | T89: =IF(G89>0,J89/G89,0)*100 -> 0
D90: i7) | E90: cheltuieli cu anunţurile privind licitaţiile şi alte anunţuri | F90: 77 | G90: 0 | H90: 0 | I90: 0 | J90: 0 | K90: =N90 -> 0 | L90: =N90+O90 -> 0 | M90: =N90+O90+P90 -> 0 | N90: 0 | O90: 0 | P90: 0 | Q90: =R90-N90-O90-P90 -> 0 | R90: 0 | S90: =IF(J90>0,R90/J90,0)*100 -> 0 | T90: =IF(G90>0,J90/G90,0)*100 -> 0
C91: j) | D91: alte cheltuieli | F91: 78 | G91: 29227 | H91: 0 | I91: 40000 | J91: 27468 | K91: =N91 -> 8267 | L91: =N91+O91 -> 19139 | M91: =N91+O91+P91 -> 29139 | N91: 8267 | O91: =19137-N91+2 -> 10872 | P91: 10000 | Q91: =R91-N91-O91-P91 -> 10861 | R91: 40000 | S91: =IF(J91>0,R91/J91,0)*100 -> 145.624 | T91: =IF(G91>0,J91/G91,0)*100 -> 93.981592
C92: B Cheltuieli cu impozite, taxe şi vărsăminte asimilate (Rd.80+Rd.81+Rd.82+Rd.83+Rd.84+Rd.85), din care: | F92: 79 | G92: =G93+G94+G95+G96+G97+G98 -> 662 | H92: =H93+H94+H95+H96+H97+H98 -> 0 | I92: =I93+I94+I95+I96+I97+I98 -> 500 | J92: =J93+J94+J95+J96+J97+J98 -> 5203 | K92: =N92 -> 324 | L92: =N92+O92 -> 324 | M92: =N92+O92+P92 -> 324 | N92: =N93+N94+N95+N96+N97+N98 -> 324 | O92: =O93+O94+O95+O96+O97+O98 -> 0 | P92: =P93+P94+P95+P96+P97+P98 -> 0 | Q92: =R92-N92-O92-P92 -> 676 | R92: =R93+R94+R95+R96+R97+R98 -> 1000 | S92: =IF(J92>0,R92/J92,0)*100 -> 19.219681 | T92: =IF(G92>0,J92/G92,0)*100 -> 785.95166
C93: a) | D93: ch. cu taxa pt.activitatea de exploatare a resurselor minerale | F93: 80 | G93: 0 | H93: 0 | I93: 0 | J93: 0 | K93: =N93 -> 0 | L93: =N93+O93 -> 0 | M93: =N93+O93+P93 -> 0 | N93: 0 | O93: 0 | P93: 0 | Q93: =R93-N93-O93-P93 -> 0 | R93: 0 | S93: =IF(J93>0,R93/J93,0)*100 -> 0 | T93: =IF(G93>0,J93/G93,0)*100 -> 0
C94: b) | D94: ch. cu redevenţa pentru concesionarea bunurilor publice şi resursele minerale | F94: 81 | G94: 0 | H94: 0 | I94: 0 | J94: 0 | K94: =N94 -> 0 | L94: =N94+O94 -> 0 | M94: =N94+O94+P94 -> 0 | N94: 0 | O94: 0 | P94: 0 | Q94: =R94-N94-O94-P94 -> 0 | R94: 0 | S94: =IF(J94>0,R94/J94,0)*100 -> 0 | T94: =IF(G94>0,J94/G94,0)*100 -> 0
C95: c) | D95: ch. cu taxa de licenţă | F95: 82 | H95: 0 | K95: =N95 -> 0 | L95: =N95+O95 -> 0 | M95: =N95+O95+P95 -> 0 | Q95: =R95-N95-O95-P95 -> 0 | S95: =IF(J95>0,R95/J95,0)*100 -> 0 | T95: =IF(G95>0,J95/G95,0)*100 -> 0
C96: d) | D96: ch. cu taxa de autorizare | F96: 83 | K96: =N96 -> 0 | L96: =N96+O96 -> 0 | M96: =N96+O96+P96 -> 0 | Q96: =R96-N96-O96-P96 -> 0 | S96: =IF(J96>0,R96/J96,0)*100 -> 0 | T96: =IF(G96>0,J96/G96,0)*100 -> 0
C97: e) | D97: ch. cu taxa de mediu | F97: 84 | K97: =N97 -> 0 | L97: =N97+O97 -> 0 | M97: =N97+O97+P97 -> 0 | Q97: =R97-N97-O97-P97 -> 0 | S97: =IF(J97>0,R97/J97,0)*100 -> 0 | T97: =IF(G97>0,J97/G97,0)*100 -> 0
C98: f) | D98: cheltuieli cu alte taxe şi impozite | F98: 85 | G98: 662 | H98: 0 | I98: 500 | J98: 5203 | K98: =N98 -> 324 | L98: =N98+O98 -> 324 | M98: =N98+O98+P98 -> 324 | N98: 324 | O98: 0 | P98: 0 | Q98: =R98-N98-O98-P98 -> 676 | R98: 1000 | S98: =IF(J98>0,R98/J98,0)*100 -> 19.219681 | T98: =IF(G98>0,J98/G98,0)*100 -> 785.95166
C99: C. Cheltuieli cu personalul (Rd.87+Rd.100+Rd.104+Rd.113), din care: | F99: 86 | G99: =G100+G113+G117+G126 -> 2824000 | H99: =H100+H113+H117+H126 -> 0 | I99: =I100+I113+I117+I126 -> 3804000 | J99: =J100+J113+J117+J126 -> 4127506 | K99: =N99 -> 1148660 | L99: =N99+O99 -> 2464243 | M99: =N99+O99+P99 -> 3882125 | N99: =N100+N113+N117+N126 -> 1148660 | O99: =O100+O113+O117+O126 -> 1315583 | P99: =P100+P113+P117+P126 -> 1417882 | Q99: =R99-N99-O99-P99 -> 1822315 | R99: =R100+R113+R117+R126 -> 5704440 | S99: =IF(J99>0,R99/J99,0)*100 -> 138.20549 | T99: =IF(G99>0,J99/G99,0)*100 -> 146.15814
C100: C0 | D100: Cheltuieli de natură salarială (Rd.88+ Rd.92) | F100: 87 | G100: =G101+G105 -> 2269381 | H100: =H101+H105 -> 0 | I100: =I101+I105 -> 3120000 | J100: =J101+J105 -> 3408732 | K100: =N100 -> 948855 | L100: =N100+O100 -> 2046064 | M100: =N100+O100+P100 -> 3229584 | N100: =N101+N105 -> 948855 | O100: =O101+O105 -> 1097209 | P100: =P101+P105 -> 1183520 | Q100: =R100-N100-O100-P100 -> 1522266 | R100: =R101+R105 -> 4751850 | S100: =IF(J100>0,R100/J100,0)*100 -> 139.40228 | T100: =IF(G100>0,J100/G100,0)*100 -> 150.20536
C101: C1 | D101: Cheltuieli cu salariile (Rd.89+Rd.90+Rd.91), din care: | F101: 88 | G101: =G102+G103+G104 -> 2063696 | H101: =H102+H103+H104 -> 0 | I101: =I102+I103+I104 -> 2940000 | J101: =J102+J103+J104 -> 3142109 | K101: =N101 -> 872640 | L101: =N101+O101 -> 1826539 | M101: =N101+O101+P101 -> 2863539 | N101: =N102+N103+N104 -> 872640 | O101: =O102+O103+O104 -> 953899 | P101: =P102+P103+P104 -> 1037000 | Q101: =R101-N101-O101-P101 -> 1351461 | R101: =R102+R103+R104 -> 4215000 | S101: =IF(J101>0,R101/J101,0)*100 -> 134.14557 | T101: =IF(G101>0,J101/G101,0)*100 -> 152.25639
...

Sheet Anexa 3
G1: Anexa nr.3
B2: Gradul de realizare a veniturilor totale
H4: Mii lei
A5: Nr | B5: INDICATORI | C5: Prevederi an (N-2) 2015 | E5: % 4=3/2 | F5: Prevederi an (N-1) 2016 | H5: % 7=6/5
A6: Crt | C6: Aprobat | D6: Realizat | F6: Aprobat | G6: Realizat
A7: 0 | B7: 1 | C7: 2 | D7: 3 | E7: 4 | F7: 5 | G7: 6 | H7: 7
A8: I. | B8: Venituri totale (rd.1+rd.2+rd.3), din care: | C8: =SUM(C9:C11) -> 2596 | D8: =SUM(D9:D11) -> 3136 | E8: =D8/C8*100 -> 120.80123 | F8: =F9+F10+F11 -> 4102 | G8: =G9+G10 -> 4476 | H8: =G8/F8*100 -> 109.1175
A9: 1 | B9: Venituri din exploatare | C9: 2596 | D9: 3136 | E9: =D9/C9*100 -> 120.80123 | F9: 4102 | G9: 4476 | H9: =G9/F9*100 -> 109.1175
A10: 2. | B10: Venituri financiare | C10: 0 | D10: 0 | E10: 0 | F10: 0 | G10: 0 | H10: 0
A11: 3. | B11: Venituri extraordinare | C11: 0 | D11: 0 | E11: 0 | F11: 0 | G11: 0 | H11: 0
B16: CONDUCĂTORUL UNITĂŢII, | F16: CONDUCĂTORUL COMPARTIMENTULUI
F17: FINANCIAR CONTABIL

Sheet Anexa 4
C1: Anexa nr. 4 la
C2: Hotararea Consiliului Judetean Bistrita Nasaud nr…………..din……………………...
A4: Programul de investiţii, dotări şi sursele de finanţare
I6: mii lei
C7: INDICATORI | D7: Data finalizării investiţiei | E7: an precedent 2016 | G7: Valoare
E8: Aprobat | F8: Realizat/ Preliminat | G8: an curent 2017 | H8: an 2018 | I8: an 2019
A9: 0 | B9: 1 | C9: 2 | D9: 3 | E9: 4 | F9: 5 | G9: 6 | H9: 7 | I9: 8
A10: I | C10: SURSE DE FINANŢARE A INVESTIŢIILOR, din care: | E10: =E11+E14+E15+E18 -> 65 | F10: =F11+F14+F15+F18 -> 67 | G10: =G11+G14+G15+G18 -> 23 | H10: =H11+H14+H15+H18 -> 23 | I10: =I11+I14+I15+I18 -> 23
B11: 1 | C11: Surse proprii, din care: | E11: =E12+E13 -> 64 | F11: =F12+F13 -> 67 | G11: =G12+G13 -> 0 | H11: =H12+H13 -> 0 | I11: =I12+I13 -> 0
C12: a) - amortizare | E12: 11 | F12: 14
C13: b) - profit | E13: 53 | F13: 53
B14: 2 | C14: Alocaţii de la buget
B15: 3 | C15: Credite bancare, din care: | E15: =E16+E17 -> 0 | F15: =F16 -> 0 | G15: =G16+G17 -> 0 | H15: =H16+H17 -> 0 | I15: =I16+I17 -> 0
C16: a) - interne | E16: 0 | F16: 0 | G16: 0 | H16: 0 | I16: 0
C17: b) - externe
B18: 4 | C18: Alte surse, din care: | E18: =E19 -> 1 | F18: =F19 -> 0 | G18: =G19 -> 23 | H18: =H19 -> 23 | I18: =I19 -> 23
C19: Excedent an anterior | E19: 1 | G19: =F10-F20 -> 23 | H19: =G10-G20 -> 23 | I19: =H10-H20 -> 23
A20: II | C20: CHELTUIELI PENTRU INVESTIŢII, din care: | E20: =E21+E29+E50+E39 -> 44 | F20: =F21+F29+F50+F39 -> 44 | G20: =G21+G29+G50+G39 -> 0 | H20: =H21+H29+H50 -> 0 | I20: =I21+I29+I50 -> 0
B21: 1 | C21: Investiţii în curs, din care: | E21: =SUM(E22:E28) -> 0 | F21: =F22 -> 0 | G21: =SUM(G22:G28) -> 0
C22: a) pentru bunurile proprietatea privata a operatorului economic:
C23: b) pentru bunurile de natura domeniului public al statului sau al unităţii administrativ teritoriale:
C24: - (denumire obiectiv)
C25: c) pentru bunurile de natura domeniului privat al statului sau al unităţii administrativ teritoriale:
C26: - (denumire obiectiv)
C27: d) pentru bunurile luate în concesiune, închiriate sau în locaţie de gestiune, exclusiv cele din domeniul public sau privat al statului sau al unităţii administrativ teritoriale:
C28: - (denumire obiectiv)
B29: 2 | C29: Investiţii noi, din care: | E29: =E30 -> 28 | F29: =F30+F33 -> 28 | G29: =G30 -> 0 | H29: =H30 -> 0 | I29: =I30 -> 0
C30: a) pentru bunurile proprietatea privata a operatorului economic: | E30: =SUM(E31:E32) -> 28 | F30: =SUM(F31:F32) -> 28 | G30: =SUM(G31:G32) -> 0 | H30: =SUM(H31:H32) -> 0 | I30: =SUM(I31:I32) -> 0
C31: AUTOTURISM PATRULARE | E31: 28 | F31: 28
C32: SEIF TRANSPORT VALORI
C33: b) pentru bunurile de natura domeniului public al statului sau al unităţii administrativ teritoriale:
C34: - (denumire obiectiv)
C35: c) pentru bunurile de natura domeniului privat al statului sau al unităţii administrativ teritoriale:
C36: - (denumire obiectiv)
C37: d) pentru bunurile luate în concesiune, închiriate sau în locaţie de gestiune, exclusiv cele din domeniul public sau privat al statului sau al unităţii administrativ teritoriale:
C38: - (denumire obiectiv)
B39: 3 | C39: Investiţii efectuate la imobilizările corporale existente (modernizări), din care: | E39: =SUM(E40) -> 0 | F39: =F40 -> 0 | G39: =SUM(G40) -> 0 | H39: =SUM(H40) -> 0 | I39: =SUM(I40) -> 0
C40: a) pentru bunurile proprietatea privata a operatorului economic:
C42: b) pentru bunurile de natura domeniului public al statului sau al unităţii administrativ teritoriale:
C43: - (denumire obiectiv)
C44: c) pentru bunurile de natura domeniului privat al statului sau al unităţii administrativ teritoriale:
C45: - (denumire obiectiv)
C46: d) pentru bunurile luate în concesiune, închiriate sau în locaţie de gestiune, exclusiv cele din domeniul public sau privat al statului sau al unităţii administrativ teritoriale:
C47: - (denumire obiectiv)
B48: 4 | C48: Dotări (alte achiziţii de imobilizări corporale)
B49: 5 | C49: Rambursări de rate aferente creditelor pentru investiţii, din care: | E49: =E50+E51 -> 16 | F49: =F50+F51 -> 16 | G49: =G50+G51 -> 0 | H49: =H50+H51 -> 0 | I49: =I50+I51 -> 0
C50: a) - interne | E50: 16 | F50: 16
C51: b)- externe
C53: C.T.I./B.D./P.G./ 3 ex.

Sheet anexa5
L1: Anexa nr.5
B3: Măsuri de îmbunătăţire a rezultatului brut şi reducere a plăţilor restante
L6: mii lei
A7: Nr.crt. | B7: Măsuri | D7: Termen de realizare | E7: an precedent (2015) | G7: an curent (2016) | I7: an 2017 | K7: an 2018
E8: Preliminat / Realizat | G8: Influenţe (+/-) | I8: Influenţe (+/-) | K8: Influenţe (+/-)
E9: Rezultat brut (+/-) | F9: Plăţi restante | G9: Rezultat brut | H9: Plăţi restante | I9: Rezultat brut | J9: Plăţi restante | K9: Rezultat brut | L9: Plăţi restante
A10: 0 | B10: 1 | D10: 2 | E10: 3 | F10: 4 | G10: 5 | H10: 6 | I10: 7 | J10: 8 | K10: 9 | L10: 10
A11: Pct. I | B11: Măsuri de îmbunătăţire a rezultatului brut şi reducere a plăţilor restante
A12: 1 | B12: Realizarea veniturilor programate | E12: 0 | F12: X | G12: 0 | I12: 0 | K12: 0
A13: 2 | B13: Diminuarea cheltuielilor financiare | E13: 0 | F13: X | G13: 0 | I13: 0 | K13: 0
A14: 3 | B14: Cresterea productivitatii | E14: 0 | F14: X | I14: 0 | K14: 0
B15: TOTAL Pct. I | E15: =SUM(E12:E14) -> 0 | F15: X | G15: =SUM(G12:G14) -> 0 | H15: =SUM(H12:H14) -> 0 | I15: =SUM(I12:I14) -> 0 | J15: =SUM(J12:J14) -> 0 | K15: =SUM(K12:K14) -> 0 | L15: 0
A16: Pct. II | B16: Cauze care diminuează efectul măsurilor prevăzute la Pct. I
A17: 1 | B17: Crestere cheltuelilor salariale | E17: 0 | F17: X | G17: 0 | I17: 0 | K17: 0
A18: 2 | B18: Imposibilitatea actualizarii contractelor | E18: 0 | F18: X | G18: 0 | I18: 0 | K18: 0
B19: TOTAL Pct. II | E19: =SUM(E17:E18) -> 0 | F19: X | G19: =SUM(G17:G18) -> 0 | H19: =SUM(H17:H18) -> 0 | I19: 0 | J19: =SUM(J17:J18) -> 0 | K19: =SUM(K17:K18) -> 0 | L19: 0
A20: Pct. III | B20: TOTAL GENERAL Pct. I + Pct. II | E20: =E15+-E19 -> 0 | G20: =G15+-G19 -> 0 | H20: =H15+-H19 -> 0 | I20: =I15+-I19 -> 0 | J20: =J15+-J19 -> 0 | K20: =K15+-K19 -> 0 | L20: 0
C23: CONDUCĂTORUL UNITĂŢII, | J23: CONDUCĂTORUL COMPARTIMENTULUI
J24: FINANCIAR CONTABIL
