Workbook

Sheet ANEXA1
A1: AUTORITATEA ADMINISTRAŢIEI PUBLICE LOCALE | F1: CONSILIUL JUDETEAN BISTRITA NASAUD
A2: Operatorul economic LUCRARI DRUMURIPODURI SA
A3: Sediul/Adresa BISTRITA, STR CUZA VODA NR 17A
A4: Cod unic de înregistrare 571198
L5: Anexa nr.1
A6: BUGETUL DE VENITURI ŞI CHELTUIELI PE ANUL 2017
M8: mii lei
D9: INDICATORI | F9: Nr. rd. | G9: Realizat/ Preliminat an precedent (2016) | H9: Propuneri an curent (2017) | I9: % | J9: Estimări an 2018 | K9: Estimări an 2019 | L9: %
L10: 9=7/5 | M10: 10=8/7
A11: 0 | B11: 1 | D11: 2 | F11: 3 | G11: 4 | H11: 5 | I11: 6=5/4 | J11: 7 | K11: 8 | L11: 9 | M11: 10
A12: I. | D12: VENITURI TOTALE (Rd.1=Rd.2+Rd.5+Rd.6) | F12: 1 | G12: =G13+G16 -> 20448.409 | H12: =H13+H16 -> 22002 | I12: =H12/G12*100 -> 107.59761 | J12: =H12*1.025 -> 22552.05 | K12: =H12*1.038 -> 22838.076 | L12: =J12/H12*100 -> 102.5 | M12: =K12/J12*100 -> 101.26829
B13: 1 | D13: Venituri totale din exploatare, din care: | F13: 2 | G13: =ANEXA2!J14/1000 -> 20391.88 | H13: =ANEXA2!R14/1000 -> 21920 | I13: =H13/G13*100 -> 107.49377 | J13: =H13*1.025 -> 22468 | K13: =H13*1.038 -> 22752.96 | L13: =J13/H13*100 -> 102.5 | M13: =K13/J13*100 -> 101.26829
D14: a) | E14: subvenţii, cf. prevederilor legale în vigoare | F14: 3 | G14: 0 | H14: 0 | I14: 0 | J14: =H14*1.025 -> 0 | K14: =H14*1.038 -> 0
D15: b) | E15: transferuri, cf. prevederilor legale în vigoare | F15: 4
B16: 2 | D16: Venituri financiare | F16: 5 | G16: =ANEXA2!J34/1000 -> 56.529 | H16: =ANEXA2!R34/1000 -> 82 | I16: =H16/G16*100 -> 145.05829 | J16: =H16*1.025 -> 84.05 | K16: =H16*1.038 -> 85.116 | L16: =J16/H16*100 -> 102.5 | M16: =K16/J16*100 -> 101.26829
B17: 3 | D17: Venituri extraordinare | F17: 6
A18: II | D18: CHELTUIELI TOTALE (Rd.7=Rd.8+Rd.20+Rd.21) | F18: 7 | G18: =G19+G31+G32 -> 20408.981 | H18: =H19+H31+H32 -> 21768.312 | I18: =H18/G18*100 -> 106.66045 | J18: =H18*1.025 -> 22312.52 | K18: =H18*1.038 -> 22595.508 | L18: =J18/H18*100 -> 102.5 | M18: =K18/J18*100 -> 101.26829
B19: 1 | D19: Cheltuieli de exploatare, din care: | F19: 8 | G19: =G20+G21+G22+G30 -> 20232.756 | H19: =H20+H21+H22+H30 -> 21588.312 | I19: =H19/G19*100 -> 106.69981 | J19: =H19*1.025 -> 22128.02 | K19: =H19*1.038 -> 22408.668 | L19: =J19/H19*100 -> 102.5 | M19: =K19/J19*100 -> 101.26829
C20: A. | D20: cheltuieli cu bunuri si servicii | F20: 9 | G20: =ANEXA2!J43/1000 -> 15344.18 | H20: =ANEXA2!R43/1000 -> 16342 | I20: =H20/G20*100 -> 106.50292 | J20: =H20*1.025 -> 16750.55 | K20: =H20*1.038 -> 16962.996 | L20: =J20/H20*100 -> 102.5 | M20: =K20/J20*100 -> 101.26829
C21: B. | D21: cheltuieli cu impozite, taxe si varsaminte asimilate | F21: 10 | G21: =ANEXA2!J92/1000 -> 348.032 | H21: =ANEXA2!R92/1000 -> 380 | I21: =H21/G21*100 -> 109.18536 | J21: =H21*1.025 -> 389.5 | K21: =H21*1.038 -> 394.44 | L21: =J21/H21*100 -> 102.5 | M21: =K21/J21*100 -> 101.26829
C22: C. | D22: cheltuieli cu personalul, din care: | F22: 11 | G22: =G23+G28+G29 -> 3433.722 | H22: =H23+H28+H29 -> 3746.3117 | I22: =H22/G22*100 -> 109.10352 | J22: =H22*1.025 -> 3839.9695 | K22: =H22*1.038 -> 3888.6716 | L22: =J22/H22*100 -> 102.5 | M22: =K22/J22*100 -> 101.26829
D23: C0 | E23: Cheltuieli de natură salarială(Rd.13+Rd.14) | F23: 12 | G23: =G24+G25 -> 2681.277 | H23: =H24+H25 -> 3000 | I23: =H23/G23*100 -> 111.88699 | J23: =H23*1.025 -> 3075 | K23: =H23*1.038 -> 3114 | L23: =J23/H23*100 -> 102.5 | M23: =K23/J23*100 -> 101.26829
D24: C1 | E24: ch. cu salariile | F24: 13 | G24: =ANEXA2!J101/1000 -> 2421.83 | H24: =ANEXA2!R101/1000 -> 2640 | I24: =H24/G24*100 -> 109.00848 | J24: =H24*1.025 -> 2706 | K24: =H24*1.038 -> 2740.32 | L24: =J24/H24*100 -> 102.5 | M24: =K24/J24*100 -> 101.26829
D25: C2 | E25: bonusuri | F25: 14 | G25: =ANEXA2!J105/1000 -> 259.447 | H25: =ANEXA2!R105/1000 -> 360 | I25: =H25/G25*100 -> 138.75666 | J25: =H25*1.025 -> 369 | K25: =H25*1.038 -> 373.68 | L25: =J25/H25*100 -> 102.5 | M25: =K25/J25*100 -> 101.26829
D26: C3 | E26: alte cheltuieli cu personalul, din care: | F26: 15
E27: cheltuieli cu plati compensatorii aferente disponibilizarilor de personal | F27: 16
D28: C4 | E28: Cheltuieli aferente contractului de mandat si a altor organe de conducere si control, comisii si comitete | F28: 17 | G28: =ANEXA2!J117/1000 -> 159.932 | H28: =ANEXA2!R117/1000 -> 116.64 | I28: =H28/G28*100 -> 72.930996 | J28: =H28*1.025 -> 119.556 | K28: =H28*1.038 -> 121.07232 | L28: =J28/H28*100 -> 102.5 | M28: =K28/J28*100 -> 101.26829
D29: C5 | E29: cheltuieli cu asigurările şi protecţia socială, fondurile speciale şi alte obligaţii legale | F29: 18 | G29: =ANEXA2!J126/1000 -> 592.513 | H29: =ANEXA2!R126/1000 -> 629.67171 | I29: =H29/G29*100 -> 106.27137 | J29: =H29*1.025 -> 645.4135 | K29: =H29*1.038 -> 653.59923 | L29: =J29/H29*100 -> 102.5 | M29: =K29/J29*100 -> 101.26829
C30: D. | D30: alte cheltuieli de exploatare | F30: 19 | G30: =ANEXA2!J133/1000 -> 1106.822 | H30: =ANEXA2!R133/1000 -> 1120 | I30: =H30/G30*100 -> 101.19062 | J30: =H30*1.025 -> 1148 | K30: =H30*1.038 -> 1162.56 | L30: =J30/H30*100 -> 102.5 | M30: =K30/J30*100 -> 101.26829
B31: 2 | D31: Cheltuieli financiare | F31: 20 | G31: =ANEXA2!J150/1000 -> 176.225 | H31: =ANEXA2!R150/1000 -> 180 | I31: =H31/G31*100 -> 102.14215 | J31: =H31*1.025 -> 184.5 | K31: =H31*1.038 -> 186.84 | L31: =J31/H31*100 -> 102.5 | M31: =K31/J31*100 -> 101.26829
B32: 3 | D32: Cheltuieli extraordinare | F32: 21 | G32: 0 | H32: 0
A33: III | D33: REZULTATUL BRUT (profit/pierdere) | F33: 22 | G33: =G12-G18 -> 39.428 | H33: =H12-H18 -> 233.68829 | I33: =H33/G33*100 -> 592.69628 | J33: =H33*1.025 -> 239.5305 | K33: =H33*1.038 -> 242.56845 | L33: =J33/H33*100 -> 102.5 | M33: =K33/J33*100 -> 101.26829
A34: IV | D34: IMPOZIT PE PROFIT | F34: 23 | G34: =ANEXA2!J162/1000 -> 10.356 | H34: =ANEXA2!$R$162/1000 -> 43.6 | I34: =H34/G34*100 -> 421.01197 | J34: =H34*1.025 -> 44.69 | K34: =H34*1.038 -> 45.2568 | L34: =J34/H34*100 -> 102.5 | M34: =K34/J34*100 -> 101.26829
A35: V | D35: PROFITUL CONTABIL RĂMAS DUPĂ DEDUCEREA IMPOZITULUI PE PROFIT, din care: | F35: 24 | G35: =G33-G34 -> 29.072 | H35: =H33-H34 -> 190.08829 | I35: =H35/G35*100 -> 653.85351 | J35: =J33-J34 -> 194.8405 | K35: =K33-K34 -> 197.31165 | L35: =J35/H35*100 -> 102.5 | M35: =K35/J35*100 -> 101.26829
B36: 1 | D36: Rezerve legale | F36: 25 | G36: 0 | H36: 0
B37: 2 | D37: Alte rezerve reprezentând facilităţi fiscale prevăzute de lege | F37: 26
B38: 3 | D38: Acoperirea pierderilor contabile din anii precedenţi | F38: 27
B39: 4 | D39: Constituirea surselor proprii de finanţare pentru proiectele cofinanţate din împrumuturi externe, precum şi pentru constituirea surselor necesare rambursării ratelor de capital, plaţii dobânzilor, comisioanelor şi altor costuri aferente acestor împrumuturi | F39: 28
B40: 5 | D40: Alte repartizări prevăzute de lege | F40: 29
B41: 6 | D41: Profitul contabil rămas după deducerea sumelor de la Rd. 25, 26, 27, 28, 29 | F41: 30
...

Sheet ANEXA2
A1: AUTORITATEA ADMINISTRAŢIEI PUBLICE LOCALE | F1: CONSILIUL JUDETEAN BISTRITA NASAUD
A2: Operatorul economic LUCRARI DRUMURIPODURI SA
A3: Sediul/Adresa BISTRITA, STR CUZA VODA NR 17A
A4: Cod unic de înregistrare 571198
R5: Anexa nr.2
A6: Detalierea indicatorilor economico-financiari prevăzuţi în bugetul de venituri şi cheltuieli
S8: lei
D9: INDICATORI | F9: Nr. rd. | G9: Realizat in | H9: Prevederi an precedent (2016) | K9: Propuneri an curent (2017) | S9: % | T9: %
G10: 2015 | H10: Aprobat | J10: Preliminat / Realizat | K10: TRIM | L10: TRIM | M10: TRIM | N10: 1 | O10: 2 | P10: 3 | Q10: 4 | R10: an 2017 | S10: 7=6d/5 | T10: 8=5/3a
H11: conform HG/Ordin comun | I11: conform Hotararii C.A. | K11: I | L11: II | M11: III
A12: 0 | B12: 1 | D12: 2 | F12: 3 | G12: 3a | H12: 4 | I12: 4a | J12: 5 | K12: 6a | L12: 6b | M12: 6c | R12: 6d | S12: 7 | T12: 8
A13: I. | D13: VENITURI TOTALE (Rd.2+Rd.22+Rd.28) | F13: 1 | G13: =G14+G34+G40 -> 22992737 | H13: =H14+H34+H40 -> 20448409 | I13: =I14+I34+I40 -> 22980000 | J13: =J14+J34+J40 -> 20448409 | K13: =N13 -> 2002500 | L13: =N13+O13 -> 9226000 | M13: =N13+O13+P13 -> 16546500 | N13: =N14+N34+N40 -> 2002500 | O13: =O14+O34+O40 -> 7223500 | P13: =P14+P34+P40 -> 7320500 | Q13: =R13-N13-O13-P13 -> 5455500 | R13: =R14+R34+R40 -> 22002000 | S13: =IF(J13>0,R13/J13,0)*100 -> 107.59761 | T13: =IF(G13>0,J13/G13,0)*100 -> 88.93421
B14: 1 | D14: Venituri totale din exploatare (Rd.3+Rd.8+Rd.9+Rd.12+Rd.13+Rd.14), din care: | F14: 2 | G14: =G15+G20+G21+G24+G25+G26 -> 22990739 | H14: =H15+H20+H21+H24+H25+H26 -> 20391880 | I14: =I15+I20+I21+I24+I25+I26 -> 22970000 | J14: =J15+J20+J21+J24+J25+J26 -> 20391880 | K14: =N14 -> 1922000 | L14: =N14+O14 -> 9145000 | M14: =N14+O14+P14 -> 16465000 | N14: =N15+N20+N21+N24+N25+N26 -> 1922000 | O14: =O15+O20+O21+O24+O25+O26 -> 7223000 | P14: =P15+P20+P21+P24+P25+P26 -> 7320000 | Q14: =R14-N14-O14-P14 -> 5455000 | R14: =R15+R20+R21+R24+R25+R26 -> 21920000 | S14: =IF(J14>0,R14/J14,0)*100 -> 107.49377 | T14: =IF(G14>0,J14/G14,0)*100 -> 88.696061
C15: a) | D15: din producţia vândută (Rd.4+Rd.5+Rd.6+Rd.7), din care: | F15: 3 | G15: =G16+G17+G18+G19 -> 21955117 | H15: =H16+H17+H18+H19 -> 19907225 | I15: =I16+I17+I18+I19 -> 23200000 | J15: =J16+J17+J18+J19 -> 19907225 | K15: =N15 -> 1855000 | L15: =N15+O15 -> 9170000 | M15: =N15+O15+P15 -> 16435000 | N15: =N16+N17+N18+N19 -> 1855000 | O15: =O16+O17+O18+O19 -> 7315000 | P15: =P16+P17+P18+P19 -> 7265000 | Q15: =R15-N15-O15-P15 -> 5405000 | R15: =R16+R17+R18+R19 -> 21840000 | S15: =IF(J15>0,R15/J15,0)*100 -> 109.70891 | T15: =IF(G15>0,J15/G15,0)*100 -> 90.67237
D16: a1) | E16: din vânzarea produselor | F16: 4 | G16: 655986 | H16: 1160681 | I16: 400000 | J16: 1160681 | K16: =N16 -> 50000 | L16: =N16+O16 -> 350000 | M16: =N16+O16+P16 -> 600000 | N16: 50000 | O16: 300000 | P16: 250000 | Q16: =R16-N16-O16-P16 -> 200000 | R16: 800000 | S16: =IF(J16>0,R16/J16,0)*100 -> 68.925053 | T16: =IF(G16>0,J16/G16,0)*100 -> 176.93686
D17: a2) | E17: din servicii prestate | F17: 5 | G17: 21223666 | H17: 18746544 | I17: 22700000 | J17: 18746544 | K17: =N17 -> 1800000 | L17: =N17+O17 -> 8800000 | M17: =N17+O17+P17 -> 15800000 | N17: 1800000 | O17: 7000000 | P17: 7000000 | Q17: =R17-N17-O17-P17 -> 5200000 | R17: 21000000 | S17: =IF(J17>0,R17/J17,0)*100 -> 112.02065 | T17: =IF(G17>0,J17/G17,0)*100 -> 88.328491
D18: a3) | E18: din redevenţe şi chirii | F18: 6 | G18: 0 | H18: 0 | I18: 0 | J18: 0 | K18: =N18 -> 5000 | L18: =N18+O18 -> 10000 | M18: =N18+O18+P18 -> 15000 | N18: 5000 | O18: 5000 | P18: 5000 | Q18: =R18-N18-O18-P18 -> 5000 | R18: 20000 | S18: =IF(J18>0,R18/J18,0)*100 -> 0 | T18: =IF(G18>0,J18/G18,0)*100 -> 0
D19: a4) | E19: alte venituri | F19: 7 | G19: 75465 | H19: 0 | I19: 100000 | J19: 0 | K19: =N19 -> 0 | L19: =N19+O19 -> 10000 | M19: =N19+O19+P19 -> 20000 | N19: 0 | O19: 10000 | P19: 10000 | Q19: =R19-N19-O19-P19 -> 0 | R19: 20000 | S19: =IF(J19>0,R19/J19,0)*100 -> 0 | T19: =IF(G19>0,J19/G19,0)*100 -> 0
C20: b) | D20: din vânzarea mărfurilor | F20: 8 | G20: 117083 | H20: 79036 | I20: 200000 | J20: 79036 | K20: =N20 -> 15000 | L20: =N20+O20 -> 115000 | M20: =N20+O20+P20 -> 185000 | N20: 15000 | O20: 100000 | P20: 70000 | Q20: =R20-N20-O20-P20 -> 15000 | R20: 200000 | S20: =IF(J20>0,R20/J20,0)*100 -> 253.04924 | T20: =IF(G20>0,J20/G20,0)*100 -> 67.504249
C21: c) | D21: din subvenţii şi transferuri de exploatare aferente cifrei de afaceri nete (Rd.10+Rd.11), din care: | F21: 9 | G21: =G22+G23 -> 0 | H21: =H22+H23 -> 0 | I21: =I22+I23 -> 0 | J21: =J22+J23 -> 0 | K21: =N21 -> 0 | L21: =N21+O21 -> 0 | M21: =N21+O21+P21 -> 0 | N21: =N22+N23 -> 0 | O21: =O22+O23 -> 0 | P21: =P22+P23 -> 0 | Q21: =R21-N21-O21-P21 -> 0 | R21: =R22+R23 -> 0 | S21: =IF(J21>0,R21/J21,0)*100 -> 0 | T21: =IF(G21>0,J21/G21,0)*100 -> 0
D22: c1 | E22: subvenţii, cf. prevederilor legale în vigoare | F22: 10 | G22: 0 | H22: 0 | I22: 0 | J22: 0 | K22: =N22 -> 0 | L22: =N22+O22 -> 0 | M22: =N22+O22+P22 -> 0 | N22: 0 | O22: 0 | P22: 0 | Q22: =R22-N22-O22-P22 -> 0 | R22: 0 | S22: =IF(J22>0,R22/J22,0)*100 -> 0 | T22: =IF(G22>0,J22/G22,0)*100 -> 0
D23: c2 | E23: transferuri, cf. prevederilor legale în vigoare | F23: 11 | G23: 0 | H23: 0 | I23: 0 | J23: 0 | K23: =N23 -> 0 | L23: =N23+O23 -> 0 | M23: =N23+O23+P23 -> 0 | N23: 0 | O23: 0 | P23: 0 | Q23: =R23-N23-O23-P23 -> 0 | R23: 0 | S23: =IF(J23>0,R23/J23,0)*100 -> 0 | T23: =IF(G23>0,J23/G23,0)*100 -> 0
C24: d) | D24: din producţia de imobilizări productia in curs | F24: 12 | G24: 485462 | H24: 215386 | I24: 250000 | J24: 215386 | K24: =N24 -> 50000 | L24: =N24+O24 -> 100000 | M24: =N24+O24+P24 -> 150000 | N24: 50000 | O24: 50000 | P24: 50000 | Q24: =R24-N24-O24-P24 -> 0 | R24: 150000 | S24: =IF(J24>0,R24/J24,0)*100 -> 69.642409 | T24: =IF(G24>0,J24/G24,0)*100 -> 44.367221
C25: e) | D25: venituri aferente costului producţiei în curs de execuţie | F25: 13 | G25: 340019 | H25: 50031 | I25: -800000 | J25: 50031 | K25: =N25 -> -60000 | L25: =N25+O25 -> -360000 | M25: =N25+O25+P25 -> -460000 | N25: -60000 | O25: -300000 | P25: -100000 | Q25: =R25-N25-O25-P25 -> 0 | R25: -460000 | S25: 0 | T25: 0
C26: f) | D26: alte venituri din exploatare (Rd.15+Rd.16+Rd.19+Rd.20+Rd.21), din care: | F26: 14 | G26: =G27+G28+G31+G32+G33 -> 93058 | H26: =H27+H28+H31+H32+H33 -> 140202 | I26: =I27+I28+I31+I32+I33 -> 120000 | J26: =J27+J28+J31+J32+J33 -> 140202 | K26: =N26 -> 62000 | L26: =N26+O26 -> 120000 | M26: =N26+O26+P26 -> 155000 | N26: =N27+N28+N31+N32+N33 -> 62000 | O26: =O27+O28+O31+O32+O33 -> 58000 | P26: =P27+P28+P31+P32+P33 -> 35000 | Q26: =R26-N26-O26-P26 -> 35000 | R26: =R27+R28+R31+R32+R33 -> 190000 | S26: =IF(J26>0,R26/J26,0)*100 -> 135.51875 | T26: =IF(G26>0,J26/G26,0)*100 -> 150.66088
D27: f1) | E27: din amenzi şi penalităţi | F27: 15 | G27: 30367 | H27: 35650 | I27: 60000 | J27: 35650 | K27: =N27 -> 2000 | L27: =N27+O27 -> 30000 | M27: =N27+O27+P27 -> 40000 | N27: 2000 | O27: 28000 | P27: 10000 | Q27: =R27-N27-O27-P27 -> 0 | R27: 40000 | S27: =IF(J27>0,R27/J27,0)*100 -> 112.20196 | T27: =IF(G27>0,J27/G27,0)*100 -> 117.39717
D28: f2) | E28: din vânzarea activelor şi alte operaţii de capital (Rd.18+Rd.19), din care: | F28: 16 | G28: =G29+G30 -> 0 | H28: =H29+H30 -> 0 | I28: =I29+I30 -> 50000 | J28: =J29+J30 -> 0 | K28: =N28 -> 50000 | L28: =N28+O28 -> 75000 | M28: =N28+O28+P28 -> 100000 | N28: =N29+N30 -> 50000 | O28: =O29+O30 -> 25000 | P28: =P29+P30 -> 25000 | Q28: =R28-N28-O28-P28 -> 0 | R28: =R29+R30 -> 100000 | S28: =IF(J28>0,R28/J28,0)*100 -> 0 | T28: =IF(G28>0,J28/G28,0)*100 -> 0
E29: - active corporale | F29: 17 | G29: 0 | H29: 0 | I29: 50000 | J29: 0 | K29: =N29 -> 50000 | L29: =N29+O29 -> 75000 | M29: =N29+O29+P29 -> 100000 | N29: 50000 | O29: 25000 | P29: 25000 | Q29: =R29-N29-O29-P29 -> 0 | R29: 100000 | S29: =IF(J29>0,R29/J29,0)*100 -> 0 | T29: =IF(G29>0,J29/G29,0)*100 -> 0
E30: - active necorporale | F30: 18 | G30: 0 | H30: 0 | I30: 0 | J30: 0 | K30: =N30 -> 0 | L30: =N30+O30 -> 0 | M30: =N30+O30+P30 -> 0 | N30: 0 | O30: 0 | P30: 0 | Q30: =R30-N30-O30-P30 -> 0 | R30: 0 | S30: =IF(J30>0,R30/J30,0)*100 -> 0 | T30: =IF(G30>0,J30/G30,0)*100 -> 0
D31: f3) | E31: din subvenţii pentru investiţii | F31: 19 | G31: 0 | H31: 0 | I31: 0 | J31: 0 | K31: =N31 -> 0 | L31: =N31+O31 -> 0 | M31: =N31+O31+P31 -> 0 | N31: 0 | O31: 0 | P31: 0 | Q31: =R31-N31-O31-P31 -> 0 | R31: 0 | S31: =IF(J31>0,R31/J31,0)*100 -> 0 | T31: =IF(G31>0,J31/G31,0)*100 -> 0
D32: f4) | E32: din valorificarea certificatelor CO2 | F32: 20 | G32: 0 | H32: 0 | I32: 0 | J32: 0 | K32: =N32 -> 0 | L32: =N32+O32 -> 0 | M32: =N32+O32+P32 -> 0 | N32: 0 | O32: 0 | P32: 0 | Q32: =R32-N32-O32-P32 -> 0 | R32: 0 | S32: =IF(J32>0,R32/J32,0)*100 -> 0 | T32: =IF(G32>0,J32/G32,0)*100 -> 0
D33: f5) | E33: alte venituri | F33: 21 | G33: 62691 | H33: 104552 | I33: 10000 | J33: 104552 | K33: =N33 -> 10000 | L33: =N33+O33 -> 15000 | M33: =N33+O33+P33 -> 15000 | N33: 10000 | O33: 5000 | P33: 0 | Q33: =R33-N33-O33-P33 -> 35000 | R33: 50000 | S33: =IF(J33>0,R33/J33,0)*100 -> 47.823093 | T33: =IF(G33>0,J33/G33,0)*100 -> 166.77354
B34: 2 | D34: Venituri financiare (Rd.23+Rd.24+Rd.25+Rd.26+Rd.27), din care: | F34: 22 | G34: =G35+G36+G37+G38+G39 -> 1998 | H34: =H35+H36+H37+H38+H39 -> 56529 | I34: =I35+I36+I37+I38+I39 -> 10000 | J34: =J35+J36+J37+J38+J39 -> 56529 | K34: =N34 -> 80500 | L34: =N34+O34 -> 81000 | M34: =N34+O34+P34 -> 81500 | N34: =N35+N36+N37+N38+N39 -> 80500 | O34: =O35+O36+O37+O38+O39 -> 500 | P34: =P35+P36+P37+P38+P39 -> 500 | Q34: =R34-N34-O34-P34 -> 500 | R34: =R35+R36+R37+R38+R39 -> 82000 | S34: =IF(J34>0,R34/J34,0)*100 -> 145.05829 | T34: =IF(G34>0,J34/G34,0)*100 -> 2829.2793
C35: a) | D35: din imobilizări financiare | F35: 23 | G35: 0 | H35: 54633 | I35: 0 | J35: 54633 | K35: =N35 -> 80000 | L35: =N35+O35 -> 80000 | M35: =N35+O35+P35 -> 80000 | N35: 80000 | O35: 0 | P35: 0 | Q35: =R35-N35-O35-P35 -> 0 | R35: 80000 | S35: =IF(J35>0,R35/J35,0)*100 -> 146.43164 | T35: =IF(G35>0,J35/G35,0)*100 -> 0
C36: b) | D36: din investiţii financiare | F36: 24 | G36: 0 | H36: 0 | I36: 0 | J36: 0 | K36: =N36 -> 0 | L36: =N36+O36 -> 0 | M36: =N36+O36+P36 -> 0 | N36: 0 | O36: 0 | P36: 0 | Q36: =R36-N36-O36-P36 -> 0 | R36: 0 | S36: =IF(J36>0,R36/J36,0)*100 -> 0 | T36: =IF(G36>0,J36/G36,0)*100 -> 0
C37: c) | D37: din diferenţe de curs | F37: 25 | G37: 0 | H37: 0 | I37: 1000 | J37: 0 | K37: =N37 -> 0 | L37: =N37+O37 -> 0 | M37: =N37+O37+P37 -> 0 | N37: 0 | O37: 0 | P37: 0 | Q37: =R37-N37-O37-P37 -> 0 | R37: 0 | S37: =IF(J37>0,R37/J37,0)*100 -> 0 | T37: =IF(G37>0,J37/G37,0)*100 -> 0
C38: d) | D38: din dobânzi | F38: 26 | G38: 1998 | H38: 1896 | I38: 9000 | J38: 1896 | K38: =N38 -> 500 | L38: =N38+O38 -> 1000 | M38: =N38+O38+P38 -> 1500 | N38: 500 | O38: 500 | P38: 500 | Q38: =R38-N38-O38-P38 -> 500 | R38: 2000 | S38: =IF(J38>0,R38/J38,0)*100 -> 105.48523 | T38: =IF(G38>0,J38/G38,0)*100 -> 94.894895
C39: e) | D39: alte venituri financiare | F39: 27 | G39: 0 | H39: 0 | I39: 0 | J39: 0 | K39: =N39 -> 0 | L39: =N39+O39 -> 0 | M39: =N39+O39+P39 -> 0 | N39: 0 | O39: 0 | P39: 0 | Q39: =R39-N39-O39-P39 -> 0 | R39: 0 | S39: =IF(J39>0,R39/J39,0)*100 -> 0 | T39: =IF(G39>0,J39/G39,0)*100 -> 0
B40: 3 | D40: Venituri extraordinare | F40: 28 | G40: 0 | H40: 0 | I40: 0 | J40: 0 | K40: =N40 -> 0 | L40: =N40+O40 -> 0 | M40: =N40+O40+P40 -> 0 | N40: 0 | O40: 0 | P40: 0 | Q40: =R40-N40-O40-P40 -> 0 | R40: 0 | S40: =IF(J40>0,R40/J40,0)*100 -> 0 | T40: =IF(G40>0,J40/G40,0)*100 -> 0
A41: II | B41: CHELTUIELI TOTALE (Rd.30+Rd.136+Rd.144) | F41: 29 | G41: =G42+G150+G158 -> 22750004 | H41: =H42+H150+H158 -> 20408981 | I41: =I42+I150+I158 -> 22577585 | J41: =J42+J150+J158 -> 20408981 | K41: =N41 -> 3348362.1 | L41: =N41+O41 -> 10611626 | M41: =N41+O41+P41 -> 17266890 | N41: =N42+N150+N158 -> 3348362.1 | O41: =O42+O150+O158 -> 7263263.9 | P41: =P42+P150+P158 -> 6655263.9 | Q41: =R41-N41-O41-P41 -> 4501421.9 | R41: =R42+R150+R158 -> 21768312 | S41: =IF(J41>0,R41/J41,0)*100 -> 106.66045 | T41: =IF(G41>0,J41/G41,0)*100 -> 89.709791
...

Sheet Anexa 3
A1: Anexa nr. 3 la Hotararea Consiliului Judetean
A2: Bistrita Nasaud nr. 74 din 31.05.2017
B6: Gradul de realizare a veniturilor totale
H8: Mii lei
A9: Nr | B9: INDICATORI | C9: Prevederi an (N-2) 2015 | E9: % 4=3/2 | F9: Prevederi an (N-1) 2016 | H9: % 7=6/5
A10: Crt | C10: Aprobat | D10: Realizat | F10: Aprobat | G10: Realizat
A11: 0 | B11: 1 | C11: 2 | D11: 3 | E11: 4 | F11: 5 | G11: 6 | H11: 7
A12: I. | B12: Venituri totale (rd.1+rd.2+rd.3), din care: | C12: =SUM(C13:C15) -> 24000 | D12: =SUM(D13:D15) -> 22992 | E12: =D12/C12*100 -> 95.8 | F12: =F13+F14+F15 -> 22980 | G12: =G13+G14 -> 20449 | H12: =G12/F12*100 -> 88.986075
A13: 1 | B13: Venituri din exploatare | C13: 23990 | D13: 22991 | E13: =D13/C13*100 -> 95.835765 | F13: 22970 | G13: 20392 | H13: =G13/F13*100 -> 88.776665
A14: 2. | B14: Venituri financiare | C14: 10 | D14: 1 | E14: =D14/C14*100 -> 10 | F14: 10 | G14: 57 | H14: =G14/F14*100 -> 570
A15: 3. | B15: Venituri extraordinare | C15: 0 | D15: 0 | E15: 0 | F15: 0 | G15: 0 | H15: 0
B30: Întocmit: BD/GP

Sheet Anexa 4
H1: Anexa nr.4
A2: Programul de investiţii, dotări şi sursele de finanţare
I4: mii lei
C5: INDICATORI | D5: Data finalizării investiţiei | E5: an precedent 2016 | G5: Valoare
E6: Aprobat | F6: Realizat/ Preliminat | G6: an curent 2017 | H6: an 2018 | I6: an 2019
A7: 0 | B7: 1 | C7: 2 | D7: 3 | E7: 4 | F7: 5 | G7: 6 | H7: 7 | I7: 8
A8: I | C8: SURSE DE FINANŢARE A INVESTIŢIILOR, din care: | E8: =E9+E12+E13+E16 -> 2480 | F8: =F9+F12+F13+F16 -> 1189 | G8: =G9+G12+G13+G16 -> 2618 | H8: =H9+H12+H13+H16 -> 3053 | I8: =I9+I12+I13+I16 -> 5153
B9: 1 | C9: Surse proprii, din care: | E9: =E10+E11 -> 1480 | F9: =F10+F11 -> 1189 | G9: =G10+G11 -> 1115 | H9: =H10+H11 -> 1300 | I9: =I10+I11 -> 1400
C10: a) - amortizare | E10: 1280 | F10: 1099 | G10: 1100 | H10: 1200 | I10: 1300
C11: b) - profit | E11: 200 | F11: 90 | G11: 15 | H11: 100 | I11: 100
B12: 2 | C12: Alocaţii de la buget
B13: 3 | C13: Credite bancare, din care: | E13: =E14+E15 -> 1000 | F13: =F14 -> 0 | G13: =G14+G15 -> 1000 | H13: =H14+H15 -> 1000 | I13: =I14+I15 -> 1000
C14: a) - interne | E14: 1000 | F14: 0 | G14: 1000 | H14: 1000 | I14: 1000
C15: b) - externe
B16: 4 | C16: Alte surse, din care: | F16: =F17 -> 0 | G16: =G17 -> 503 | H16: =H17 -> 753 | I16: =I17 -> 2753
C17: Excedent an anterior | G17: =F8-F18 -> 503 | H17: =G8-G18 -> 753 | I17: =H8-H18 -> 2753
A18: II | C18: CHELTUIELI PENTRU INVESTIŢII, din care: | E18: =E19+E27+E54+E40 -> 2471 | F18: =F19+F27+F55+F40 -> 686 | G18: =G19+G27+G55+G40 -> 1865 | H18: =H19+H27+H55 -> 300 | I18: =I19+I27+I55 -> 300
B19: 1 | C19: Investiţii în curs, din care: | E19: =SUM(E20:E26) -> 0 | F19: =F20 -> 0 | G19: =SUM(G20:G26) -> 0
C20: a) pentru bunurile proprietatea privata a operatorului economic:
C21: b) pentru bunurile de natura domeniului public al statului sau al unităţii administrativ teritoriale:
C22: - (denumire obiectiv)
C23: c) pentru bunurile de natura domeniului privat al statului sau al unităţii administrativ teritoriale:
C24: - (denumire obiectiv)
C25: d) pentru bunurile luate în concesiune, închiriate sau în locaţie de gestiune, exclusiv cele din domeniul public sau privat al statului sau al unităţii administrativ teritoriale:
C26: - (denumire obiectiv)
B27: 2 | C27: Investiţii noi, din care: | E27: =E28 -> 471 | F27: =F28 -> 87 | G27: =G28 -> 1215 | H27: =H28 -> 0 | I27: =I28 -> 0
C28: a) pentru bunurile proprietatea privata a operatorului economic: | E28: =SUM(E29:E33) -> 471 | F28: =SUM(F29:F33) -> 87 | G28: =SUM(G29:G33) -> 1215 | H28: =SUM(H29:H33) -> 0 | I28: =SUM(I29:I33) -> 0
C29: ECHIPAMENT MICA MECANIZARE | E29: 125 | F29: 72 | G29: 100
C30: APARATURA LABORATOR | E30: 50 | F30: 15 | G30: 100
C31: EXCAVATOR 16-18 TO | E31: 296 | F31: 0 | G31: 300
C32: CILINDRII ASFALT 8-12 TO 2 BUC | G32: 675
C33: STATIE TOTALA TOPOGRAFIE | G33: 40
C34: b) pentru bunurile de natura domeniului public al statului sau al unităţii administrativ teritoriale:
C35: - (denumire obiectiv)
C36: c) pentru bunurile de natura domeniului privat al statului sau al unităţii administrativ teritoriale:
C37: - (denumire obiectiv)
C38: d) pentru bunurile luate în concesiune, închiriate sau în locaţie de gestiune, exclusiv cele din domeniul public sau privat al statului sau al unităţii administrativ teritoriale:
C39: - (denumire obiectiv)
B40: 3 | C40: Investiţii efectuate la imobilizările corporale existente (modernizări), din care: | E40: =SUM(E41) -> 1500 | F40: =F41 -> 431 | G40: =SUM(G41) -> 350 | H40: =SUM(H41) -> 0 | I40: =SUM(I41) -> 0
C41: a) pentru bunurile proprietatea privata a operatorului economic: | E41: =SUM(E42:E45) -> 1500 | F41: =SUM(F42:F45) -> 431 | G41: =SUM(G42:G46) -> 350
...

Sheet anexa5
L1: Anexa nr.5
B3: Măsuri de îmbunătăţire a rezultatului brut şi reducere a plăţilor restante
L6: mii lei
A7: Nr.crt. | B7: Măsuri | D7: Termen de realizare | E7: an precedent (2016) | G7: an curent (2017 | I7: an 2018 | K7: an 2019
E8: Preliminat / Realizat | G8: Influenţe (+/-) | I8: Influenţe (+/-) | K8: Influenţe (+/-)
E9: Rezultat brut (+/-) | F9: Plăţi restante | G9: Rezultat brut | H9: Plăţi restante | I9: Rezultat brut | J9: Plăţi restante | K9: Rezultat brut | L9: Plăţi restante
A10: 0 | B10: 1 | D10: 2 | E10: 3 | F10: 4 | G10: 5 | H10: 6 | I10: 7 | J10: 8 | K10: 9 | L10: 10
A11: Pct. I | B11: Măsuri de îmbunătăţire a rezultatului brut şi reducere a plăţilor restante
A12: 1 | B12: Realizarea veniturilor programate | E12: 400 | F12: X | G12: 200 | I12: 100 | K12: 100
A13: 2 | B13: Diminuarea cheltuielilor financiare | E13: 66 | F13: X | G13: 0 | I13: 50 | K13: 50
A14: 3 | B14: Cresterea productivitatii | E14: 150 | F14: X | G14: 400 | I14: 50 | K14: 100
B15: TOTAL Pct. I | E15: =SUM(E12:E14) -> 616 | F15: X | G15: =SUM(G12:G14) -> 600 | H15: =SUM(H12:H14) -> 0 | I15: =SUM(I12:I14) -> 200 | J15: =SUM(J12:J14) -> 0 | K15: =SUM(K12:K14) -> 250 | L15: 0
A16: Pct. II | B16: Cauze care diminuează efectul măsurilor prevăzute la Pct. I
A17: 1 | B17: Crestere cheltuelilor salariale | E17: 300 | F17: X | G17: 100 | I17: 150 | K17: 200
A18: 2 | B18: Imposibilitatea actualizarii contractelor | E18: 300 | F18: X | G18: 200 | I18: 50 | K18: 50
B19: TOTAL Pct. II | E19: =SUM(E17:E18) -> 600 | F19: X | G19: =SUM(G17:G18) -> 300 | H19: =SUM(H17:H18) -> 0 | I19: =SUM(I17:I18) -> 200 | J19: =SUM(J17:J18) -> 0 | K19: =SUM(K17:K18) -> 250 | L19: 0
A20: Pct. III | B20: TOTAL GENERAL Pct. I + Pct. II | E20: =E15+-E19 -> 16 | G20: =G15+-G19 -> 300 | H20: =H15+-H19 -> 0 | I20: =I15+-I19 -> 0 | J20: =J15+-J19 -> 0 | K20: =K15+-K19 -> 0 | L20: 0
C23: CONDUCĂTORUL UNITĂŢII, | J23: CONDUCĂTORUL COMPARTIMENTULUI
J24: FINANCIAR CONTABIL
