Workbook

Sheet ANEXA1
A1: AUTORITATEA ADMINISTRAŢIEI PUBLICE LOCALE | F1: CONSILIUL JUDETEAN BISTRITA NASAUD
A2: Operatorul economic LUCRARI DRUMURIPODURI SA
A3: Sediul/Adresa BISTRITA, STR CUZA VODA NR 17A
A4: Cod unic de înregistrare 571198
L5: Anexa nr.1
A6: BUGETUL DE VENITURI ŞI CHELTUIELI PE ANUL 2017
M8: mii lei
D9: INDICATORI | F9: Nr. rd. | G9: Realizat/ Preliminat an precedent (2016) | H9: Propuneri an curent (2017) | I9: % | J9: Estimări an 2018 | K9: Estimări an 2019 | L9: %
L10: 9=7/5 | M10: 10=8/7
A11: 0 | B11: 1 | D11: 2 | F11: 3 | G11: 4 | H11: 5 | I11: 6=5/4 | J11: 7 | K11: 8 | L11: 9 | M11: 10
A12: I. | D12: VENITURI TOTALE (Rd.1=Rd.2+Rd.5+Rd.6) | F12: 1 | G12: =G13+G16 -> 20448.409 | H12: =H13+H16 -> 22002 | I12: =H12/G12*100 -> 107.59761 | J12: =H12*1.025 -> 22552.05 | K12: =H12*1.038 -> 22838.076 | L12: =J12/H12*100 -> 102.5 | M12: =K12/J12*100 -> 101.26829
B13: 1 | D13: Venituri totale din exploatare, din care: | F13: 2 | G13: =ANEXA2!J14/1000 -> 20391.88 | H13: =ANEXA2!R14/1000 -> 21920 | I13: =H13/G13*100 -> 107.49377 | J13: =H13*1.025 -> 22468 | K13: =H13*1.038 -> 22752.96 | L13: =J13/H13*100 -> 102.5 | M13: =K13/J13*100 -> 101.26829
D14: a) | E14: subvenţii, cf. prevederilor legale în vigoare | F14: 3 | G14: 0 | H14: 0 | I14: 0 | J14: =H14*1.025 -> 0 | K14: =H14*1.038 -> 0
D15: b) | E15: transferuri, cf. prevederilor legale în vigoare | F15: 4
B16: 2 | D16: Venituri financiare | F16: 5 | G16: =ANEXA2!J34/1000 -> 56.529 | H16: =ANEXA2!R34/1000 -> 82 | I16: =H16/G16*100 -> 145.05829 | J16: =H16*1.025 -> 84.05 | K16: =H16*1.038 -> 85.116 | L16: =J16/H16*100 -> 102.5 | M16: =K16/J16*100 -> 101.26829
B17: 3 | D17: Venituri extraordinare | F17: 6
A18: II | D18: CHELTUIELI TOTALE (Rd.7=Rd.8+Rd.20+Rd.21) | F18: 7 | G18: =G19+G31+G32 -> 20408.981 | H18: =H19+H31+H32 -> 21768.312 | I18: =H18/G18*100 -> 106.66045 | J18: =H18*1.025 -> 22312.52 | K18: =H18*1.038 -> 22595.508 | L18: =J18/H18*100 -> 102.5 | M18: =K18/J18*100 -> 101.26829
B19: 1 | D19: Cheltuieli de exploatare, din care: | F19: 8 | G19: =G20+G21+G22+G30 -> 20232.756 | H19: =H20+H21+H22+H30 -> 21588.312 | I19: =H19/G19*100 -> 106.69981 | J19: =H19*1.025 -> 22128.02 | K19: =H19*1.038 -> 22408.668 | L19: =J19/H19*100 -> 102.5 | M19: =K19/J19*100 -> 101.26829
C20: A. | D20: cheltuieli cu bunuri si servicii | F20: 9 | G20: =ANEXA2!J43/1000 -> 15344.18 | H20: =ANEXA2!R43/1000 -> 16342 | I20: =H20/G20*100 -> 106.50292 | J20: =H20*1.025 -> 16750.55 | K20: =H20*1.038 -> 16962.996 | L20: =J20/H20*100 -> 102.5 | M20: =K20/J20*100 -> 101.26829
C21: B. | D21: cheltuieli cu impozite, taxe si varsaminte asimilate | F21: 10 | G21: =ANEXA2!J92/1000 -> 348.032 | H21: =ANEXA2!R92/1000 -> 380 | I21: =H21/G21*100 -> 109.18536 | J21: =H21*1.025 -> 389.5 | K21: =H21*1.038 -> 394.44 | L21: =J21/H21*100 -> 102.5 | M21: =K21/J21*100 -> 101.26829
C22: C. | D22: cheltuieli cu personalul, din care: | F22: 11 | G22: =G23+G28+G29 -> 3433.722 | H22: =H23+H28+H29 -> 3746.3117 | I22: =H22/G22*100 -> 109.10352 | J22: =H22*1.025 -> 3839.9695 | K22: =H22*1.038 -> 3888.6716 | L22: =J22/H22*100 -> 102.5 | M22: =K22/J22*100 -> 101.26829
D23: C0 | E23: Cheltuieli de natură salarială(Rd.13+Rd.14) | F23: 12 | G23: =G24+G25 -> 2681.277 | H23: =H24+H25 -> 3000 | I23: =H23/G23*100 -> 111.88699 | J23: =H23*1.025 -> 3075 | K23: =H23*1.038 -> 3114 | L23: =J23/H23*100 -> 102.5 | M23: =K23/J23*100 -> 101.26829
D24: C1 | E24: ch. cu salariile | F24: 13 | G24: =ANEXA2!J101/1000 -> 2421.83 | H24: =ANEXA2!R101/1000 -> 2640 | I24: =H24/G24*100 -> 109.00848 | J24: =H24*1.025 -> 2706 | K24: =H24*1.038 -> 2740.32 | L24: =J24/H24*100 -> 102.5 | M24: =K24/J24*100 -> 101.26829
D25: C2 | E25: bonusuri | F25: 14 | G25: =ANEXA2!J105/1000 -> 259.447 | H25: =ANEXA2!R105/1000 -> 360 | I25: =H25/G25*100 -> 138.75666 | J25: =H25*1.025 -> 369 | K25: =H25*1.038 -> 373.68 | L25: =J25/H25*100 -> 102.5 | M25: =K25/J25*100 -> 101.26829
D26: C3 | E26: alte cheltuieli cu personalul, din care: | F26: 15
E27: cheltuieli cu plati compensatorii aferente disponibilizarilor de personal | F27: 16
D28: C4 | E28: Cheltuieli aferente contractului de mandat si a altor organe de conducere si control, comisii si comitete | F28: 17 | G28: =ANEXA2!J117/1000 -> 159.932 | H28: =ANEXA2!R117/1000 -> 116.64 | I28: =H28/G28*100 -> 72.930996 | J28: =H28*1.025 -> 119.556 | K28: =H28*1.038 -> 121.07232 | L28: =J28/H28*100 -> 102.5 | M28: =K28/J28*100 -> 101.26829
D29: C5 | E29: cheltuieli cu asigurările şi protecţia socială, fondurile speciale şi alte obligaţii legale | F29: 18 | G29: =ANEXA2!J126/1000 -> 592.513 | H29: =ANEXA2!R126/1000 -> 629.67171 | I29: =H29/G29*100 -> 106.27137 | J29: =H29*1.025 -> 645.4135 | K29: =H29*1.038 -> 653.59923 | L29: =J29/H29*100 -> 102.5 | M29: =K29/J29*100 -> 101.26829
C30: D. | D30: alte cheltuieli de exploatare | F30: 19 | G30: =ANEXA2!J133/1000 -> 1106.822 | H30: =ANEXA2!R133/1000 -> 1120 | I30: =H30/G30*100 -> 101.19062 | J30: =H30*1.025 -> 1148 | K30: =H30*1.038 -> 1162.56 | L30: =J30/H30*100 -> 102.5 | M30: =K30/J30*100 -> 101.26829
B31: 2 | D31: Cheltuieli financiare | F31: 20 | G31: =ANEXA2!J150/1000 -> 176.225 | H31: =ANEXA2!R150/1000 -> 180 | I31: =H31/G31*100 -> 102.14215 | J31: =H31*1.025 -> 184.5 | K31: =H31*1.038 -> 186.84 | L31: =J31/H31*100 -> 102.5 | M31: =K31/J31*100 -> 101.26829
B32: 3 | D32: Cheltuieli extraordinare | F32: 21 | G32: 0 | H32: 0
A33: III | D33: REZULTATUL BRUT (profit/pierdere) | F33: 22 | G33: =G12-G18 -> 39.428 | H33: =H12-H18 -> 233.68829 | I33: =H33/G33*100 -> 592.69628 | J33: =H33*1.025 -> 239.5305 | K33: =H33*1.038 -> 242.56845 | L33: =J33/H33*100 -> 102.5 | M33: =K33/J33*100 -> 101.26829
A34: IV | D34: IMPOZIT PE PROFIT | F34: 23 | G34: =ANEXA2!J162/1000 -> 10.356 | H34: =ANEXA2!$R$162/1000 -> 43.6 | I34: =H34/G34*100 -> 421.01197 | J34: =H34*1.025 -> 44.69 | K34: =H34*1.038 -> 45.2568 | L34: =J34/H34*100 -> 102.5 | M34: =K34/J34*100 -> 101.26829
A35: V | D35: PROFITUL CONTABIL RĂMAS DUPĂ DEDUCEREA IMPOZITULUI PE PROFIT, din care: | F35: 24 | G35: =G33-G34 -> 29.072 | H35: =H33-H34 -> 190.08829 | I35: =H35/G35*100 -> 653.85351 | J35: =J33-J34 -> 194.8405 | K35: =K33-K34 -> 197.31165 | L35: =J35/H35*100 -> 102.5 | M35: =K35/J35*100 -> 101.26829
B36: 1 | D36: Rezerve legale | F36: 25 | G36: 0 | H36: 0
B37: 2 | D37: Alte rezerve reprezentând facilităţi fiscale prevăzute de lege | F37: 26
B38: 3 | D38: Acoperirea pierderilor contabile din anii precedenţi | F38: 27
B39: 4 | D39: Constituirea surselor proprii de finanţare pentru proiectele cofinanţate din împrumuturi externe, precum şi pentru constituirea surselor necesare rambursării ratelor de capital, plaţii dobânzilor, comisioanelor şi altor costuri aferente acestor împrumuturi | F39: 28
B40: 5 | D40: Alte repartizări prevăzute de lege | F40: 29
B41: 6 | D41: Profitul contabil rămas după deducerea sumelor de la Rd. 25, 26, 27, 28, 29 | F41: 30
B42: 7 | D42: Participarea salariaţilor la profit în limita a 10% din profitul net, dar nu mai mult de nivelul unui salariu de bază mediu lunar realizat la nivelul operatorului economic în exerciţiul financiar de referinţă | F42: 31 | G42: 0 | H42: =H35*0.1 -> 19.008829 | I42: 0 | J42: =J35*0.1 -> 19.48405 | K42: =K35*0.1 -> 19.731165 | L42: =J42/H42*100 -> 102.5 | M42: =K42/J42*100 -> 101.26829
B43: 8 | D43: Minimim 50% vărsăminte la bugetul de stat sau local în cazul regiilor autonome, ori dividende cuvenite actionarilor, în cazul societăţilor/ companiilor naţionale şi societăţilor cu capital integral sau majoritar de stat, din care: | F43: 32 | G43: =G35*0.5 -> 14.536 | H43: =H35*0.5 -> 95.044146 | I43: =H43/G43*100 -> 653.85351 | J43: =J35*0.5 -> 97.420249 | K43: =K35*0.5 -> 98.655823 | L43: =J43/H43*100 -> 102.5 | M43: =K43/J43*100 -> 101.26829
C44: a) | D44: - dividende cuvenite bugetului de stat | F44: 33
C45: b) | D45: - dividende cuvenite bugetului local | F45: 33a | G45: =G43 -> 14.536 | H45: =H43 -> 95.044146 | I45: =H45/G45*100 -> 653.85351 | J45: =J43 -> 97.420249 | K45: =K43 -> 98.655823 | L45: =J45/H45*100 -> 102.5 | M45: =K45/J45*100 -> 101.26829
C46: c) | D46: - dividende cuvenite altor acţionari | F46: 34
B47: 9 | D47: Profitul nerepartizat pe destinaţiile prevăzute la Rd.31 - Rd.32 se repartizează la alte rezerve şi constituie sursă proprie de finanţare | F47: 35 | G47: =G35-G42-G43 -> 14.536 | H47: =H35-H42-H43 -> 76.035316 | I47: =H47/G47*100 -> 523.0828 | J47: =J35-J45-J42 -> 77.936199 | K47: =K35-K45-K42 -> 78.924659 | L47: =J47/H47*100 -> 102.5 | M47: =K47/J47*100 -> 101.26829
A48: VI | D48: VENITURI DIN FONDURI EUROPENE | F48: 36
A49: VII | D49: CHELTUIELI ELIGIBILE DIN FONDURI EUROPENE, din care | F49: 37
C50: a) | D50: cheltuieli materiale | F50: 38
C51: b) | D51: cheltuieli cu salariile | F51: 39
C52: c) | D52: cheltuieli privind prestarile de servicii | F52: 40
C53: d) | D53: cheltuieli cu reclama si publicitate | F53: 41
C54: e) | D54: alte cheltuieli | F54: 42
A55: VIII | D55: SURSE DE FINANŢARE A INVESTIŢIILOR, din care: | F55: 43 | G55: ='Anexa 4'!$F$8 -> 1189 | H55: ='Anexa 4'!G8 -> 2618 | I55: =H55/G55*100 -> 220.18503 | J55: ='Anexa 4'!$H$8 -> 3053 | K55: ='Anexa 4'!$I$8 -> 5153 | L55: =J55/H55*100 -> 116.61574 | M55: =K55/J55*100 -> 168.7848
B56: 1 | D56: Alocaţii de la buget | F56: 44
E57: alocaţii bugetare aferente plăţii angajamentelor din anii anteriori | F57: 45
A58: IX | D58: CHELTUIELI PENTRU INVESTIŢII | F58: 46 | G58: ='Anexa 4'!$F$18 -> 686 | H58: ='Anexa 4'!$G$18 -> 1865 | I58: =H58/G58*100 -> 271.86589 | J58: ='Anexa 4'!$H$18 -> 300 | K58: ='Anexa 4'!$I$18 -> 300 | L58: =J58/H58*100 -> 16.085791 | M58: =K58/J58*100 -> 100
A59: X | D59: DATE DE FUNDAMENTARE | F59: 47
B60: 1 | D60: Nr. de personal prognozat la finele anului | F60: 48 | G60: 115 | H60: =ANEXA2!R166 -> 110 | I60: =H60/G60*100 -> 95.652174 | J60: 115 | K60: 115 | L60: =J60/H60*100 -> 104.54545 | M60: =K60/J60*100 -> 100
B61: 2 | D61: Nr.mediu de salariaţi total | F61: 49 | G61: 125 | H61: =ANEXA2!R167 -> 107 | I61: =H61/G61*100 -> 85.6 | J61: 125 | K61: 125 | L61: =J61/H61*100 -> 116.82243 | M61: =K61/J61*100 -> 100
B62: 3 | D62: Castigul mediu lunar pe salariat (lei/persoană) determinat pe baza cheltuielilor de natură salarială (Rd.12/Rd.49)/12*1000 | F62: 50 | G62: =G23/G61*1000/12 -> 1787.518 | H62: =H23/H61*1000/12 -> 2336.4486 | I62: =H62/G62*100 -> 130.70909 | J62: =J23/J61*1000/12 -> 2050 | K62: =K23/K61*1000/12 -> 2076 | L62: =J62/H62*100 -> 87.74 | M62: =K62/J62*100 -> 101.26829
B63: 4 | D63: Castigul mediu lunar pe salariat deterninat pe baza cheltuielilor cu salariile (lei/persoană) (Rd.13/Rd.49)/12*1000 | F63: 51 | G63: =G24/G61*1000/12 -> 1614.5533 | H63: =H24/H61*1000/12 -> 2056.0748 | I63: =H63/G63*100 -> 127.34635 | J63: =J24/J61*1000/12 -> 1804 | K63: =K24/K61*1000/12 -> 1826.88 | L63: =J63/H63*100 -> 87.74 | M63: =K63/J63*100 -> 101.26829
B64: 5 | D64: Productivitatea muncii în unităţi valorice pe total personal mediu (mii lei/persoană) (Rd.2/Rd.49) | F64: 52 | G64: =G13/G61 -> 163.13504 | H64: =H13/H61 -> 204.85981 | I64: =H64/G64*100 -> 125.57683 | J64: =J13/J61 -> 179.744 | K64: =K13/K61 -> 182.02368 | L64: =J64/H64*100 -> 87.74 | M64: =K64/J64*100 -> 101.26829
B65: 6 | D65: Productivitatea muncii în unităţi fizice pe total personal mediu (cantitate produse finite/ persoană) | F65: 53
B66: 7 | D66: Cheltuieli totale la 1000 lei venituri totale (Rd.7/Rd.1)x1000 | F66: 54 | G66: =G18/G12*1000 -> 998.07183 | H66: =H18/H12*1000 -> 989.37877 | I66: =H66/G66*100 -> 99.129015 | J66: =J18/J12*1000 -> 989.37877 | K66: =K18/K12*1000 -> 989.37877 | L66: =J66/H66*100 -> 100 | M66: =K66/J66*100 -> 100
B67: 8 | D67: Plăţi restante | F67: 55 | G67: 100 | H67: 0 | I67: =H67/G67*100 -> 0 | J67: 0 | K67: 0 | L67: 0 | M67: 0
B68: 9 | D68: Creanţe restante | F68: 56 | G68: 1000 | H68: 500 | I68: =H68/G68*100 -> 50 | J68: 1000 | K68: 1000 | L68: =J68/H68*100 -> 200 | M68: =K68/J68*100 -> 100
E73: CONDUCĂTORUL UNITĂŢII, | G73: CONDUCĂTORUL COMPARTIMENTULUI FINANCIAR-CONTABIL

Sheet ANEXA2
A1: AUTORITATEA ADMINISTRAŢIEI PUBLICE LOCALE | F1: CONSILIUL JUDETEAN BISTRITA NASAUD
A2: Operatorul economic LUCRARI DRUMURIPODURI SA
A3: Sediul/Adresa BISTRITA, STR CUZA VODA NR 17A
A4: Cod unic de înregistrare 571198
R5: Anexa nr.2
A6: Detalierea indicatorilor economico-financiari prevăzuţi în bugetul de venituri şi cheltuieli
S8: lei
D9: INDICATORI | F9: Nr. rd. | G9: Realizat in | H9: Prevederi an precedent (2016) | K9: Propuneri an curent (2017) | S9: % | T9: %
G10: 2015 | H10: Aprobat | J10: Preliminat / Realizat | K10: TRIM | L10: TRIM | M10: TRIM | N10: 1 | O10: 2 | P10: 3 | Q10: 4 | R10: an 2017 | S10: 7=6d/5 | T10: 8=5/3a
H11: conform HG/Ordin comun | I11: conform Hotararii C.A. | K11: I | L11: II | M11: III
A12: 0 | B12: 1 | D12: 2 | F12: 3 | G12: 3a | H12: 4 | I12: 4a | J12: 5 | K12: 6a | L12: 6b | M12: 6c | R12: 6d | S12: 7 | T12: 8
A13: I. | D13: VENITURI TOTALE (Rd.2+Rd.22+Rd.28) | F13: 1 | G13: =G14+G34+G40 -> 22992737 | H13: =H14+H34+H40 -> 20448409 | I13: =I14+I34+I40 -> 22980000 | J13: =J14+J34+J40 -> 20448409 | K13: =N13 -> 2002500 | L13: =N13+O13 -> 9226000 | M13: =N13+O13+P13 -> 16546500 | N13: =N14+N34+N40 -> 2002500 | O13: =O14+O34+O40 -> 7223500 | P13: =P14+P34+P40 -> 7320500 | Q13: =R13-N13-O13-P13 -> 5455500 | R13: =R14+R34+R40 -> 22002000 | S13: =IF(J13>0,R13/J13,0)*100 -> 107.59761 | T13: =IF(G13>0,J13/G13,0)*100 -> 88.93421
B14: 1 | D14: Venituri totale din exploatare (Rd.3+Rd.8+Rd.9+Rd.12+Rd.13+Rd.14), din care: | F14: 2 | G14: =G15+G20+G21+G24+G25+G26 -> 22990739 | H14: =H15+H20+H21+H24+H25+H26 -> 20391880 | I14: =I15+I20+I21+I24+I25+I26 -> 22970000 | J14: =J15+J20+J21+J24+J25+J26 -> 20391880 | K14: =N14 -> 1922000 | L14: =N14+O14 -> 9145000 | M14: =N14+O14+P14 -> 16465000 | N14: =N15+N20+N21+N24+N25+N26 -> 1922000 | O14: =O15+O20+O21+O24+O25+O26 -> 7223000 | P14: =P15+P20+P21+P24+P25+P26 -> 7320000 | Q14: =R14-N14-O14-P14 -> 5455000 | R14: =R15+R20+R21+R24+R25+R26 -> 21920000 | S14: =IF(J14>0,R14/J14,0)*100 -> 107.49377 | T14: =IF(G14>0,J14/G14,0)*100 -> 88.696061
C15: a) | D15: din producţia vândută (Rd.4+Rd.5+Rd.6+Rd.7), din care: | F15: 3 | G15: =G16+G17+G18+G19 -> 21955117 | H15: =H16+H17+H18+H19 -> 19907225 | I15: =I16+I17+I18+I19 -> 23200000 | J15: =J16+J17+J18+J19 -> 19907225 | K15: =N15 -> 1855000 | L15: =N15+O15 -> 9170000 | M15: =N15+O15+P15 -> 16435000 | N15: =N16+N17+N18+N19 -> 1855000 | O15: =O16+O17+O18+O19 -> 7315000 | P15: =P16+P17+P18+P19 -> 7265000 | Q15: =R15-N15-O15-P15 -> 5405000 | R15: =R16+R17+R18+R19 -> 21840000 | S15: =IF(J15>0,R15/J15,0)*100 -> 109.70891 | T15: =IF(G15>0,J15/G15,0)*100 -> 90.67237
D16: a1) | E16: din vânzarea produselor | F16: 4 | G16: 655986 | H16: 1160681 | I16: 400000 | J16: 1160681 | K16: =N16 -> 50000 | L16: =N16+O16 -> 350000 | M16: =N16+O16+P16 -> 600000 | N16: 50000 | O16: 300000 | P16: 250000 | Q16: =R16-N16-O16-P16 -> 200000 | R16: 800000 | S16: =IF(J16>0,R16/J16,0)*100 -> 68.925053 | T16: =IF(G16>0,J16/G16,0)*100 -> 176.93686
D17: a2) | E17: din servicii prestate | F17: 5 | G17: 21223666 | H17: 18746544 | I17: 22700000 | J17: 18746544 | K17: =N17 -> 1800000 | L17: =N17+O17 -> 8800000 | M17: =N17+O17+P17 -> 15800000 | N17: 1800000 | O17: 7000000 | P17: 7000000 | Q17: =R17-N17-O17-P17 -> 5200000 | R17: 21000000 | S17: =IF(J17>0,R17/J17,0)*100 -> 112.02065 | T17: =IF(G17>0,J17/G17,0)*100 -> 88.328491
D18: a3) | E18: din redevenţe şi chirii | F18: 6 | G18: 0 | H18: 0 | I18: 0 | J18: 0 | K18: =N18 -> 5000 | L18: =N18+O18 -> 10000 | M18: =N18+O18+P18 -> 15000 | N18: 5000 | O18: 5000 | P18: 5000 | Q18: =R18-N18-O18-P18 -> 5000 | R18: 20000 | S18: =IF(J18>0,R18/J18,0)*100 -> 0 | T18: =IF(G18>0,J18/G18,0)*100 -> 0
D19: a4) | E19: alte venituri | F19: 7 | G19: 75465 | H19: 0 | I19: 100000 | J19: 0 | K19: =N19 -> 0 | L19: =N19+O19 -> 10000 | M19: =N19+O19+P19 -> 20000 | N19: 0 | O19: 10000 | P19: 10000 | Q19: =R19-N19-O19-P19 -> 0 | R19: 20000 | S19: =IF(J19>0,R19/J19,0)*100 -> 0 | T19: =IF(G19>0,J19/G19,0)*100 -> 0
C20: b) | D20: din vânzarea mărfurilor | F20: 8 | G20: 117083 | H20: 79036 | I20: 200000 | J20: 79036 | K20: =N20 -> 15000 | L20: =N20+O20 -> 115000 | M20: =N20+O20+P20 -> 185000 | N20: 15000 | O20: 100000 | P20: 70000 | Q20: =R20-N20-O20-P20 -> 15000 | R20: 200000 | S20: =IF(J20>0,R20/J20,0)*100 -> 253.04924 | T20: =IF(G20>0,J20/G20,0)*100 -> 67.504249
C21: c) | D21: din subvenţii şi transferuri de exploatare aferente cifrei de afaceri nete (Rd.10+Rd.11), din care: | F21: 9 | G21: =G22+G23 -> 0 | H21: =H22+H23 -> 0 | I21: =I22+I23 -> 0 | J21: =J22+J23 -> 0 | K21: =N21 -> 0 | L21: =N21+O21 -> 0 | M21: =N21+O21+P21 -> 0 | N21: =N22+N23 -> 0 | O21: =O22+O23 -> 0 | P21: =P22+P23 -> 0 | Q21: =R21-N21-O21-P21 -> 0 | R21: =R22+R23 -> 0 | S21: =IF(J21>0,R21/J21,0)*100 -> 0 | T21: =IF(G21>0,J21/G21,0)*100 -> 0
D22: c1 | E22: subvenţii, cf. prevederilor legale în vigoare | F22: 10 | G22: 0 | H22: 0 | I22: 0 | J22: 0 | K22: =N22 -> 0 | L22: =N22+O22 -> 0 | M22: =N22+O22+P22 -> 0 | N22: 0 | O22: 0 | P22: 0 | Q22: =R22-N22-O22-P22 -> 0 | R22: 0 | S22: =IF(J22>0,R22/J22,0)*100 -> 0 | T22: =IF(G22>0,J22/G22,0)*100 -> 0
D23: c2 | E23: transferuri, cf. prevederilor legale în vigoare | F23: 11 | G23: 0 | H23: 0 | I23: 0 | J23: 0 | K23: =N23 -> 0 | L23: =N23+O23 -> 0 | M23: =N23+O23+P23 -> 0 | N23: 0 | O23: 0 | P23: 0 | Q23: =R23-N23-O23-P23 -> 0 | R23: 0 | S23: =IF(J23>0,R23/J23,0)*100 -> 0 | T23: =IF(G23>0,J23/G23,0)*100 -> 0
C24: d) | D24: din producţia de imobilizări productia in curs | F24: 12 | G24: 485462 | H24: 215386 | I24: 250000 | J24: 215386 | K24: =N24 -> 50000 | L24: =N24+O24 -> 100000 | M24: =N24+O24+P24 -> 150000 | N24: 50000 | O24: 50000 | P24: 50000 | Q24: =R24-N24-O24-P24 -> 0 | R24: 150000 | S24: =IF(J24>0,R24/J24,0)*100 -> 69.642409 | T24: =IF(G24>0,J24/G24,0)*100 -> 44.367221
C25: e) | D25: venituri aferente costului producţiei în curs de execuţie | F25: 13 | G25: 340019 | H25: 50031 | I25: -800000 | J25: 50031 | K25: =N25 -> -60000 | L25: =N25+O25 -> -360000 | M25: =N25+O25+P25 -> -460000 | N25: -60000 | O25: -300000 | P25: -100000 | Q25: =R25-N25-O25-P25 -> 0 | R25: -460000 | S25: 0 | T25: 0
C26: f) | D26: alte venituri din exploatare (Rd.15+Rd.16+Rd.19+Rd.20+Rd.21), din care: | F26: 14 | G26: =G27+G28+G31+G32+G33 -> 93058 | H26: =H27+H28+H31+H32+H33 -> 140202 | I26: =I27+I28+I31+I32+I33 -> 120000 | J26: =J27+J28+J31+J32+J33 -> 140202 | K26: =N26 -> 62000 | L26: =N26+O26 -> 120000 | M26: =N26+O26+P26 -> 155000 | N26: =N27+N28+N31+N32+N33 -> 62000 | O26: =O27+O28+O31+O32+O33 -> 58000 | P26: =P27+P28+P31+P32+P33 -> 35000 | Q26: =R26-N26-O26-P26 -> 35000 | R26: =R27+R28+R31+R32+R33 -> 190000 | S26: =IF(J26>0,R26/J26,0)*100 -> 135.51875 | T26: =IF(G26>0,J26/G26,0)*100 -> 150.66088
D27: f1) | E27: din amenzi şi penalităţi | F27: 15 | G27: 30367 | H27: 35650 | I27: 60000 | J27: 35650 | K27: =N27 -> 2000 | L27: =N27+O27 -> 30000 | M27: =N27+O27+P27 -> 40000 | N27: 2000 | O27: 28000 | P27: 10000 | Q27: =R27-N27-O27-P27 -> 0 | R27: 40000 | S27: =IF(J27>0,R27/J27,0)*100 -> 112.20196 | T27: =IF(G27>0,J27/G27,0)*100 -> 117.39717
D28: f2) | E28: din vânzarea activelor şi alte operaţii de capital (Rd.18+Rd.19), din care: | F28: 16 | G28: =G29+G30 -> 0 | H28: =H29+H30 -> 0 | I28: =I29+I30 -> 50000 | J28: =J29+J30 -> 0 | K28: =N28 -> 50000 | L28: =N28+O28 -> 75000 | M28: =N28+O28+P28 -> 100000 | N28: =N29+N30 -> 50000 | O28: =O29+O30 -> 25000 | P28: =P29+P30 -> 25000 | Q28: =R28-N28-O28-P28 -> 0 | R28: =R29+R30 -> 100000 | S28: =IF(J28>0,R28/J28,0)*100 -> 0 | T28: =IF(G28>0,J28/G28,0)*100 -> 0
E29: - active corporale | F29: 17 | G29: 0 | H29: 0 | I29: 50000 | J29: 0 | K29: =N29 -> 50000 | L29: =N29+O29 -> 75000 | M29: =N29+O29+P29 -> 100000 | N29: 50000 | O29: 25000 | P29: 25000 | Q29: =R29-N29-O29-P29 -> 0 | R29: 100000 | S29: =IF(J29>0,R29/J29,0)*100 -> 0 | T29: =IF(G29>0,J29/G29,0)*100 -> 0
E30: - active necorporale | F30: 18 | G30: 0 | H30: 0 | I30: 0 | J30: 0 | K30: =N30 -> 0 | L30: =N30+O30 -> 0 | M30: =N30+O30+P30 -> 0 | N30: 0 | O30: 0 | P30: 0 | Q30: =R30-N30-O30-P30 -> 0 | R30: 0 | S30: =IF(J30>0,R30/J30,0)*100 -> 0 | T30: =IF(G30>0,J30/G30,0)*100 -> 0
D31: f3) | E31: din subvenţii pentru investiţii | F31: 19 | G31: 0 | H31: 0 | I31: 0 | J31: 0 | K31: =N31 -> 0 | L31: =N31+O31 -> 0 | M31: =N31+O31+P31 -> 0 | N31: 0 | O31: 0 | P31: 0 | Q31: =R31-N31-O31-P31 -> 0 | R31: 0 | S31: =IF(J31>0,R31/J31,0)*100 -> 0 | T31: =IF(G31>0,J31/G31,0)*100 -> 0
D32: f4) | E32: din valorificarea certificatelor CO2 | F32: 20 | G32: 0 | H32: 0 | I32: 0 | J32: 0 | K32: =N32 -> 0 | L32: =N32+O32 -> 0 | M32: =N32+O32+P32 -> 0 | N32: 0 | O32: 0 | P32: 0 | Q32: =R32-N32-O32-P32 -> 0 | R32: 0 | S32: =IF(J32>0,R32/J32,0)*100 -> 0 | T32: =IF(G32>0,J32/G32,0)*100 -> 0
D33: f5) | E33: alte venituri | F33: 21 | G33: 62691 | H33: 104552 | I33: 10000 | J33: 104552 | K33: =N33 -> 10000 | L33: =N33+O33 -> 15000 | M33: =N33+O33+P33 -> 15000 | N33: 10000 | O33: 5000 | P33: 0 | Q33: =R33-N33-O33-P33 -> 35000 | R33: 50000 | S33: =IF(J33>0,R33/J33,0)*100 -> 47.823093 | T33: =IF(G33>0,J33/G33,0)*100 -> 166.77354
B34: 2 | D34: Venituri financiare (Rd.23+Rd.24+Rd.25+Rd.26+Rd.27), din care: | F34: 22 | G34: =G35+G36+G37+G38+G39 -> 1998 | H34: =H35+H36+H37+H38+H39 -> 56529 | I34: =I35+I36+I37+I38+I39 -> 10000 | J34: =J35+J36+J37+J38+J39 -> 56529 | K34: =N34 -> 80500 | L34: =N34+O34 -> 81000 | M34: =N34+O34+P34 -> 81500 | N34: =N35+N36+N37+N38+N39 -> 80500 | O34: =O35+O36+O37+O38+O39 -> 500 | P34: =P35+P36+P37+P38+P39 -> 500 | Q34: =R34-N34-O34-P34 -> 500 | R34: =R35+R36+R37+R38+R39 -> 82000 | S34: =IF(J34>0,R34/J34,0)*100 -> 145.05829 | T34: =IF(G34>0,J34/G34,0)*100 -> 2829.2793
C35: a) | D35: din imobilizări financiare | F35: 23 | G35: 0 | H35: 54633 | I35: 0 | J35: 54633 | K35: =N35 -> 80000 | L35: =N35+O35 -> 80000 | M35: =N35+O35+P35 -> 80000 | N35: 80000 | O35: 0 | P35: 0 | Q35: =R35-N35-O35-P35 -> 0 | R35: 80000 | S35: =IF(J35>0,R35/J35,0)*100 -> 146.43164 | T35: =IF(G35>0,J35/G35,0)*100 -> 0
C36: b) | D36: din investiţii financiare | F36: 24 | G36: 0 | H36: 0 | I36: 0 | J36: 0 | K36: =N36 -> 0 | L36: =N36+O36 -> 0 | M36: =N36+O36+P36 -> 0 | N36: 0 | O36: 0 | P36: 0 | Q36: =R36-N36-O36-P36 -> 0 | R36: 0 | S36: =IF(J36>0,R36/J36,0)*100 -> 0 | T36: =IF(G36>0,J36/G36,0)*100 -> 0
C37: c) | D37: din diferenţe de curs | F37: 25 | G37: 0 | H37: 0 | I37: 1000 | J37: 0 | K37: =N37 -> 0 | L37: =N37+O37 -> 0 | M37: =N37+O37+P37 -> 0 | N37: 0 | O37: 0 | P37: 0 | Q37: =R37-N37-O37-P37 -> 0 | R37: 0 | S37: =IF(J37>0,R37/J37,0)*100 -> 0 | T37: =IF(G37>0,J37/G37,0)*100 -> 0
C38: d) | D38: din dobânzi | F38: 26 | G38: 1998 | H38: 1896 | I38: 9000 | J38: 1896 | K38: =N38 -> 500 | L38: =N38+O38 -> 1000 | M38: =N38+O38+P38 -> 1500 | N38: 500 | O38: 500 | P38: 500 | Q38: =R38-N38-O38-P38 -> 500 | R38: 2000 | S38: =IF(J38>0,R38/J38,0)*100 -> 105.48523 | T38: =IF(G38>0,J38/G38,0)*100 -> 94.894895
C39: e) | D39: alte venituri financiare | F39: 27 | G39: 0 | H39: 0 | I39: 0 | J39: 0 | K39: =N39 -> 0 | L39: =N39+O39 -> 0 | M39: =N39+O39+P39 -> 0 | N39: 0 | O39: 0 | P39: 0 | Q39: =R39-N39-O39-P39 -> 0 | R39: 0 | S39: =IF(J39>0,R39/J39,0)*100 -> 0 | T39: =IF(G39>0,J39/G39,0)*100 -> 0
B40: 3 | D40: Venituri extraordinare | F40: 28 | G40: 0 | H40: 0 | I40: 0 | J40: 0 | K40: =N40 -> 0 | L40: =N40+O40 -> 0 | M40: =N40+O40+P40 -> 0 | N40: 0 | O40: 0 | P40: 0 | Q40: =R40-N40-O40-P40 -> 0 | R40: 0 | S40: =IF(J40>0,R40/J40,0)*100 -> 0 | T40: =IF(G40>0,J40/G40,0)*100 -> 0
A41: II | B41: CHELTUIELI TOTALE (Rd.30+Rd.136+Rd.144) | F41: 29 | G41: =G42+G150+G158 -> 22750004 | H41: =H42+H150+H158 -> 20408981 | I41: =I42+I150+I158 -> 22577585 | J41: =J42+J150+J158 -> 20408981 | K41: =N41 -> 3348362.1 | L41: =N41+O41 -> 10611626 | M41: =N41+O41+P41 -> 17266890 | N41: =N42+N150+N158 -> 3348362.1 | O41: =O42+O150+O158 -> 7263263.9 | P41: =P42+P150+P158 -> 6655263.9 | Q41: =R41-N41-O41-P41 -> 4501421.9 | R41: =R42+R150+R158 -> 21768312 | S41: =IF(J41>0,R41/J41,0)*100 -> 106.66045 | T41: =IF(G41>0,J41/G41,0)*100 -> 89.709791
B42: 1 | C42: Cheltuieli de exploatare (Rd.31+Rd.79+Rd.86+Rd.120), din care: | F42: 30 | G42: =G43+G92+G99+G133 -> 22494670 | H42: =H43+H92+H99+H133 -> 20232756 | I42: =I43+I92+I99+I133 -> 22315585 | J42: =J43+J92+J99+J133 -> 20232756 | K42: =N42 -> 3303362.1 | L42: =N42+O42 -> 10511626 | M42: =N42+O42+P42 -> 17111890 | N42: =N43+N92+N99+N133 -> 3303362.1 | O42: =O43+O92+O99+O133 -> 7208263.9 | P42: =P43+P92+P99+P133 -> 6600263.9 | Q42: =R42-N42-O42-P42 -> 4476421.9 | R42: =R43+R92+R99+R133 -> 21588312 | S42: =IF(J42>0,R42/J42,0)*100 -> 106.69981 | T42: =IF(G42>0,J42/G42,0)*100 -> 89.944667
C43: A. Cheltuieli cu bunuri şi servicii (Rd.32+Rd.40+Rd.46), din care: | F43: 31 | G43: =G44+G53+G59 -> 17054948 | H43: =H44+H53+H59 -> 15344180 | I43: =I44+I53+I59 -> 17076000 | J43: =J44+J53+J59 -> 15344180 | K43: =N43 -> 2175500 | L43: =N43+O43 -> 7998000 | M43: =N43+O43+P43 -> 13172500 | N43: =N44+N53+N59 -> 2175500 | O43: =O44+O53+O59 -> 5822500 | P43: =P44+P53+P59 -> 5174500 | Q43: =R43-N43-O43-P43 -> 3169500 | R43: =R44+R53+R59 -> 16342000 | S43: =IF(J43>0,R43/J43,0)*100 -> 106.50292 | T43: =IF(G43>0,J43/G43,0)*100 -> 89.969081
C44: A1 | D44: Cheltuieli privind stocurile (Rd.33+Rd.34+Rd.37+Rd.38+Rd.39), din care: | F44: 32 | G44: =G45+G46+G50+G51+G52 -> 12177575 | H44: =H45+H46+H50+H51+H52 -> 9154056 | I44: =I45+I46+I50+I51+I52 -> 13090000 | J44: =J45+J46+J50+J51+J52 -> 9154056 | K44: =N44 -> 1139000 | L44: =N44+O44 -> 5589000 | M44: =N44+O44+P44 -> 9478000 | N44: =N45+N46+N50+N51+N52 -> 1139000 | O44: =O45+O46+O50+O51+O52 -> 4450000 | P44: =P45+P46+P50+P51+P52 -> 3889000 | Q44: =R44-N44-O44-P44 -> 1882000 | R44: =R45+R46+R50+R51+R52 -> 11360000 | S44: =IF(J44>0,R44/J44,0)*100 -> 124.098 | T44: =IF(G44>0,J44/G44,0)*100 -> 75.17142
C45: a) | D45: cheltuieli cu materiile prime | F45: 33 | G45: 168802 | H45: 74180 | I45: 100000 | J45: 74180 | K45: =N45 -> 15000 | L45: =N45+O45 -> 45000 | M45: =N45+O45+P45 -> 85000 | N45: 15000 | O45: 30000 | P45: 40000 | Q45: =R45-N45-O45-P45 -> 35000 | R45: 120000 | S45: =IF(J45>0,R45/J45,0)*100 -> 161.76867 | T45: =IF(G45>0,J45/G45,0)*100 -> 43.944977
C46: b) | D46: cheltuieli cu materialele consumabile, din care: | F46: 34 | G46: =G47+G48+G49 -> 11394971 | H46: =H47+H48+H49 -> 8619234 | I46: =I47+I48+I49 -> 12350000 | J46: =J47+J48+J49 -> 8619234 | K46: =N46 -> 1000000 | L46: =N46+O46 -> 5200000 | M46: =N46+O46+P46 -> 8850000 | N46: =N47+N48+N49 -> 1000000 | O46: =O47+O48+O49 -> 4200000 | P46: =P47+P48+P49 -> 3650000 | Q46: =R46-N46-O46-P46 -> 1750000 | R46: =R47+R48+R49 -> 10600000 | S46: =IF(J46>0,R46/J46,0)*100 -> 122.98077 | T46: =IF(G46>0,J46/G46,0)*100 -> 75.640684
D47: b1) | E47: cheltuieli cu piesele de schimb | F47: 35 | G47: 807642 | H47: 731450 | I47: 650000 | J47: 731450 | K47: =N47 -> 200000 | L47: =N47+O47 -> 400000 | M47: =N47+O47+P47 -> 550000 | N47: 200000 | O47: 200000 | P47: 150000 | Q47: =R47-N47-O47-P47 -> 150000 | R47: 700000 | S47: =IF(J47>0,R47/J47,0)*100 -> 95.700321 | T47: =IF(G47>0,J47/G47,0)*100 -> 90.566117
D48: b2) | E48: cheltuieli cu combustibilii | F48: 36 | G48: 2649729 | H48: 2575093 | I48: 2700000 | J48: 2575093 | K48: =N48 -> 200000 | L48: =N48+O48 -> 1200000 | M48: =N48+O48+P48 -> 2200000 | N48: 200000 | O48: 1000000 | P48: 1000000 | Q48: =R48-N48-O48-P48 -> 400000 | R48: 2600000 | S48: =IF(J48>0,R48/J48,0)*100 -> 100.96723 | T48: =IF(G48>0,J48/G48,0)*100 -> 97.183259
D49: b3) | E49: materiale de masa | G49: 7937600 | H49: 5312691 | I49: 9000000 | J49: 5312691 | K49: =N49 -> 600000 | L49: =N49+O49 -> 3600000 | M49: =N49+O49+P49 -> 6100000 | N49: 600000 | O49: 3000000 | P49: 2500000 | Q49: =R49-N49-O49-P49 -> 1200000 | R49: 7300000 | S49: =IF(J49>0,R49/J49,0)*100 -> 137.40682 | T49: =IF(G49>0,J49/G49,0)*100 -> 66.930697
C50: c) | D50: cheltuieli privind materialele de natura obiectelor de inventar | F50: 37 | G50: 39718 | H50: 42072 | I50: 50000 | J50: 42072 | K50: =N50 -> 10000 | L50: =N50+O50 -> 20000 | M50: =N50+O50+P50 -> 30000 | N50: 10000 | O50: 10000 | P50: 10000 | Q50: =R50-N50-O50-P50 -> 20000 | R50: 50000 | S50: =IF(J50>0,R50/J50,0)*100 -> 118.84389 | T50: =IF(G50>0,J50/G50,0)*100 -> 105.92678
C51: d) | D51: cheltuieli privind energia şi apa | F51: 38 | G51: 460387 | H51: 341139 | I51: 400000 | J51: 341139 | K51: =N51 -> 100000 | L51: =N51+O51 -> 220000 | M51: =N51+O51+P51 -> 340000 | N51: 100000 | O51: 120000 | P51: 120000 | Q51: =R51-N51-O51-P51 -> 60000 | R51: 400000 | S51: =IF(J51>0,R51/J51,0)*100 -> 117.25426 | T51: =IF(G51>0,J51/G51,0)*100 -> 74.098313
C52: e) | D52: cheltuieli privind mărfurile | F52: 39 | G52: 113697 | H52: 77431 | I52: 190000 | J52: 77431 | K52: =N52 -> 14000 | L52: =N52+O52 -> 104000 | M52: =N52+O52+P52 -> 173000 | N52: 14000 | O52: 90000 | P52: 69000 | Q52: =R52-N52-O52-P52 -> 17000 | R52: 190000 | S52: =IF(J52>0,R52/J52,0)*100 -> 245.37976 | T52: =IF(G52>0,J52/G52,0)*100 -> 68.10294
C53: A2 | D53: Cheltuieli privind serviciile executate de terţi (Rd.41+Rd.42+Rd.45), din care: | F53: 40 | G53: =G54+G55+G58 -> 320103 | H53: =H54+H55+H58 -> 330482 | I53: =I54+I55+I58 -> 474000 | J53: =J54+J55+J58 -> 330482 | K53: =N53 -> 130000 | L53: =N53+O53 -> 235000 | M53: =N53+O53+P53 -> 330000 | N53: =N54+N55+N58 -> 130000 | O53: =O54+O55+O58 -> 105000 | P53: =P54+P55+P58 -> 95000 | Q53: =R53-N53-O53-P53 -> 45000 | R53: =R54+R55+R58 -> 375000 | S53: =IF(J53>0,R53/J53,0)*100 -> 113.47063 | T53: =IF(G53>0,J53/G53,0)*100 -> 103.24239
C54: a) | D54: cheltuieli cu întreţinerea şi reparaţiile | F54: 41 | G54: 72564 | H54: 114685 | I54: 200000 | J54: 114685 | K54: =N54 -> 35000 | L54: =N54+O54 -> 70000 | M54: =N54+O54+P54 -> 105000 | N54: 35000 | O54: 35000 | P54: 35000 | Q54: =R54-N54-O54-P54 -> 25000 | R54: 130000 | S54: =IF(J54>0,R54/J54,0)*100 -> 113.35397 | T54: =IF(G54>0,J54/G54,0)*100 -> 158.04669
C55: b) | D55: cheltuieli privind chiriile (Rd.43+Rd.44) din care: | F55: 42 | G55: =G56+G57 -> 20000 | H55: =H56+H57 -> 25800 | I55: =I56+I57 -> 24000 | J55: =J56+J57 -> 25800 | K55: =N55 -> 25000 | L55: =N55+O55 -> 25000 | M55: =N55+O55+P55 -> 25000 | N55: =N56+N57 -> 25000 | O55: =O56+O57 -> 0 | P55: =P56+P57 -> 0 | Q55: =R55-N55-O55-P55 -> 0 | R55: =R56+R57 -> 25000 | S55: =IF(J55>0,R55/J55,0)*100 -> 96.899225 | T55: =IF(G55>0,J55/G55,0)*100 -> 129
D56: b1) | E56: - către operatori cu capital integral/majoritar de stat | F56: 43 | G56: 0 | H56: 0 | I56: 0 | J56: 0 | K56: =N56 -> 0 | L56: =N56+O56 -> 0 | M56: =N56+O56+P56 -> 0 | N56: 0 | O56: 0 | P56: 0 | Q56: =R56-N56-O56-P56 -> 0 | R56: 0 | S56: =IF(J56>0,R56/J56,0)*100 -> 0 | T56: =IF(G56>0,J56/G56,0)*100 -> 0
D57: b2) | E57: - către operatori cu capital privat | F57: 44 | G57: 20000 | H57: 25800 | I57: 24000 | J57: 25800 | K57: =N57 -> 25000 | L57: =N57+O57 -> 25000 | M57: =N57+O57+P57 -> 25000 | N57: 25000 | O57: 0 | P57: 0 | Q57: =R57-N57-O57-P57 -> 0 | R57: 25000 | S57: =IF(J57>0,R57/J57,0)*100 -> 96.899225 | T57: =IF(G57>0,J57/G57,0)*100 -> 129
C58: c) | D58: prime de asigurare | F58: 45 | G58: 227539 | H58: 189997 | I58: 250000 | J58: 189997 | K58: =N58 -> 70000 | L58: =N58+O58 -> 140000 | M58: =N58+O58+P58 -> 200000 | N58: 70000 | O58: 70000 | P58: 60000 | Q58: =R58-N58-O58-P58 -> 20000 | R58: 220000 | S58: =IF(J58>0,R58/J58,0)*100 -> 115.7913 | T58: =IF(G58>0,J58/G58,0)*100 -> 83.50085
C59: A3 | D59: Cheltuieli cu alte servicii executate de terţi (Rd.47+Rd.48+Rd.50+Rd.57+Rd.62+Rd.63+Rd.67+ Rd.68+Rd.69+Rd.78), din care: | F59: 46 | G59: =G60+G61+G63+G70+G75+G76+G80+G81+G82+G91 -> 4557270 | H59: =H60+H61+H63+H70+H75+H76+H80+H81+H82+H91 -> 5859642 | I59: =I60+I61+I63+I70+I75+I76+I80+I81+I82+I91 -> 3512000 | J59: =J60+J61+J63+J70+J75+J76+J80+J81+J82+J91 -> 5859642 | K59: =N59 -> 906500 | L59: =N59+O59 -> 2174000 | M59: =N59+O59+P59 -> 3364500 | N59: =N60+N61+N63+N70+N75+N76+N80+N81+N82+N91 -> 906500 | O59: =O60+O61+O63+O70+O75+O76+O80+O81+O82+O91 -> 1267500 | P59: =P60+P61+P63+P70+P75+P76+P80+P81+P82+P91 -> 1190500 | Q59: =R59-N59-O59-P59 -> 1242500 | R59: =R60+R61+R63+R70+R75+R76+R80+R81+R82+R91 -> 4607000 | S59: =IF(J59>0,R59/J59,0)*100 -> 78.622551 | T59: =IF(G59>0,J59/G59,0)*100 -> 128.5779
C60: a) | D60: cheltuieli cu colaboratorii | F60: 47 | G60: 0 | H60: 0 | I60: 40000 | J60: 0 | K60: =N60 -> 0 | L60: =N60+O60 -> 0 | M60: =N60+O60+P60 -> 0 | N60: 0 | O60: 0 | P60: 0 | Q60: =R60-N60-O60-P60 -> 0 | R60: 0 | S60: =IF(J60>0,R60/J60,0)*100 -> 0 | T60: =IF(G60>0,J60/G60,0)*100 -> 0
C61: b) | D61: cheltuieli privind comisioanele şi onorariul, din care: | F61: 48 | G61: 0 | H61: 6000 | I61: 12000 | J61: 6000 | K61: =N61 -> 3000 | L61: =N61+O61 -> 6000 | M61: =N61+O61+P61 -> 9000 | N61: 3000 | O61: 3000 | P61: 3000 | Q61: =R61-N61-O61-P61 -> 3000 | R61: 12000 | S61: =IF(J61>0,R61/J61,0)*100 -> 200 | T61: =IF(G61>0,J61/G61,0)*100 -> 0
D62: b1) | E62: cheltuieli privind consultanţa juridică | F62: 49 | G62: 0 | H62: 6000 | I62: 12000 | J62: 6000 | K62: =N62 -> 3000 | L62: =N62+O62 -> 6000 | M62: =N62+O62+P62 -> 9000 | N62: 3000 | O62: 3000 | P62: 3000 | Q62: =R62-N62-O62-P62 -> 3000 | R62: 12000 | S62: =IF(J62>0,R62/J62,0)*100 -> 200 | T62: =IF(G62>0,J62/G62,0)*100 -> 0
C63: c) | D63: cheltuieli de protocol, reclamă şi publicitate (Rd.51+Rd.53), din care: | F63: 50 | G63: =G64+G66 -> 56566 | H63: =H64+H66 -> 37454 | I63: =I64+I66 -> 40000 | J63: =J64+J66 -> 37454 | K63: =N63 -> 9000 | L63: =N63+O63 -> 19000 | M63: =N63+O63+P63 -> 29000 | N63: =N64+N66 -> 9000 | O63: =O64+O66 -> 10000 | P63: =P64+P66 -> 10000 | Q63: =R63-N63-O63-P63 -> 11000 | R63: =R64+R66 -> 40000 | S63: =IF(J63>0,R63/J63,0)*100 -> 106.79767 | T63: =IF(G63>0,J63/G63,0)*100 -> 66.212919
D64: c1) | E64: cheltuieli de protocol, din care: | F64: 51 | G64: 12421 | H64: 8781 | I64: 10000 | J64: 8781 | K64: =N64 -> 3000 | L64: =N64+O64 -> 7000 | M64: =N64+O64+P64 -> 11000 | N64: 3000 | O64: 4000 | P64: 4000 | Q64: =R64-N64-O64-P64 -> 4000 | R64: 15000 | S64: =IF(J64>0,R64/J64,0)*100 -> 170.82337 | T64: =IF(G64>0,J64/G64,0)*100 -> 70.694791
E65: - tichete cadou potrivit Legii nr.193/2006, cu modificările ulterioare | F65: 52 | K65: =N65 -> 0 | L65: =N65+O65 -> 0 | M65: =N65+O65+P65 -> 0 | Q65: =R65-N65-O65-P65 -> 0 | S65: =IF(J65>0,R65/J65,0)*100 -> 0 | T65: =IF(G65>0,J65/G65,0)*100 -> 0
D66: c2) | E66: cheltuieli de reclamă şi publicitate, din care: | F66: 53 | G66: =G67+G68+G69 -> 44145 | H66: =H67+H68+H69 -> 28673 | I66: =I67+I68+I69 -> 30000 | J66: =J67+J68+J69 -> 28673 | K66: =N66 -> 6000 | L66: =N66+O66 -> 12000 | M66: =N66+O66+P66 -> 18000 | N66: =N67+N68+N69 -> 6000 | O66: =O67+O68+O69 -> 6000 | P66: =P67+P68+P69 -> 6000 | Q66: =R66-N66-O66-P66 -> 7000 | R66: =R67+R68+R69 -> 25000 | S66: =IF(J66>0,R66/J66,0)*100 -> 87.190039 | T66: =IF(G66>0,J66/G66,0)*100 -> 64.951863
E67: - tichete cadou ptr. cheltuieli de reclamă şi publicitate, potrivit Legii nr.193/2006, cu modificările ulterioare | F67: 54 | K67: =N67 -> 0 | L67: =N67+O67 -> 0 | M67: =N67+O67+P67 -> 0 | Q67: =R67-N67-O67-P67 -> 0 | S67: =IF(J67>0,R67/J67,0)*100 -> 0 | T67: =IF(G67>0,J67/G67,0)*100 -> 0
E68: - tichete cadou ptr. campanii de marketing, studiul pieţei, promovarea pe pieţe existente sau noi, potrivit Legii nr.193/2006, cu modificările ulterioare | F68: 55 | K68: =N68 -> 0 | L68: =N68+O68 -> 0 | M68: =N68+O68+P68 -> 0 | Q68: =R68-N68-O68-P68 -> 0 | S68: =IF(J68>0,R68/J68,0)*100 -> 0 | T68: =IF(G68>0,J68/G68,0)*100 -> 0
E69: - ch.de promovare a produselor | F69: 56 | G69: 44145 | H69: 28673 | I69: 30000 | J69: 28673 | K69: =N69 -> 6000 | L69: =N69+O69 -> 12000 | M69: =N69+O69+P69 -> 18000 | N69: 6000 | O69: 6000 | P69: 6000 | Q69: =R69-N69-O69-P69 -> 7000 | R69: 25000 | S69: =IF(J69>0,R69/J69,0)*100 -> 87.190039 | T69: =IF(G69>0,J69/G69,0)*100 -> 64.951863
C70: d) | D70: Ch. cu sponsorizarea (Rd.58+Rd.59+Rd.60+Rd.61), din care: | F70: 57 | G70: =G71+G72+G73+G74 -> 8000 | H70: =H71+H72+H73+H74 -> 2000 | I70: =I71+I72+I73+I74 -> 10000 | J70: =J71+J72+J73+J74 -> 2000 | K70: =N70 -> 0 | L70: =N70+O70 -> 5000 | M70: =N70+O70+P70 -> 5000 | N70: =N71+N72+N73+N74 -> 0 | O70: =O71+O72+O73+O74 -> 5000 | P70: =P71+P72+P73+P74 -> 0 | Q70: =R70-N70-O70-P70 -> 5000 | R70: =R71+R72+R73+R74 -> 10000 | S70: =IF(J70>0,R70/J70,0)*100 -> 500 | T70: =IF(G70>0,J70/G70,0)*100 -> 25
D71: d1) | E71: ch.de sponsorizare a cluburilor sportive | F71: 58 | G71: 8000 | H71: 2000 | I71: 2000 | J71: 2000 | K71: =N71 -> 0 | L71: =N71+O71 -> 1000 | M71: =N71+O71+P71 -> 1000 | N71: 0 | O71: 1000 | P71: 0 | Q71: =R71-N71-O71-P71 -> 1000 | R71: 2000 | S71: =IF(J71>0,R71/J71,0)*100 -> 100 | T71: =IF(G71>0,J71/G71,0)*100 -> 25
D72: d2) | E72: ch. de sponsorizare a unităţilor de cult | F72: 59 | G72: 0 | H72: 0 | I72: 2000 | J72: 0 | K72: =N72 -> 0 | L72: =N72+O72 -> 1000 | M72: =N72+O72+P72 -> 1000 | N72: 0 | O72: 1000 | P72: 0 | Q72: =R72-N72-O72-P72 -> 1000 | R72: 2000 | S72: =IF(J72>0,R72/J72,0)*100 -> 0 | T72: =IF(G72>0,J72/G72,0)*100 -> 0
D73: d3) | E73: ch. privind acordarea ajutoarelor umanitare si sociale | F73: 60 | G73: 0 | H73: 0 | I73: 2000 | J73: 0 | K73: =N73 -> 0 | L73: =N73+O73 -> 1000 | M73: =N73+O73+P73 -> 1000 | N73: 0 | O73: 1000 | P73: 0 | Q73: =R73-N73-O73-P73 -> 1000 | R73: 2000 | S73: =IF(J73>0,R73/J73,0)*100 -> 0 | T73: =IF(G73>0,J73/G73,0)*100 -> 0
D74: d4) | E74: alte cheltuieli cu sponsorizarea | F74: 61 | G74: 0 | H74: 0 | I74: 4000 | J74: 0 | K74: =N74 -> 0 | L74: =N74+O74 -> 2000 | M74: =N74+O74+P74 -> 2000 | N74: 0 | O74: 2000 | P74: 0 | Q74: =R74-N74-O74-P74 -> 2000 | R74: 4000 | S74: =IF(J74>0,R74/J74,0)*100 -> 0 | T74: =IF(G74>0,J74/G74,0)*100 -> 0
C75: e) | D75: cheltuieli cu transportul de bunuri şi persoane | F75: 62 | G75: 1567262 | H75: 2012777 | I75: 1500000 | J75: 2012777 | K75: =N75 -> 250000 | L75: =N75+O75 -> 750000 | M75: =N75+O75+P75 -> 1200000 | N75: 250000 | O75: 500000 | P75: 450000 | Q75: =R75-N75-O75-P75 -> 500000 | R75: 1700000 | S75: =IF(J75>0,R75/J75,0)*100 -> 84.460425 | T75: =IF(G75>0,J75/G75,0)*100 -> 128.42633
C76: f) | D76: cheltuieli de deplasare, detaşare, transfer, din care: | F76: 63 | G76: =G77 -> 7396 | H76: =H77 -> 1318 | I76: =I77 -> 15000 | J76: =J77 -> 1318 | K76: =N76 -> 5000 | L76: =N76+O76 -> 8000 | M76: =N76+O76+P76 -> 11000 | N76: =N77 -> 5000 | O76: =O77 -> 3000 | P76: =P77 -> 3000 | Q76: =R76-N76-O76-P76 -> 4000 | R76: =R77 -> 15000 | S76: =IF(J76>0,R76/J76,0)*100 -> 1138.088 | T76: =IF(G76>0,J76/G76,0)*100 -> 17.820443
D77: - cheltuieli cu diurna (Rd.65+Rd.66), din care: | F77: 64 | G77: =G78+G79 -> 7396 | H77: =H78+H79 -> 1318 | I77: =I78+I79 -> 15000 | J77: =J78+J79 -> 1318 | K77: =N77 -> 5000 | L77: =N77+O77 -> 8000 | M77: =N77+O77+P77 -> 11000 | N77: =N78+N79 -> 5000 | O77: =O78+O79 -> 3000 | P77: =P78+P79 -> 3000 | Q77: =R77-N77-O77-P77 -> 4000 | R77: =R78+R79 -> 15000 | S77: =IF(J77>0,R77/J77,0)*100 -> 1138.088 | T77: =IF(G77>0,J77/G77,0)*100 -> 17.820443
D78: -interna | F78: 65 | G78: 4547 | H78: 1318 | I78: 15000 | J78: 1318 | K78: =N78 -> 5000 | L78: =N78+O78 -> 8000 | M78: =N78+O78+P78 -> 11000 | N78: 5000 | O78: 3000 | P78: 3000 | Q78: =R78-N78-O78-P78 -> 4000 | R78: 15000 | S78: =IF(J78>0,R78/J78,0)*100 -> 1138.088 | T78: =IF(G78>0,J78/G78,0)*100 -> 28.986145
D79: -externa | F79: 66 | G79: 2849 | K79: =N79 -> 0 | L79: =N79+O79 -> 0 | M79: =N79+O79+P79 -> 0 | Q79: =R79-N79-O79-P79 -> 0 | S79: =IF(J79>0,R79/J79,0)*100 -> 0 | T79: =IF(G79>0,J79/G79,0)*100 -> 0
C80: g) | D80: cheltuieli poştale şi taxe de telecomunicaţii | F80: 67 | G80: 41282 | H80: 47933 | I80: 45000 | J80: 47933 | K80: =N80 -> 12500 | L80: =N80+O80 -> 25000 | M80: =N80+O80+P80 -> 37500 | N80: 12500 | O80: 12500 | P80: 12500 | Q80: =R80-N80-O80-P80 -> 12500 | R80: 50000 | S80: =IF(J80>0,R80/J80,0)*100 -> 104.31227 | T80: =IF(G80>0,J80/G80,0)*100 -> 116.11114
C81: h) | D81: cheltuieli cu serviciile bancare şi asimilate | F81: 68 | G81: 24266 | H81: 18938 | I81: 50000 | J81: 18938 | K81: =N81 -> 12000 | L81: =N81+O81 -> 36000 | M81: =N81+O81+P81 -> 43000 | N81: 12000 | O81: 24000 | P81: 7000 | Q81: =R81-N81-O81-P81 -> 7000 | R81: 50000 | S81: =IF(J81>0,R81/J81,0)*100 -> 264.01943 | T81: =IF(G81>0,J81/G81,0)*100 -> 78.043353
C82: i) | D82: alte cheltuieli cu serviciile executate de terţi, din care: | F82: 69 | G82: =G83+G84+G85+G86+G88+G89+G90 -> 303313 | H82: =H83+H84+H85+H86+H88+H89+H90 -> 317768 | I82: =I83+I84+I85+I86+I88+I89+I90 -> 300000 | J82: =J83+J84+J85+J86+J88+J89+J90 -> 317768 | K82: =N82 -> 115000 | L82: =N82+O82 -> 225000 | M82: =N82+O82+P82 -> 330000 | N82: =N83+N84+N85+N86+N88+N89+N90 -> 115000 | O82: =O83+O84+O85+O86+O88+O89+O90 -> 110000 | P82: =P83+P84+P85+P86+P88+P89+P90 -> 105000 | Q82: =R82-N82-O82-P82 -> 100000 | R82: =R83+R84+R85+R86+R88+R89+R90 -> 430000 | S82: =IF(J82>0,R82/J82,0)*100 -> 135.31885 | T82: =IF(G82>0,J82/G82,0)*100 -> 104.7657
D83: i1) | E83: cheltuieli de asigurare şi pază | F83: 70 | G83: 283328 | H83: 307306 | I83: 250000 | J83: 307306 | K83: =N83 -> 95000 | L83: =N83+O83 -> 190000 | M83: =N83+O83+P83 -> 285000 | N83: 95000 | O83: 95000 | P83: 95000 | Q83: =R83-N83-O83-P83 -> 95000 | R83: 380000 | S83: =IF(J83>0,R83/J83,0)*100 -> 123.65525 | T83: =IF(G83>0,J83/G83,0)*100 -> 108.46298
D84: i2) | E84: cheltuieli privind întreţinerea şi funcţionarea tehnicii de calcul | F84: 71 | G84: 18385 | H84: 9862 | I84: 30000 | J84: 9862 | K84: =N84 -> 15000 | L84: =N84+O84 -> 20000 | M84: =N84+O84+P84 -> 25000 | N84: 15000 | O84: 5000 | P84: 5000 | Q84: =R84-N84-O84-P84 -> 5000 | R84: 30000 | S84: =IF(J84>0,R84/J84,0)*100 -> 304.19793 | T84: =IF(G84>0,J84/G84,0)*100 -> 53.641556
D85: i3) | E85: cheltuieli cu pregătirea profesională | F85: 72 | G85: 1600 | H85: 600 | I85: 15000 | J85: 600 | K85: =N85 -> 5000 | L85: =N85+O85 -> 10000 | M85: =N85+O85+P85 -> 15000 | N85: 5000 | O85: 5000 | P85: 5000 | Q85: =R85-N85-O85-P85 -> 0 | R85: 15000 | S85: =IF(J85>0,R85/J85,0)*100 -> 2500 | T85: =IF(G85>0,J85/G85,0)*100 -> 37.5
D86: i4) | E86: cheltuieli cu reevaluarea imobilizărilor corporale şi necorporale, din care: | F86: 73 | G86: 0 | H86: 0 | I86: 0 | J86: 0 | K86: =N86 -> 0 | L86: =N86+O86 -> 0 | M86: =N86+O86+P86 -> 0 | N86: 0 | O86: 0 | P86: 0 | Q86: =R86-N86-O86-P86 -> 0 | R86: 0 | S86: =IF(J86>0,R86/J86,0)*100 -> 0 | T86: =IF(G86>0,J86/G86,0)*100 -> 0
E87: -aferente bunurilor de natura domeniului public | F87: 74 | G87: 0 | H87: 0 | I87: 0 | J87: 0 | K87: =N87 -> 0 | L87: =N87+O87 -> 0 | M87: =N87+O87+P87 -> 0 | N87: 0 | O87: 0 | P87: 0 | Q87: =R87-N87-O87-P87 -> 0 | R87: 0 | S87: =IF(J87>0,R87/J87,0)*100 -> 0 | T87: =IF(G87>0,J87/G87,0)*100 -> 0
D88: i5) | E88: cheltuieli cu prestaţiile efectuate de filiale | F88: 75 | G88: 0 | H88: 0 | I88: 0 | J88: 0 | K88: =N88 -> 0 | L88: =N88+O88 -> 0 | M88: =N88+O88+P88 -> 0 | N88: 0 | O88: 0 | P88: 0 | Q88: =R88-N88-O88-P88 -> 0 | R88: 0 | S88: =IF(J88>0,R88/J88,0)*100 -> 0 | T88: =IF(G88>0,J88/G88,0)*100 -> 0
D89: i6) | E89: cheltuieli privind recrutarea şi plasarea personalului de conducere cf. Ordonanţei de urgenţă a Guvernului nr. 109/2011 | F89: 76 | G89: 0 | H89: 0 | I89: 5000 | J89: 0 | K89: =N89 -> 0 | L89: =N89+O89 -> 5000 | M89: =N89+O89+P89 -> 5000 | N89: 0 | O89: 5000 | P89: 0 | Q89: =R89-N89-O89-P89 -> 0 | R89: 5000 | S89: =IF(J89>0,R89/J89,0)*100 -> 0 | T89: =IF(G89>0,J89/G89,0)*100 -> 0
D90: i7) | E90: cheltuieli cu anunţurile privind licitaţiile şi alte anunţuri | F90: 77 | G90: 0 | H90: 0 | I90: 0 | J90: 0 | K90: =N90 -> 0 | L90: =N90+O90 -> 0 | M90: =N90+O90+P90 -> 0 | N90: 0 | O90: 0 | P90: 0 | Q90: =R90-N90-O90-P90 -> 0 | R90: 0 | S90: =IF(J90>0,R90/J90,0)*100 -> 0 | T90: =IF(G90>0,J90/G90,0)*100 -> 0
C91: j) | D91: alte cheltuieli | F91: 78 | G91: 2549185 | H91: 3415454 | I91: 1500000 | J91: 3415454 | K91: =N91 -> 500000 | L91: =N91+O91 -> 1100000 | M91: =N91+O91+P91 -> 1700000 | N91: 500000 | O91: 600000 | P91: 600000 | Q91: =R91-N91-O91-P91 -> 600000 | R91: 2300000 | S91: =IF(J91>0,R91/J91,0)*100 -> 67.340974 | T91: =IF(G91>0,J91/G91,0)*100 -> 133.98219
C92: B Cheltuieli cu impozite, taxe şi vărsăminte asimilate (Rd.80+Rd.81+Rd.82+Rd.83+Rd.84+Rd.85), din care: | F92: 79 | G92: =G93+G94+G95+G96+G97+G98 -> 308457 | H92: =H93+H94+H95+H96+H97+H98 -> 348032 | I92: =I93+I94+I95+I96+I97+I98 -> 305000 | J92: =J93+J94+J95+J96+J97+J98 -> 348032 | K92: =N92 -> 115000 | L92: =N92+O92 -> 200000 | M92: =N92+O92+P92 -> 320000 | N92: =N93+N94+N95+N96+N97+N98 -> 115000 | O92: =O93+O94+O95+O96+O97+O98 -> 85000 | P92: =P93+P94+P95+P96+P97+P98 -> 120000 | Q92: =R92-N92-O92-P92 -> 60000 | R92: =R93+R94+R95+R96+R97+R98 -> 380000 | S92: =IF(J92>0,R92/J92,0)*100 -> 109.18536 | T92: =IF(G92>0,J92/G92,0)*100 -> 112.82999
C93: a) | D93: ch. cu taxa pt.activitatea de exploatare a resurselor minerale | F93: 80 | G93: 22456 | H93: 22456 | I93: 25000 | J93: 22456 | K93: =N93 -> 30000 | L93: =N93+O93 -> 30000 | M93: =N93+O93+P93 -> 30000 | N93: 30000 | O93: 0 | P93: 0 | Q93: =R93-N93-O93-P93 -> 0 | R93: 30000 | S93: =IF(J93>0,R93/J93,0)*100 -> 133.59458 | T93: =IF(G93>0,J93/G93,0)*100 -> 100
C94: b) | D94: ch. cu redevenţa pentru concesionarea bunurilor publice şi resursele minerale | F94: 81 | G94: 118187 | H94: 123461 | I94: 100000 | J94: 123461 | K94: =N94 -> 15000 | L94: =N94+O94 -> 65000 | M94: =N94+O94+P94 -> 115000 | N94: 15000 | O94: 50000 | P94: 50000 | Q94: =R94-N94-O94-P94 -> 35000 | R94: 150000 | S94: =IF(J94>0,R94/J94,0)*100 -> 121.49586 | T94: =IF(G94>0,J94/G94,0)*100 -> 104.46242
C95: c) | D95: ch. cu taxa de licenţă | F95: 82 | K95: =N95 -> 0 | L95: =N95+O95 -> 0 | M95: =N95+O95+P95 -> 0 | Q95: =R95-N95-O95-P95 -> 0 | S95: =IF(J95>0,R95/J95,0)*100 -> 0 | T95: =IF(G95>0,J95/G95,0)*100 -> 0
C96: d) | D96: ch. cu taxa de autorizare | F96: 83 | K96: =N96 -> 0 | L96: =N96+O96 -> 0 | M96: =N96+O96+P96 -> 0 | Q96: =R96-N96-O96-P96 -> 0 | S96: =IF(J96>0,R96/J96,0)*100 -> 0 | T96: =IF(G96>0,J96/G96,0)*100 -> 0
C97: e) | D97: ch. cu taxa de mediu | F97: 84 | K97: =N97 -> 0 | L97: =N97+O97 -> 0 | M97: =N97+O97+P97 -> 0 | Q97: =R97-N97-O97-P97 -> 0 | S97: =IF(J97>0,R97/J97,0)*100 -> 0 | T97: =IF(G97>0,J97/G97,0)*100 -> 0
C98: f) | D98: cheltuieli cu alte taxe şi impozite | F98: 85 | G98: 167814 | H98: 202115 | I98: 180000 | J98: 202115 | K98: =N98 -> 70000 | L98: =N98+O98 -> 105000 | M98: =N98+O98+P98 -> 175000 | N98: 70000 | O98: 35000 | P98: 70000 | Q98: =R98-N98-O98-P98 -> 25000 | R98: 200000 | S98: =IF(J98>0,R98/J98,0)*100 -> 98.953566 | T98: =IF(G98>0,J98/G98,0)*100 -> 120.43989
C99: C. Cheltuieli cu personalul (Rd.87+Rd.100+Rd.104+Rd.113), din care: | F99: 86 | G99: =G100+G113+G117+G126 -> 3575364 | H99: =H100+H113+H117+H126 -> 3433722 | I99: =I100+I113+I117+I126 -> 3639584.8 | J99: =J100+J113+J117+J126 -> 3433722 | K99: =N99 -> 812862.1 | L99: =N99+O99 -> 1803626 | M99: =N99+O99+P99 -> 2799389.8 | N99: =N100+N113+N117+N126 -> 812862.1 | O99: =O100+O113+O117+O126 -> 990763.86 | P99: =P100+P113+P117+P126 -> 995763.86 | Q99: =R99-N99-O99-P99 -> 946921.88 | R99: =R100+R113+R117+R126 -> 3746311.7 | S99: =IF(J99>0,R99/J99,0)*100 -> 109.10352 | T99: =IF(G99>0,J99/G99,0)*100 -> 96.038389
C100: C0 | D100: Cheltuieli de natură salarială (Rd.88+ Rd.92) | F100: 87 | G100: =G101+G105 -> 2761490 | H100: =H101+H105 -> 2681277 | I100: =I101+I105 -> 2820000 | J100: =J101+J105 -> 2681277 | K100: =N100 -> 645000 | L100: =N100+O100 -> 1440000 | M100: =N100+O100+P100 -> 2240000 | N100: =N101+N105 -> 645000 | O100: =O101+O105 -> 795000 | P100: =P101+P105 -> 800000 | Q100: =R100-N100-O100-P100 -> 760000 | R100: =R101+R105 -> 3000000 | S100: =IF(J100>0,R100/J100,0)*100 -> 111.88699 | T100: =IF(G100>0,J100/G100,0)*100 -> 97.0953
C101: C1 | D101: Cheltuieli cu salariile (Rd.89+Rd.90+Rd.91), din care: | F101: 88 | G101: =G102+G103+G104 -> 2508701 | H101: =H102+H103+H104 -> 2421830 | I101: =I102+I103+I104 -> 2500000 | J101: =J102+J103+J104 -> 2421830 | K101: =N101 -> 580000 | L101: =N101+O101 -> 1280000 | M101: =N101+O101+P101 -> 1980000 | N101: =N102+N103+N104 -> 580000 | O101: =O102+O103+O104 -> 700000 | P101: =P102+P103+P104 -> 700000 | Q101: =R101-N101-O101-P101 -> 660000 | R101: =R102+R103+R104 -> 2640000 | S101: =IF(J101>0,R101/J101,0)*100 -> 109.00848 | T101: =IF(G101>0,J101/G101,0)*100 -> 96.537212
...

Sheet Anexa 3
A1: Anexa nr. 3 la Hotararea Consiliului Judetean
A2: Bistrita Nasaud nr. 74 din 31.05.2017
B6: Gradul de realizare a veniturilor totale
H8: Mii lei
A9: Nr | B9: INDICATORI | C9: Prevederi an (N-2) 2015 | E9: % 4=3/2 | F9: Prevederi an (N-1) 2016 | H9: % 7=6/5
A10: Crt | C10: Aprobat | D10: Realizat | F10: Aprobat | G10: Realizat
A11: 0 | B11: 1 | C11: 2 | D11: 3 | E11: 4 | F11: 5 | G11: 6 | H11: 7
A12: I. | B12: Venituri totale (rd.1+rd.2+rd.3), din care: | C12: =SUM(C13:C15) -> 24000 | D12: =SUM(D13:D15) -> 22992 | E12: =D12/C12*100 -> 95.8 | F12: =F13+F14+F15 -> 22980 | G12: =G13+G14 -> 20449 | H12: =G12/F12*100 -> 88.986075
A13: 1 | B13: Venituri din exploatare | C13: 23990 | D13: 22991 | E13: =D13/C13*100 -> 95.835765 | F13: 22970 | G13: 20392 | H13: =G13/F13*100 -> 88.776665
A14: 2. | B14: Venituri financiare | C14: 10 | D14: 1 | E14: =D14/C14*100 -> 10 | F14: 10 | G14: 57 | H14: =G14/F14*100 -> 570
A15: 3. | B15: Venituri extraordinare | C15: 0 | D15: 0 | E15: 0 | F15: 0 | G15: 0 | H15: 0
B30: Întocmit: BD/GP

Sheet Anexa 4
H1: Anexa nr.4
A2: Programul de investiţii, dotări şi sursele de finanţare
I4: mii lei
C5: INDICATORI | D5: Data finalizării investiţiei | E5: an precedent 2016 | G5: Valoare
E6: Aprobat | F6: Realizat/ Preliminat | G6: an curent 2017 | H6: an 2018 | I6: an 2019
A7: 0 | B7: 1 | C7: 2 | D7: 3 | E7: 4 | F7: 5 | G7: 6 | H7: 7 | I7: 8
A8: I | C8: SURSE DE FINANŢARE A INVESTIŢIILOR, din care: | E8: =E9+E12+E13+E16 -> 2480 | F8: =F9+F12+F13+F16 -> 1189 | G8: =G9+G12+G13+G16 -> 2618 | H8: =H9+H12+H13+H16 -> 3053 | I8: =I9+I12+I13+I16 -> 5153
B9: 1 | C9: Surse proprii, din care: | E9: =E10+E11 -> 1480 | F9: =F10+F11 -> 1189 | G9: =G10+G11 -> 1115 | H9: =H10+H11 -> 1300 | I9: =I10+I11 -> 1400
C10: a) - amortizare | E10: 1280 | F10: 1099 | G10: 1100 | H10: 1200 | I10: 1300
C11: b) - profit | E11: 200 | F11: 90 | G11: 15 | H11: 100 | I11: 100
B12: 2 | C12: Alocaţii de la buget
B13: 3 | C13: Credite bancare, din care: | E13: =E14+E15 -> 1000 | F13: =F14 -> 0 | G13: =G14+G15 -> 1000 | H13: =H14+H15 -> 1000 | I13: =I14+I15 -> 1000
C14: a) - interne | E14: 1000 | F14: 0 | G14: 1000 | H14: 1000 | I14: 1000
C15: b) - externe
B16: 4 | C16: Alte surse, din care: | F16: =F17 -> 0 | G16: =G17 -> 503 | H16: =H17 -> 753 | I16: =I17 -> 2753
C17: Excedent an anterior | G17: =F8-F18 -> 503 | H17: =G8-G18 -> 753 | I17: =H8-H18 -> 2753
A18: II | C18: CHELTUIELI PENTRU INVESTIŢII, din care: | E18: =E19+E27+E54+E40 -> 2471 | F18: =F19+F27+F55+F40 -> 686 | G18: =G19+G27+G55+G40 -> 1865 | H18: =H19+H27+H55 -> 300 | I18: =I19+I27+I55 -> 300
B19: 1 | C19: Investiţii în curs, din care: | E19: =SUM(E20:E26) -> 0 | F19: =F20 -> 0 | G19: =SUM(G20:G26) -> 0
C20: a) pentru bunurile proprietatea privata a operatorului economic:
C21: b) pentru bunurile de natura domeniului public al statului sau al unităţii administrativ teritoriale:
C22: - (denumire obiectiv)
C23: c) pentru bunurile de natura domeniului privat al statului sau al unităţii administrativ teritoriale:
C24: - (denumire obiectiv)
C25: d) pentru bunurile luate în concesiune, închiriate sau în locaţie de gestiune, exclusiv cele din domeniul public sau privat al statului sau al unităţii administrativ teritoriale:
C26: - (denumire obiectiv)
B27: 2 | C27: Investiţii noi, din care: | E27: =E28 -> 471 | F27: =F28 -> 87 | G27: =G28 -> 1215 | H27: =H28 -> 0 | I27: =I28 -> 0
C28: a) pentru bunurile proprietatea privata a operatorului economic: | E28: =SUM(E29:E33) -> 471 | F28: =SUM(F29:F33) -> 87 | G28: =SUM(G29:G33) -> 1215 | H28: =SUM(H29:H33) -> 0 | I28: =SUM(I29:I33) -> 0
C29: ECHIPAMENT MICA MECANIZARE | E29: 125 | F29: 72 | G29: 100
C30: APARATURA LABORATOR | E30: 50 | F30: 15 | G30: 100
C31: EXCAVATOR 16-18 TO | E31: 296 | F31: 0 | G31: 300
C32: CILINDRII ASFALT 8-12 TO 2 BUC | G32: 675
C33: STATIE TOTALA TOPOGRAFIE | G33: 40
C34: b) pentru bunurile de natura domeniului public al statului sau al unităţii administrativ teritoriale:
C35: - (denumire obiectiv)
C36: c) pentru bunurile de natura domeniului privat al statului sau al unităţii administrativ teritoriale:
C37: - (denumire obiectiv)
C38: d) pentru bunurile luate în concesiune, închiriate sau în locaţie de gestiune, exclusiv cele din domeniul public sau privat al statului sau al unităţii administrativ teritoriale:
C39: - (denumire obiectiv)
B40: 3 | C40: Investiţii efectuate la imobilizările corporale existente (modernizări), din care: | E40: =SUM(E41) -> 1500 | F40: =F41 -> 431 | G40: =SUM(G41) -> 350 | H40: =SUM(H41) -> 0 | I40: =SUM(I41) -> 0
C41: a) pentru bunurile proprietatea privata a operatorului economic: | E41: =SUM(E42:E45) -> 1500 | F41: =SUM(F42:F45) -> 431 | G41: =SUM(G42:G46) -> 350
C42: STATIE CONCASARE | E42: 250 | F42: 98 | G42: 0
C43: STATIE ASFALT | E43: 700 | F43: 277 | G43: 0
C44: STATIE BETOANE | E44: 250 | F44: 56 | G44: 0
C45: ANVELOPARE TERMICA - OBTINERE CERTIFICATE ENERGETICE | E45: 300 | G45: 300
C46: REFACERE SI MODERNIZARE RETEA | G46: 50
C47: b) pentru bunurile de natura domeniului public al statului sau al unităţii administrativ teritoriale:
C48: - (denumire obiectiv)
C49: c) pentru bunurile de natura domeniului privat al statului sau al unităţii administrativ teritoriale:
C50: - (denumire obiectiv)
C51: d) pentru bunurile luate în concesiune, închiriate sau în locaţie de gestiune, exclusiv cele din domeniul public sau privat al statului sau al unităţii administrativ teritoriale:
C52: - (denumire obiectiv)
B53: 4 | C53: Dotări (alte achiziţii de imobilizări corporale)
B54: 5 | C54: Rambursări de rate aferente creditelor pentru investiţii, din care: | E54: =E55 -> 500 | F54: =F55 -> 168 | G54: =G55 -> 300 | H54: =H55 -> 300 | I54: =I55 -> 300
C55: a) - interne | E55: 500 | F55: 168 | G55: 300 | H55: 300 | I55: 300
C56: b)- externe
C57: CONDUCĂTORUL UNITĂŢII, | F57: CONDUCĂTORUL COMPARTIMENTULUI
F58: FINANCIAR CONTABIL

Sheet anexa5
L1: Anexa nr.5
B3: Măsuri de îmbunătăţire a rezultatului brut şi reducere a plăţilor restante
L6: mii lei
A7: Nr.crt. | B7: Măsuri | D7: Termen de realizare | E7: an precedent (2016) | G7: an curent (2017 | I7: an 2018 | K7: an 2019
E8: Preliminat / Realizat | G8: Influenţe (+/-) | I8: Influenţe (+/-) | K8: Influenţe (+/-)
E9: Rezultat brut (+/-) | F9: Plăţi restante | G9: Rezultat brut | H9: Plăţi restante | I9: Rezultat brut | J9: Plăţi restante | K9: Rezultat brut | L9: Plăţi restante
A10: 0 | B10: 1 | D10: 2 | E10: 3 | F10: 4 | G10: 5 | H10: 6 | I10: 7 | J10: 8 | K10: 9 | L10: 10
A11: Pct. I | B11: Măsuri de îmbunătăţire a rezultatului brut şi reducere a plăţilor restante
A12: 1 | B12: Realizarea veniturilor programate | E12: 400 | F12: X | G12: 200 | I12: 100 | K12: 100
A13: 2 | B13: Diminuarea cheltuielilor financiare | E13: 66 | F13: X | G13: 0 | I13: 50 | K13: 50
A14: 3 | B14: Cresterea productivitatii | E14: 150 | F14: X | G14: 400 | I14: 50 | K14: 100
B15: TOTAL Pct. I | E15: =SUM(E12:E14) -> 616 | F15: X | G15: =SUM(G12:G14) -> 600 | H15: =SUM(H12:H14) -> 0 | I15: =SUM(I12:I14) -> 200 | J15: =SUM(J12:J14) -> 0 | K15: =SUM(K12:K14) -> 250 | L15: 0
A16: Pct. II | B16: Cauze care diminuează efectul măsurilor prevăzute la Pct. I
A17: 1 | B17: Crestere cheltuelilor salariale | E17: 300 | F17: X | G17: 100 | I17: 150 | K17: 200
A18: 2 | B18: Imposibilitatea actualizarii contractelor | E18: 300 | F18: X | G18: 200 | I18: 50 | K18: 50
B19: TOTAL Pct. II | E19: =SUM(E17:E18) -> 600 | F19: X | G19: =SUM(G17:G18) -> 300 | H19: =SUM(H17:H18) -> 0 | I19: =SUM(I17:I18) -> 200 | J19: =SUM(J17:J18) -> 0 | K19: =SUM(K17:K18) -> 250 | L19: 0
A20: Pct. III | B20: TOTAL GENERAL Pct. I + Pct. II | E20: =E15+-E19 -> 16 | G20: =G15+-G19 -> 300 | H20: =H15+-H19 -> 0 | I20: =I15+-I19 -> 0 | J20: =J15+-J19 -> 0 | K20: =K15+-K19 -> 0 | L20: 0
C23: CONDUCĂTORUL UNITĂŢII, | J23: CONDUCĂTORUL COMPARTIMENTULUI
J24: FINANCIAR CONTABIL
